{"text_format":"1","workbook":"xlsx","n_sheets":10,"sheets":["START","PLOTS","Sound Level Calculation","Path Considerations","Barrier Effect","Room Improvements","Baseline Data","Sound Absorption Calculation","Multiple Absorption","Transmissibility"],"not_rendered":{"charts":1,"images":2,"macros":1,"external_links":0,"defined_names":0,"comments":0,"pivot_tables":0},"unopened":[],"bounds":{"document_bytes":16777216,"sheet_cells":100000,"rows_first":2000,"rows_last":500,"rows_between":2000,"halvings":0,"cell_chars":16384,"cell_head_chars":4096},"cells_cut":0,"cells_raw":0,"read":"whole","date_system":"1900"}

{"sheet":"START","index":0,"n_rows":32,"n_cols":20,"rows_kept":32,"cut":false,"hidden":false,"merged":[[31,19,32,27],[22,1,22,10],[23,1,23,10],[26,1,28,10],[24,1,25,10],[29,1,29,10],[30,1,31,10]]}
[]
[]
[]
[]
[]
[]
[]
[]
[]
[]
[]
[]
[]
[]
[]
[]
[]
[]
[]
[]
[]
[]
[null,"Note:"]
[null,"1. Do not Rename the Sheets."]
[null,"2. This Excel Sheet tool is good for estimating one source turned on at a time only. If multiple sources present, using another copy of this Excel sheet tool is recommended for each source individually."]
[]
[null,"3. The PLOTS Sheet will be refreshed everytime new details are entered using the above button, therefore saving the plot images separately in a different file is recommened if planning to check the effect of multiple changes to room environment"]
[]
[]
[null,"4. SI Unit System is used in this Tool."]
[null,"5. If you have 1/3 rd Octave baseline measurement values of the room under study, please go to \"Baseline Data\" tab/sheet now before clicking the above Button."]
[null,null,null,null,null,null,null,null,null,null,null,null,null,null,null,null,null,null,null,"Authors: Srinivasa-Rao Ippili & Dr. David Herrin"]

{"sheet":"PLOTS","index":1,"n_rows":0,"n_cols":0,"rows_kept":0,"cut":false,"hidden":false,"merged":[]}

{"sheet":"Sound Level Calculation","index":2,"n_rows":39,"n_cols":32,"rows_kept":39,"cut":false,"hidden":false,"merged":[]}
[null,null,null,null,"Direct Field Effect",null,null,null,"Barrier Attenuation",null,null,"Source Enclosure Airspace Effect","Panel Transmissibility - Source","Transmission Loss - Source","Mass Law","Panel Reduction - Source","Source Enclosure to Receiver Air-path",null,"Enclosure Environment Effect",null,"Enclosure Opening Effect","With Opening",null,"Receiver Room Effect","Panel Transmissibility - Receiver","Transmission Loss - Receiver","Mass Law","Panel Reduction - Receiver","Direct Field Effect until Receiver Enclosure"]
["f (Hz)","ω (rad/sec)","Sound Power (W)","Sound Power Level - SWL (dB)","SPL (dB)","Baseline (dB)","Room Absorption Effect (dB)","Effective Room (dB)","SPL (dB)","Barrier Effect (dB)","SOURCE α","SPL (dB)","τs","SPL (dB)","SPL (dB)","SPL (dB)","SPL (dB)","ψ","SPL (dB)","Enclosed Source (dB)","SPL (dB)","Enclosed Source (dB)","RECEIVER α","SPL (dB)","τs","SPL (dB)","SPL (dB)","SPL (dB)","SPL (dB)","Enclosed Receiver Only (dB)","Enclosed Source + Enclosed Receiver  (dB)","Partially Enclosed Source + Enclosed Receiver  (dB)"]
[2.5,{"$f":"2*PI()*A3","v":15.707963267948966},1,{"$f":"10*LOG10(C3*10^12)","v":120},{"$f":"10*LOG10('Path Considerations'!$C$5*'Path Considerations'!$F$47/4/PI()/('Path Considerations'!$F$4^2))","v":{"$error":"#N/A"}},{"$f":"IF('Baseline Data'!$C$4=\"Yes\",'Baseline Data'!H2,(D3+E3+'Path Considerations'!$B$5-'Path Considerations'!$G$5))","v":{"$error":"#N/A"}},{"$f":"'Room Improvements'!AG3","v":{"$error":"#DIV/0!"}},{"$f":"IF('Room Improvements'!$D$8=\"Yes\",G3,F3)","v":{"$error":"#N/A"}},{"$f":"'Barrier Effect'!H2","v":{"$error":"#N/A"}},{"$f":"F3-I3","v":{"$error":"#N/A"}},{"$f":"'Sound Absorption Calculation'!AX3","v":{"$error":"#N/A"}},{"$f":"D3+10*LOG10('Path Considerations'!$N$5*'Path Considerations'!$F$43/4/PI()/('Path Considerations'!$Q$4)^2+4*EXP(-SQRT(2)/2*K3/(1-K3))/('Path Considerations'!$J$7*K3/(1-K3)))","v":{"$error":"#N/A"}},{"$f":"Transmissibility!U3","v":{"$error":"#N/A"}},{"$f":"10*LOG10(1/M3)","v":{"$error":"#N/A"}},{"$f":"20*LOG10(Transmissibility!$C$7*Transmissibility!$C$8*'Sound Level Calculation'!A3)-42","v":{"$error":"#NUM!"}},{"$f":"IF('Path Considerations'!$M$6=\"Single\",O3,N3)","v":{"$error":"#N/A"}},{"$f":"10*LOG10('Path Considerations'!$N$5*'Path Considerations'!$F$45/(4*PI()*'Path Considerations'!$Q$16^2))","v":{"$error":"#N/A"}},{"$f":"EXP(-SQRT(2)/2*K3/(1-K3))","v":{"$error":"#N/A"}},{"$f":"-6*(1-R3)","v":{"$error":"#N/A"}},{"$f":"L3-P3+S3+Q3","v":{"$error":"#N/A"}},{"$f":"10*LOG10('Path Considerations'!$K$6/'Path Considerations'!$J$7)","v":{"$error":"#DIV/0!"}},{"$f":"L3+Q3+U3","v":{"$error":"#N/A"}},{"$f":"'Sound Absorption Calculation'!CA3","v":false},{"$f":"10*LOG10('Path Considerations'!$K$10/('Path Considerations'!$J$13*W3/(1-W3)))","v":{"$error":"#DIV/0!"}},{"$f":"Transmissibility!AB3","v":false},{"$f":"10*LOG10(1/Y3)","v":{"$error":"#DIV/0!"}},{"$f":"20*LOG10(Transmissibility!$C$11*Transmissibility!$C$12*'Sound Level Calculation'!A3)-42","v":{"$error":"#NUM!"}},{"$f":"IF('Path Considerations'!$M$12=\"Single\",AA3,Z3)","v":{"$error":"#DIV/0!"}},{"$f":"10*LOG10('Path Considerations'!$C$5*'Path Considerations'!$F$47/4/PI()/('Path Considerations'!$P$10^2))","v":{"$error":"#N/A"}},{"$f":"D3+AC3+'Path Considerations'!$B$5-'Path Considerations'!$G$5-AB3+X3","v":{"$error":"#N/A"}},{"$f":"T3-AB3+X3","v":{"$error":"#N/A"}},{"$f":"V3-AB3+X3","v":{"$error":"#N/A"}}]
[3.15,{"$f":"2*PI()*A4","v":19.792033717615695},1,{"$f":"10*LOG10(C4*10^12)","v":120},{"$f":"10*LOG10('Path Considerations'!$C$5*'Path Considerations'!$F$47/4/PI()/('Path Considerations'!$F$4^2))","v":{"$error":"#N/A"}},{"$f":"IF('Baseline Data'!$C$4=\"Yes\",'Baseline Data'!H3,(D4+E4+'Path Considerations'!$B$5-'Path Considerations'!$G$5))","v":{"$error":"#N/A"}},{"$f":"'Room Improvements'!AG4","v":{"$error":"#DIV/0!"}},{"$f":"IF('Room Improvements'!$D$8=\"Yes\",G4,F4)","v":{"$error":"#N/A"}},{"$f":"'Barrier Effect'!H3","v":{"$error":"#N/A"}},{"$f":"F4-I4","v":{"$error":"#N/A"}},{"$f":"'Sound Absorption Calculation'!AX4","v":{"$error":"#N/A"}},{"$f":"D4+10*LOG10('Path Considerations'!$N$5*'Path Considerations'!$F$43/4/PI()/('Path Considerations'!$Q$4)^2+4*EXP(-SQRT(2)/2*K4/(1-K4))/('Path Considerations'!$J$7*K4/(1-K4)))","v":{"$error":"#N/A"}},{"$f":"Transmissibility!U4","v":{"$error":"#N/A"}},{"$f":"10*LOG10(1/M4)","v":{"$error":"#N/A"}},{"$f":"20*LOG10(Transmissibility!$C$7*Transmissibility!$C$8*'Sound Level Calculation'!A4)-42","v":{"$error":"#NUM!"}},{"$f":"IF('Path Considerations'!$M$6=\"Single\",O4,N4)","v":{"$error":"#N/A"}},{"$f":"10*LOG10('Path Considerations'!$N$5*'Path Considerations'!$F$45/(4*PI()*'Path Considerations'!$Q$16^2))","v":{"$error":"#N/A"}},{"$f":"EXP(-SQRT(2)/2*K4/(1-K4))","v":{"$error":"#N/A"}},{"$f":"-6*(1-R4)","v":{"$error":"#N/A"}},{"$f":"L4-P4+S4+Q4","v":{"$error":"#N/A"}},{"$f":"10*LOG10('Path Considerations'!$K$6/'Path Considerations'!$J$7)","v":{"$error":"#DIV/0!"}},{"$f":"L4+Q4+U4","v":{"$error":"#N/A"}},{"$f":"'Sound Absorption Calculation'!CA4","v":false},{"$f":"10*LOG10('Path Considerations'!$K$10/('Path Considerations'!$J$13*W4/(1-W4)))","v":{"$error":"#DIV/0!"}},{"$f":"Transmissibility!AB4","v":false},{"$f":"10*LOG10(1/Y4)","v":{"$error":"#DIV/0!"}},{"$f":"20*LOG10(Transmissibility!$C$11*Transmissibility!$C$12*'Sound Level Calculation'!A4)-42","v":{"$error":"#NUM!"}},{"$f":"IF('Path Considerations'!$M$12=\"Single\",AA4,Z4)","v":{"$error":"#DIV/0!"}},{"$f":"10*LOG10('Path Considerations'!$C$5*'Path Considerations'!$F$47/4/PI()/('Path Considerations'!$P$10^2))","v":{"$error":"#N/A"}},{"$f":"D4+AC4+'Path Considerations'!$B$5-'Path Considerations'!$G$5-AB4+X4","v":{"$error":"#N/A"}},{"$f":"T4-AB4+X4","v":{"$error":"#N/A"}},{"$f":"V4-AB4+X4","v":{"$error":"#N/A"}}]
[4,25.132741228718345,1,{"$f":"10*LOG10(C5*10^12)","v":120},{"$f":"10*LOG10('Path Considerations'!$C$5*'Path Considerations'!$F$47/4/PI()/('Path Considerations'!$F$4^2))","v":{"$error":"#N/A"}},{"$f":"IF('Baseline Data'!$C$4=\"Yes\",'Baseline Data'!H4,(D5+E5+'Path Considerations'!$B$5-'Path Considerations'!$G$5))","v":{"$error":"#N/A"}},{"$f":"'Room Improvements'!AG5","v":{"$error":"#DIV/0!"}},{"$f":"IF('Room Improvements'!$D$8=\"Yes\",G5,F5)","v":{"$error":"#N/A"}},{"$f":"'Barrier Effect'!H4","v":{"$error":"#N/A"}},{"$error":"#N/A"},{"$f":"'Sound Absorption Calculation'!AX5","v":{"$error":"#N/A"}},{"$f":"D5+10*LOG10('Path Considerations'!$N$5*'Path Considerations'!$F$43/4/PI()/('Path Considerations'!$Q$4)^2+4*EXP(-SQRT(2)/2*K5/(1-K5))/('Path Considerations'!$J$7*K5/(1-K5)))","v":{"$error":"#N/A"}},{"$f":"Transmissibility!U5","v":{"$error":"#N/A"}},{"$error":"#N/A"},{"$f":"20*LOG10(Transmissibility!$C$7*Transmissibility!$C$8*'Sound Level Calculation'!A5)-42","v":{"$error":"#NUM!"}},{"$f":"IF('Path Considerations'!$M$6=\"Single\",O5,N5)","v":{"$error":"#N/A"}},{"$f":"10*LOG10('Path Considerations'!$N$5*'Path Considerations'!$F$45/(4*PI()*'Path Considerations'!$Q$16^2))","v":{"$error":"#N/A"}},{"$error":"#N/A"},{"$error":"#N/A"},{"$error":"#N/A"},{"$f":"10*LOG10('Path Considerations'!$K$6/'Path Considerations'!$J$7)","v":{"$error":"#DIV/0!"}},{"$error":"#N/A"},{"$f":"'Sound Absorption Calculation'!CA5","v":false},{"$f":"10*LOG10('Path Considerations'!$K$10/('Path Considerations'!$J$13*W5/(1-W5)))","v":{"$error":"#DIV/0!"}},{"$f":"Transmissibility!AB5","v":false},{"$error":"#DIV/0!"},{"$f":"20*LOG10(Transmissibility!$C$11*Transmissibility!$C$12*'Sound Level Calculation'!A5)-42","v":{"$error":"#NUM!"}},{"$f":"IF('Path Considerations'!$M$12=\"Single\",AA5,Z5)","v":{"$error":"#DIV/0!"}},{"$f":"10*LOG10('Path Considerations'!$C$5*'Path Considerations'!$F$47/4/PI()/('Path Considerations'!$P$10^2))","v":{"$error":"#N/A"}},{"$f":"D5+AC5+'Path Considerations'!$B$5-'Path Considerations'!$G$5-AB5+X5","v":{"$error":"#N/A"}},{"$error":"#N/A"},{"$error":"#N/A"}]
[5,31.415926535897931,1,120,{"$f":"10*LOG10('Path Considerations'!$C$5*'Path Considerations'!$F$47/4/PI()/('Path Considerations'!$F$4^2))","v":{"$error":"#N/A"}},{"$f":"IF('Baseline Data'!$C$4=\"Yes\",'Baseline Data'!H5,(D6+E6+'Path Considerations'!$B$5-'Path Considerations'!$G$5))","v":{"$error":"#N/A"}},{"$f":"'Room Improvements'!AG6","v":{"$error":"#DIV/0!"}},{"$f":"IF('Room Improvements'!$D$8=\"Yes\",G6,F6)","v":{"$error":"#N/A"}},{"$f":"'Barrier Effect'!H5","v":{"$error":"#N/A"}},{"$error":"#N/A"},{"$f":"'Sound Absorption Calculation'!AX6","v":{"$error":"#N/A"}},{"$f":"D6+10*LOG10('Path Considerations'!$N$5*'Path Considerations'!$F$43/4/PI()/('Path Considerations'!$Q$4)^2+4*EXP(-SQRT(2)/2*K6/(1-K6))/('Path Considerations'!$J$7*K6/(1-K6)))","v":{"$error":"#N/A"}},{"$f":"Transmissibility!U6","v":{"$error":"#N/A"}},{"$error":"#N/A"},{"$f":"20*LOG10(Transmissibility!$C$7*Transmissibility!$C$8*'Sound Level Calculation'!A6)-42","v":{"$error":"#NUM!"}},{"$f":"IF('Path Considerations'!$M$6=\"Single\",O6,N6)","v":{"$error":"#N/A"}},{"$f":"10*LOG10('Path Considerations'!$N$5*'Path Considerations'!$F$45/(4*PI()*'Path Considerations'!$Q$16^2))","v":{"$error":"#N/A"}},{"$error":"#N/A"},{"$error":"#N/A"},{"$error":"#N/A"},{"$f":"10*LOG10('Path Considerations'!$K$6/'Path Considerations'!$J$7)","v":{"$error":"#DIV/0!"}},{"$error":"#N/A"},{"$f":"'Sound Absorption Calculation'!CA6","v":false},{"$f":"10*LOG10('Path Considerations'!$K$10/('Path Considerations'!$J$13*W6/(1-W6)))","v":{"$error":"#DIV/0!"}},{"$f":"Transmissibility!AB6","v":false},{"$error":"#DIV/0!"},{"$f":"20*LOG10(Transmissibility!$C$11*Transmissibility!$C$12*'Sound Level Calculation'!A6)-42","v":{"$error":"#NUM!"}},{"$f":"IF('Path Considerations'!$M$12=\"Single\",AA6,Z6)","v":{"$error":"#DIV/0!"}},{"$f":"10*LOG10('Path Considerations'!$C$5*'Path Considerations'!$F$47/4/PI()/('Path Considerations'!$P$10^2))","v":{"$error":"#N/A"}},{"$f":"D6+AC6+'Path Considerations'!$B$5-'Path Considerations'!$G$5-AB6+X6","v":{"$error":"#N/A"}},{"$error":"#N/A"},{"$error":"#N/A"}]
[6.3,39.58406743523139,1,120,{"$f":"10*LOG10('Path Considerations'!$C$5*'Path Considerations'!$F$47/4/PI()/('Path Considerations'!$F$4^2))","v":{"$error":"#N/A"}},{"$f":"IF('Baseline Data'!$C$4=\"Yes\",'Baseline Data'!H6,(D7+E7+'Path Considerations'!$B$5-'Path Considerations'!$G$5))","v":{"$error":"#N/A"}},{"$f":"'Room Improvements'!AG7","v":{"$error":"#DIV/0!"}},{"$f":"IF('Room Improvements'!$D$8=\"Yes\",G7,F7)","v":{"$error":"#N/A"}},{"$f":"'Barrier Effect'!H6","v":{"$error":"#N/A"}},{"$error":"#N/A"},{"$f":"'Sound Absorption Calculation'!AX7","v":{"$error":"#N/A"}},{"$f":"D7+10*LOG10('Path Considerations'!$N$5*'Path Considerations'!$F$43/4/PI()/('Path Considerations'!$Q$4)^2+4*EXP(-SQRT(2)/2*K7/(1-K7))/('Path Considerations'!$J$7*K7/(1-K7)))","v":{"$error":"#N/A"}},{"$f":"Transmissibility!U7","v":{"$error":"#N/A"}},{"$error":"#N/A"},{"$f":"20*LOG10(Transmissibility!$C$7*Transmissibility!$C$8*'Sound Level Calculation'!A7)-42","v":{"$error":"#NUM!"}},{"$f":"IF('Path Considerations'!$M$6=\"Single\",O7,N7)","v":{"$error":"#N/A"}},{"$f":"10*LOG10('Path Considerations'!$N$5*'Path Considerations'!$F$45/(4*PI()*'Path Considerations'!$Q$16^2))","v":{"$error":"#N/A"}},{"$error":"#N/A"},{"$error":"#N/A"},{"$error":"#N/A"},{"$f":"10*LOG10('Path Considerations'!$K$6/'Path Considerations'!$J$7)","v":{"$error":"#DIV/0!"}},{"$error":"#N/A"},{"$f":"'Sound Absorption Calculation'!CA7","v":false},{"$f":"10*LOG10('Path Considerations'!$K$10/('Path Considerations'!$J$13*W7/(1-W7)))","v":{"$error":"#DIV/0!"}},{"$f":"Transmissibility!AB7","v":false},{"$error":"#DIV/0!"},{"$f":"20*LOG10(Transmissibility!$C$11*Transmissibility!$C$12*'Sound Level Calculation'!A7)-42","v":{"$error":"#NUM!"}},{"$f":"IF('Path Considerations'!$M$12=\"Single\",AA7,Z7)","v":{"$error":"#DIV/0!"}},{"$f":"10*LOG10('Path Considerations'!$C$5*'Path Considerations'!$F$47/4/PI()/('Path Considerations'!$P$10^2))","v":{"$error":"#N/A"}},{"$f":"D7+AC7+'Path Considerations'!$B$5-'Path Considerations'!$G$5-AB7+X7","v":{"$error":"#N/A"}},{"$error":"#N/A"},{"$error":"#N/A"}]
[8,50.26548245743669,1,120,{"$f":"10*LOG10('Path Considerations'!$C$5*'Path Considerations'!$F$47/4/PI()/('Path Considerations'!$F$4^2))","v":{"$error":"#N/A"}},{"$f":"IF('Baseline Data'!$C$4=\"Yes\",'Baseline Data'!H7,(D8+E8+'Path Considerations'!$B$5-'Path Considerations'!$G$5))","v":{"$error":"#N/A"}},{"$f":"'Room Improvements'!AG8","v":{"$error":"#DIV/0!"}},{"$f":"IF('Room Improvements'!$D$8=\"Yes\",G8,F8)","v":{"$error":"#N/A"}},{"$f":"'Barrier Effect'!H7","v":{"$error":"#N/A"}},{"$error":"#N/A"},{"$f":"'Sound Absorption Calculation'!AX8","v":{"$error":"#N/A"}},{"$f":"D8+10*LOG10('Path Considerations'!$N$5*'Path Considerations'!$F$43/4/PI()/('Path Considerations'!$Q$4)^2+4*EXP(-SQRT(2)/2*K8/(1-K8))/('Path Considerations'!$J$7*K8/(1-K8)))","v":{"$error":"#N/A"}},{"$f":"Transmissibility!U8","v":{"$error":"#N/A"}},{"$error":"#N/A"},{"$f":"20*LOG10(Transmissibility!$C$7*Transmissibility!$C$8*'Sound Level Calculation'!A8)-42","v":{"$error":"#NUM!"}},{"$f":"IF('Path Considerations'!$M$6=\"Single\",O8,N8)","v":{"$error":"#N/A"}},{"$f":"10*LOG10('Path Considerations'!$N$5*'Path Considerations'!$F$45/(4*PI()*'Path Considerations'!$Q$16^2))","v":{"$error":"#N/A"}},{"$error":"#N/A"},{"$error":"#N/A"},{"$error":"#N/A"},{"$f":"10*LOG10('Path Considerations'!$K$6/'Path Considerations'!$J$7)","v":{"$error":"#DIV/0!"}},{"$error":"#N/A"},{"$f":"'Sound Absorption Calculation'!CA8","v":false},{"$f":"10*LOG10('Path Considerations'!$K$10/('Path Considerations'!$J$13*W8/(1-W8)))","v":{"$error":"#DIV/0!"}},{"$f":"Transmissibility!AB8","v":false},{"$error":"#DIV/0!"},{"$f":"20*LOG10(Transmissibility!$C$11*Transmissibility!$C$12*'Sound Level Calculation'!A8)-42","v":{"$error":"#NUM!"}},{"$f":"IF('Path Considerations'!$M$12=\"Single\",AA8,Z8)","v":{"$error":"#DIV/0!"}},{"$f":"10*LOG10('Path Considerations'!$C$5*'Path Considerations'!$F$47/4/PI()/('Path Considerations'!$P$10^2))","v":{"$error":"#N/A"}},{"$f":"D8+AC8+'Path Considerations'!$B$5-'Path Considerations'!$G$5-AB8+X8","v":{"$error":"#N/A"}},{"$error":"#N/A"},{"$error":"#N/A"}]
[10,62.831853071795862,1,120,{"$f":"10*LOG10('Path Considerations'!$C$5*'Path Considerations'!$F$47/4/PI()/('Path Considerations'!$F$4^2))","v":{"$error":"#N/A"}},{"$f":"IF('Baseline Data'!$C$4=\"Yes\",'Baseline Data'!H8,(D9+E9+'Path Considerations'!$B$5-'Path Considerations'!$G$5))","v":{"$error":"#N/A"}},{"$f":"'Room Improvements'!AG9","v":{"$error":"#DIV/0!"}},{"$f":"IF('Room Improvements'!$D$8=\"Yes\",G9,F9)","v":{"$error":"#N/A"}},{"$f":"'Barrier Effect'!H8","v":{"$error":"#N/A"}},{"$error":"#N/A"},{"$f":"'Sound Absorption Calculation'!AX9","v":{"$error":"#N/A"}},{"$f":"D9+10*LOG10('Path Considerations'!$N$5*'Path Considerations'!$F$43/4/PI()/('Path Considerations'!$Q$4)^2+4*EXP(-SQRT(2)/2*K9/(1-K9))/('Path Considerations'!$J$7*K9/(1-K9)))","v":{"$error":"#N/A"}},{"$f":"Transmissibility!U9","v":{"$error":"#N/A"}},{"$error":"#N/A"},{"$f":"20*LOG10(Transmissibility!$C$7*Transmissibility!$C$8*'Sound Level Calculation'!A9)-42","v":{"$error":"#NUM!"}},{"$f":"IF('Path Considerations'!$M$6=\"Single\",O9,N9)","v":{"$error":"#N/A"}},{"$f":"10*LOG10('Path Considerations'!$N$5*'Path Considerations'!$F$45/(4*PI()*'Path Considerations'!$Q$16^2))","v":{"$error":"#N/A"}},{"$error":"#N/A"},{"$error":"#N/A"},{"$error":"#N/A"},{"$f":"10*LOG10('Path Considerations'!$K$6/'Path Considerations'!$J$7)","v":{"$error":"#DIV/0!"}},{"$error":"#N/A"},{"$f":"'Sound Absorption Calculation'!CA9","v":false},{"$f":"10*LOG10('Path Considerations'!$K$10/('Path Considerations'!$J$13*W9/(1-W9)))","v":{"$error":"#DIV/0!"}},{"$f":"Transmissibility!AB9","v":false},{"$error":"#DIV/0!"},{"$f":"20*LOG10(Transmissibility!$C$11*Transmissibility!$C$12*'Sound Level Calculation'!A9)-42","v":{"$error":"#NUM!"}},{"$f":"IF('Path Considerations'!$M$12=\"Single\",AA9,Z9)","v":{"$error":"#DIV/0!"}},{"$f":"10*LOG10('Path Considerations'!$C$5*'Path Considerations'!$F$47/4/PI()/('Path Considerations'!$P$10^2))","v":{"$error":"#N/A"}},{"$f":"D9+AC9+'Path Considerations'!$B$5-'Path Considerations'!$G$5-AB9+X9","v":{"$error":"#N/A"}},{"$error":"#N/A"},{"$error":"#N/A"}]
[12.5,78.539816339744831,1,120,{"$f":"10*LOG10('Path Considerations'!$C$5*'Path Considerations'!$F$47/4/PI()/('Path Considerations'!$F$4^2))","v":{"$error":"#N/A"}},{"$f":"IF('Baseline Data'!$C$4=\"Yes\",'Baseline Data'!H9,(D10+E10+'Path Considerations'!$B$5-'Path Considerations'!$G$5))","v":{"$error":"#N/A"}},{"$f":"'Room Improvements'!AG10","v":{"$error":"#DIV/0!"}},{"$f":"IF('Room Improvements'!$D$8=\"Yes\",G10,F10)","v":{"$error":"#N/A"}},{"$f":"'Barrier Effect'!H9","v":{"$error":"#N/A"}},{"$error":"#N/A"},{"$f":"'Sound Absorption Calculation'!AX10","v":{"$error":"#N/A"}},{"$f":"D10+10*LOG10('Path Considerations'!$N$5*'Path Considerations'!$F$43/4/PI()/('Path Considerations'!$Q$4)^2+4*EXP(-SQRT(2)/2*K10/(1-K10))/('Path Considerations'!$J$7*K10/(1-K10)))","v":{"$error":"#N/A"}},{"$f":"Transmissibility!U10","v":{"$error":"#N/A"}},{"$error":"#N/A"},{"$f":"20*LOG10(Transmissibility!$C$7*Transmissibility!$C$8*'Sound Level Calculation'!A10)-42","v":{"$error":"#NUM!"}},{"$f":"IF('Path Considerations'!$M$6=\"Single\",O10,N10)","v":{"$error":"#N/A"}},{"$f":"10*LOG10('Path Considerations'!$N$5*'Path Considerations'!$F$45/(4*PI()*'Path Considerations'!$Q$16^2))","v":{"$error":"#N/A"}},{"$error":"#N/A"},{"$error":"#N/A"},{"$error":"#N/A"},{"$f":"10*LOG10('Path Considerations'!$K$6/'Path Considerations'!$J$7)","v":{"$error":"#DIV/0!"}},{"$error":"#N/A"},{"$f":"'Sound Absorption Calculation'!CA10","v":false},{"$f":"10*LOG10('Path Considerations'!$K$10/('Path Considerations'!$J$13*W10/(1-W10)))","v":{"$error":"#DIV/0!"}},{"$f":"Transmissibility!AB10","v":false},{"$error":"#DIV/0!"},{"$f":"20*LOG10(Transmissibility!$C$11*Transmissibility!$C$12*'Sound Level Calculation'!A10)-42","v":{"$error":"#NUM!"}},{"$f":"IF('Path Considerations'!$M$12=\"Single\",AA10,Z10)","v":{"$error":"#DIV/0!"}},{"$f":"10*LOG10('Path Considerations'!$C$5*'Path Considerations'!$F$47/4/PI()/('Path Considerations'!$P$10^2))","v":{"$error":"#N/A"}},{"$f":"D10+AC10+'Path Considerations'!$B$5-'Path Considerations'!$G$5-AB10+X10","v":{"$error":"#N/A"}},{"$error":"#N/A"},{"$error":"#N/A"}]
[16,100.53096491487338,1,120,{"$f":"10*LOG10('Path Considerations'!$C$5*'Path Considerations'!$F$47/4/PI()/('Path Considerations'!$F$4^2))","v":{"$error":"#N/A"}},{"$f":"IF('Baseline Data'!$C$4=\"Yes\",'Baseline Data'!H10,(D11+E11+'Path Considerations'!$B$5-'Path Considerations'!$G$5))","v":{"$error":"#N/A"}},{"$f":"'Room Improvements'!AG11","v":{"$error":"#DIV/0!"}},{"$f":"IF('Room Improvements'!$D$8=\"Yes\",G11,F11)","v":{"$error":"#N/A"}},{"$f":"'Barrier Effect'!H10","v":{"$error":"#N/A"}},{"$error":"#N/A"},{"$f":"'Sound Absorption Calculation'!AX11","v":{"$error":"#N/A"}},{"$f":"D11+10*LOG10('Path Considerations'!$N$5*'Path Considerations'!$F$43/4/PI()/('Path Considerations'!$Q$4)^2+4*EXP(-SQRT(2)/2*K11/(1-K11))/('Path Considerations'!$J$7*K11/(1-K11)))","v":{"$error":"#N/A"}},{"$f":"Transmissibility!U11","v":{"$error":"#N/A"}},{"$error":"#N/A"},{"$f":"20*LOG10(Transmissibility!$C$7*Transmissibility!$C$8*'Sound Level Calculation'!A11)-42","v":{"$error":"#NUM!"}},{"$f":"IF('Path Considerations'!$M$6=\"Single\",O11,N11)","v":{"$error":"#N/A"}},{"$f":"10*LOG10('Path Considerations'!$N$5*'Path Considerations'!$F$45/(4*PI()*'Path Considerations'!$Q$16^2))","v":{"$error":"#N/A"}},{"$error":"#N/A"},{"$error":"#N/A"},{"$error":"#N/A"},{"$f":"10*LOG10('Path Considerations'!$K$6/'Path Considerations'!$J$7)","v":{"$error":"#DIV/0!"}},{"$error":"#N/A"},{"$f":"'Sound Absorption Calculation'!CA11","v":false},{"$f":"10*LOG10('Path Considerations'!$K$10/('Path Considerations'!$J$13*W11/(1-W11)))","v":{"$error":"#DIV/0!"}},{"$f":"Transmissibility!AB11","v":false},{"$error":"#DIV/0!"},{"$f":"20*LOG10(Transmissibility!$C$11*Transmissibility!$C$12*'Sound Level Calculation'!A11)-42","v":{"$error":"#NUM!"}},{"$f":"IF('Path Considerations'!$M$12=\"Single\",AA11,Z11)","v":{"$error":"#DIV/0!"}},{"$f":"10*LOG10('Path Considerations'!$C$5*'Path Considerations'!$F$47/4/PI()/('Path Considerations'!$P$10^2))","v":{"$error":"#N/A"}},{"$f":"D11+AC11+'Path Considerations'!$B$5-'Path Considerations'!$G$5-AB11+X11","v":{"$error":"#N/A"}},{"$error":"#N/A"},{"$error":"#N/A"}]
[20,125.66370614359172,1,120,{"$f":"10*LOG10('Path Considerations'!$C$5*'Path Considerations'!$F$47/4/PI()/('Path Considerations'!$F$4^2))","v":{"$error":"#N/A"}},{"$f":"IF('Baseline Data'!$C$4=\"Yes\",'Baseline Data'!H11,(D12+E12+'Path Considerations'!$B$5-'Path Considerations'!$G$5))","v":{"$error":"#N/A"}},{"$f":"'Room Improvements'!AG12","v":{"$error":"#DIV/0!"}},{"$f":"IF('Room Improvements'!$D$8=\"Yes\",G12,F12)","v":{"$error":"#N/A"}},{"$f":"'Barrier Effect'!H11","v":{"$error":"#N/A"}},{"$error":"#N/A"},{"$f":"'Sound Absorption Calculation'!AX12","v":{"$error":"#N/A"}},{"$f":"D12+10*LOG10('Path Considerations'!$N$5*'Path Considerations'!$F$43/4/PI()/('Path Considerations'!$Q$4)^2+4*EXP(-SQRT(2)/2*K12/(1-K12))/('Path Considerations'!$J$7*K12/(1-K12)))","v":{"$error":"#N/A"}},{"$f":"Transmissibility!U12","v":{"$error":"#N/A"}},{"$error":"#N/A"},{"$f":"20*LOG10(Transmissibility!$C$7*Transmissibility!$C$8*'Sound Level Calculation'!A12)-42","v":{"$error":"#NUM!"}},{"$f":"IF('Path Considerations'!$M$6=\"Single\",O12,N12)","v":{"$error":"#N/A"}},{"$f":"10*LOG10('Path Considerations'!$N$5*'Path Considerations'!$F$45/(4*PI()*'Path Considerations'!$Q$16^2))","v":{"$error":"#N/A"}},{"$error":"#N/A"},{"$error":"#N/A"},{"$error":"#N/A"},{"$f":"10*LOG10('Path Considerations'!$K$6/'Path Considerations'!$J$7)","v":{"$error":"#DIV/0!"}},{"$error":"#N/A"},{"$f":"'Sound Absorption Calculation'!CA12","v":false},{"$f":"10*LOG10('Path Considerations'!$K$10/('Path Considerations'!$J$13*W12/(1-W12)))","v":{"$error":"#DIV/0!"}},{"$f":"Transmissibility!AB12","v":false},{"$error":"#DIV/0!"},{"$f":"20*LOG10(Transmissibility!$C$11*Transmissibility!$C$12*'Sound Level Calculation'!A12)-42","v":{"$error":"#NUM!"}},{"$f":"IF('Path Considerations'!$M$12=\"Single\",AA12,Z12)","v":{"$error":"#DIV/0!"}},{"$f":"10*LOG10('Path Considerations'!$C$5*'Path Considerations'!$F$47/4/PI()/('Path Considerations'!$P$10^2))","v":{"$error":"#N/A"}},{"$f":"D12+AC12+'Path Considerations'!$B$5-'Path Considerations'!$G$5-AB12+X12","v":{"$error":"#N/A"}},{"$error":"#N/A"},{"$error":"#N/A"}]
[25,157.07963267948966,1,120,{"$f":"10*LOG10('Path Considerations'!$C$5*'Path Considerations'!$F$47/4/PI()/('Path Considerations'!$F$4^2))","v":{"$error":"#N/A"}},{"$f":"IF('Baseline Data'!$C$4=\"Yes\",'Baseline Data'!H12,(D13+E13+'Path Considerations'!$B$5-'Path Considerations'!$G$5))","v":{"$error":"#N/A"}},{"$f":"'Room Improvements'!AG13","v":{"$error":"#DIV/0!"}},{"$f":"IF('Room Improvements'!$D$8=\"Yes\",G13,F13)","v":{"$error":"#N/A"}},{"$f":"'Barrier Effect'!H12","v":{"$error":"#N/A"}},{"$error":"#N/A"},{"$f":"'Sound Absorption Calculation'!AX13","v":{"$error":"#N/A"}},{"$f":"D13+10*LOG10('Path Considerations'!$N$5*'Path Considerations'!$F$43/4/PI()/('Path Considerations'!$Q$4)^2+4*EXP(-SQRT(2)/2*K13/(1-K13))/('Path Considerations'!$J$7*K13/(1-K13)))","v":{"$error":"#N/A"}},{"$f":"Transmissibility!U13","v":{"$error":"#N/A"}},{"$error":"#N/A"},{"$f":"20*LOG10(Transmissibility!$C$7*Transmissibility!$C$8*'Sound Level Calculation'!A13)-42","v":{"$error":"#NUM!"}},{"$f":"IF('Path Considerations'!$M$6=\"Single\",O13,N13)","v":{"$error":"#N/A"}},{"$f":"10*LOG10('Path Considerations'!$N$5*'Path Considerations'!$F$45/(4*PI()*'Path Considerations'!$Q$16^2))","v":{"$error":"#N/A"}},{"$error":"#N/A"},{"$error":"#N/A"},{"$error":"#N/A"},{"$f":"10*LOG10('Path Considerations'!$K$6/'Path Considerations'!$J$7)","v":{"$error":"#DIV/0!"}},{"$error":"#N/A"},{"$f":"'Sound Absorption Calculation'!CA13","v":false},{"$f":"10*LOG10('Path Considerations'!$K$10/('Path Considerations'!$J$13*W13/(1-W13)))","v":{"$error":"#DIV/0!"}},{"$f":"Transmissibility!AB13","v":false},{"$error":"#DIV/0!"},{"$f":"20*LOG10(Transmissibility!$C$11*Transmissibility!$C$12*'Sound Level Calculation'!A13)-42","v":{"$error":"#NUM!"}},{"$f":"IF('Path Considerations'!$M$12=\"Single\",AA13,Z13)","v":{"$error":"#DIV/0!"}},{"$f":"10*LOG10('Path Considerations'!$C$5*'Path Considerations'!$F$47/4/PI()/('Path Considerations'!$P$10^2))","v":{"$error":"#N/A"}},{"$f":"D13+AC13+'Path Considerations'!$B$5-'Path Considerations'!$G$5-AB13+X13","v":{"$error":"#N/A"}},{"$error":"#N/A"},{"$error":"#N/A"}]
[31.5,197.92033717615698,1,120,{"$f":"10*LOG10('Path Considerations'!$C$5*'Path Considerations'!$F$47/4/PI()/('Path Considerations'!$F$4^2))","v":{"$error":"#N/A"}},{"$f":"IF('Baseline Data'!$C$4=\"Yes\",'Baseline Data'!H13,(D14+E14+'Path Considerations'!$B$5-'Path Considerations'!$G$5))","v":{"$error":"#N/A"}},{"$f":"'Room Improvements'!AG14","v":{"$error":"#DIV/0!"}},{"$f":"IF('Room Improvements'!$D$8=\"Yes\",G14,F14)","v":{"$error":"#N/A"}},{"$f":"'Barrier Effect'!H13","v":{"$error":"#N/A"}},{"$error":"#N/A"},{"$f":"'Sound Absorption Calculation'!AX14","v":{"$error":"#N/A"}},{"$f":"D14+10*LOG10('Path Considerations'!$N$5*'Path Considerations'!$F$43/4/PI()/('Path Considerations'!$Q$4)^2+4*EXP(-SQRT(2)/2*K14/(1-K14))/('Path Considerations'!$J$7*K14/(1-K14)))","v":{"$error":"#N/A"}},{"$f":"Transmissibility!U14","v":{"$error":"#N/A"}},{"$error":"#N/A"},{"$f":"20*LOG10(Transmissibility!$C$7*Transmissibility!$C$8*'Sound Level Calculation'!A14)-42","v":{"$error":"#NUM!"}},{"$f":"IF('Path Considerations'!$M$6=\"Single\",O14,N14)","v":{"$error":"#N/A"}},{"$f":"10*LOG10('Path Considerations'!$N$5*'Path Considerations'!$F$45/(4*PI()*'Path Considerations'!$Q$16^2))","v":{"$error":"#N/A"}},{"$error":"#N/A"},{"$error":"#N/A"},{"$error":"#N/A"},{"$f":"10*LOG10('Path Considerations'!$K$6/'Path Considerations'!$J$7)","v":{"$error":"#DIV/0!"}},{"$error":"#N/A"},{"$f":"'Sound Absorption Calculation'!CA14","v":false},{"$f":"10*LOG10('Path Considerations'!$K$10/('Path Considerations'!$J$13*W14/(1-W14)))","v":{"$error":"#DIV/0!"}},{"$f":"Transmissibility!AB14","v":false},{"$error":"#DIV/0!"},{"$f":"20*LOG10(Transmissibility!$C$11*Transmissibility!$C$12*'Sound Level Calculation'!A14)-42","v":{"$error":"#NUM!"}},{"$f":"IF('Path Considerations'!$M$12=\"Single\",AA14,Z14)","v":{"$error":"#DIV/0!"}},{"$f":"10*LOG10('Path Considerations'!$C$5*'Path Considerations'!$F$47/4/PI()/('Path Considerations'!$P$10^2))","v":{"$error":"#N/A"}},{"$f":"D14+AC14+'Path Considerations'!$B$5-'Path Considerations'!$G$5-AB14+X14","v":{"$error":"#N/A"}},{"$error":"#N/A"},{"$error":"#N/A"}]
[40,251.32741228718345,1,120,{"$f":"10*LOG10('Path Considerations'!$C$5*'Path Considerations'!$F$47/4/PI()/('Path Considerations'!$F$4^2))","v":{"$error":"#N/A"}},{"$f":"IF('Baseline Data'!$C$4=\"Yes\",'Baseline Data'!H14,(D15+E15+'Path Considerations'!$B$5-'Path Considerations'!$G$5))","v":{"$error":"#N/A"}},{"$f":"'Room Improvements'!AG15","v":{"$error":"#DIV/0!"}},{"$f":"IF('Room Improvements'!$D$8=\"Yes\",G15,F15)","v":{"$error":"#N/A"}},{"$f":"'Barrier Effect'!H14","v":{"$error":"#N/A"}},{"$error":"#N/A"},{"$f":"'Sound Absorption Calculation'!AX15","v":{"$error":"#N/A"}},{"$f":"D15+10*LOG10('Path Considerations'!$N$5*'Path Considerations'!$F$43/4/PI()/('Path Considerations'!$Q$4)^2+4*EXP(-SQRT(2)/2*K15/(1-K15))/('Path Considerations'!$J$7*K15/(1-K15)))","v":{"$error":"#N/A"}},{"$f":"Transmissibility!U15","v":{"$error":"#N/A"}},{"$error":"#N/A"},{"$f":"20*LOG10(Transmissibility!$C$7*Transmissibility!$C$8*'Sound Level Calculation'!A15)-42","v":{"$error":"#NUM!"}},{"$f":"IF('Path Considerations'!$M$6=\"Single\",O15,N15)","v":{"$error":"#N/A"}},{"$f":"10*LOG10('Path Considerations'!$N$5*'Path Considerations'!$F$45/(4*PI()*'Path Considerations'!$Q$16^2))","v":{"$error":"#N/A"}},{"$error":"#N/A"},{"$error":"#N/A"},{"$error":"#N/A"},{"$f":"10*LOG10('Path Considerations'!$K$6/'Path Considerations'!$J$7)","v":{"$error":"#DIV/0!"}},{"$error":"#N/A"},{"$f":"'Sound Absorption Calculation'!CA15","v":false},{"$f":"10*LOG10('Path Considerations'!$K$10/('Path Considerations'!$J$13*W15/(1-W15)))","v":{"$error":"#DIV/0!"}},{"$f":"Transmissibility!AB15","v":false},{"$error":"#DIV/0!"},{"$f":"20*LOG10(Transmissibility!$C$11*Transmissibility!$C$12*'Sound Level Calculation'!A15)-42","v":{"$error":"#NUM!"}},{"$f":"IF('Path Considerations'!$M$12=\"Single\",AA15,Z15)","v":{"$error":"#DIV/0!"}},{"$f":"10*LOG10('Path Considerations'!$C$5*'Path Considerations'!$F$47/4/PI()/('Path Considerations'!$P$10^2))","v":{"$error":"#N/A"}},{"$f":"D15+AC15+'Path Considerations'!$B$5-'Path Considerations'!$G$5-AB15+X15","v":{"$error":"#N/A"}},{"$error":"#N/A"},{"$error":"#N/A"}]
[50,314.15926535897933,1,120,{"$f":"10*LOG10('Path Considerations'!$C$5*'Path Considerations'!$F$47/4/PI()/('Path Considerations'!$F$4^2))","v":{"$error":"#N/A"}},{"$f":"IF('Baseline Data'!$C$4=\"Yes\",'Baseline Data'!H15,(D16+E16+'Path Considerations'!$B$5-'Path Considerations'!$G$5))","v":{"$error":"#N/A"}},{"$f":"'Room Improvements'!AG16","v":{"$error":"#DIV/0!"}},{"$f":"IF('Room Improvements'!$D$8=\"Yes\",G16,F16)","v":{"$error":"#N/A"}},{"$f":"'Barrier Effect'!H15","v":{"$error":"#N/A"}},{"$error":"#N/A"},{"$f":"'Sound Absorption Calculation'!AX16","v":{"$error":"#N/A"}},{"$f":"D16+10*LOG10('Path Considerations'!$N$5*'Path Considerations'!$F$43/4/PI()/('Path Considerations'!$Q$4)^2+4*EXP(-SQRT(2)/2*K16/(1-K16))/('Path Considerations'!$J$7*K16/(1-K16)))","v":{"$error":"#N/A"}},{"$f":"Transmissibility!U16","v":{"$error":"#N/A"}},{"$error":"#N/A"},{"$f":"20*LOG10(Transmissibility!$C$7*Transmissibility!$C$8*'Sound Level Calculation'!A16)-42","v":{"$error":"#NUM!"}},{"$f":"IF('Path Considerations'!$M$6=\"Single\",O16,N16)","v":{"$error":"#N/A"}},{"$f":"10*LOG10('Path Considerations'!$N$5*'Path Considerations'!$F$45/(4*PI()*'Path Considerations'!$Q$16^2))","v":{"$error":"#N/A"}},{"$error":"#N/A"},{"$error":"#N/A"},{"$error":"#N/A"},{"$f":"10*LOG10('Path Considerations'!$K$6/'Path Considerations'!$J$7)","v":{"$error":"#DIV/0!"}},{"$error":"#N/A"},{"$f":"'Sound Absorption Calculation'!CA16","v":false},{"$f":"10*LOG10('Path Considerations'!$K$10/('Path Considerations'!$J$13*W16/(1-W16)))","v":{"$error":"#DIV/0!"}},{"$f":"Transmissibility!AB16","v":false},{"$error":"#DIV/0!"},{"$f":"20*LOG10(Transmissibility!$C$11*Transmissibility!$C$12*'Sound Level Calculation'!A16)-42","v":{"$error":"#NUM!"}},{"$f":"IF('Path Considerations'!$M$12=\"Single\",AA16,Z16)","v":{"$error":"#DIV/0!"}},{"$f":"10*LOG10('Path Considerations'!$C$5*'Path Considerations'!$F$47/4/PI()/('Path Considerations'!$P$10^2))","v":{"$error":"#N/A"}},{"$f":"D16+AC16+'Path Considerations'!$B$5-'Path Considerations'!$G$5-AB16+X16","v":{"$error":"#N/A"}},{"$error":"#N/A"},{"$error":"#N/A"}]
[63,395.84067435231395,1,120,{"$f":"10*LOG10('Path Considerations'!$C$5*'Path Considerations'!$F$47/4/PI()/('Path Considerations'!$F$4^2))","v":{"$error":"#N/A"}},{"$f":"IF('Baseline Data'!$C$4=\"Yes\",'Baseline Data'!H16,(D17+E17+'Path Considerations'!$B$5-'Path Considerations'!$G$5))","v":{"$error":"#N/A"}},{"$f":"'Room Improvements'!AG17","v":{"$error":"#DIV/0!"}},{"$f":"IF('Room Improvements'!$D$8=\"Yes\",G17,F17)","v":{"$error":"#N/A"}},{"$f":"'Barrier Effect'!H16","v":{"$error":"#N/A"}},{"$error":"#N/A"},{"$f":"'Sound Absorption Calculation'!AX17","v":{"$error":"#N/A"}},{"$f":"D17+10*LOG10('Path Considerations'!$N$5*'Path Considerations'!$F$43/4/PI()/('Path Considerations'!$Q$4)^2+4*EXP(-SQRT(2)/2*K17/(1-K17))/('Path Considerations'!$J$7*K17/(1-K17)))","v":{"$error":"#N/A"}},{"$f":"Transmissibility!U17","v":{"$error":"#N/A"}},{"$error":"#N/A"},{"$f":"20*LOG10(Transmissibility!$C$7*Transmissibility!$C$8*'Sound Level Calculation'!A17)-42","v":{"$error":"#NUM!"}},{"$f":"IF('Path Considerations'!$M$6=\"Single\",O17,N17)","v":{"$error":"#N/A"}},{"$f":"10*LOG10('Path Considerations'!$N$5*'Path Considerations'!$F$45/(4*PI()*'Path Considerations'!$Q$16^2))","v":{"$error":"#N/A"}},{"$error":"#N/A"},{"$error":"#N/A"},{"$error":"#N/A"},{"$f":"10*LOG10('Path Considerations'!$K$6/'Path Considerations'!$J$7)","v":{"$error":"#DIV/0!"}},{"$error":"#N/A"},{"$f":"'Sound Absorption Calculation'!CA17","v":false},{"$f":"10*LOG10('Path Considerations'!$K$10/('Path Considerations'!$J$13*W17/(1-W17)))","v":{"$error":"#DIV/0!"}},{"$f":"Transmissibility!AB17","v":false},{"$error":"#DIV/0!"},{"$f":"20*LOG10(Transmissibility!$C$11*Transmissibility!$C$12*'Sound Level Calculation'!A17)-42","v":{"$error":"#NUM!"}},{"$f":"IF('Path Considerations'!$M$12=\"Single\",AA17,Z17)","v":{"$error":"#DIV/0!"}},{"$f":"10*LOG10('Path Considerations'!$C$5*'Path Considerations'!$F$47/4/PI()/('Path Considerations'!$P$10^2))","v":{"$error":"#N/A"}},{"$f":"D17+AC17+'Path Considerations'!$B$5-'Path Considerations'!$G$5-AB17+X17","v":{"$error":"#N/A"}},{"$error":"#N/A"},{"$error":"#N/A"}]
[80,502.6548245743669,1,120,{"$f":"10*LOG10('Path Considerations'!$C$5*'Path Considerations'!$F$47/4/PI()/('Path Considerations'!$F$4^2))","v":{"$error":"#N/A"}},{"$f":"IF('Baseline Data'!$C$4=\"Yes\",'Baseline Data'!H17,(D18+E18+'Path Considerations'!$B$5-'Path Considerations'!$G$5))","v":{"$error":"#N/A"}},{"$f":"'Room Improvements'!AG18","v":{"$error":"#DIV/0!"}},{"$f":"IF('Room Improvements'!$D$8=\"Yes\",G18,F18)","v":{"$error":"#N/A"}},{"$f":"'Barrier Effect'!H17","v":{"$error":"#N/A"}},{"$error":"#N/A"},{"$f":"'Sound Absorption Calculation'!AX18","v":{"$error":"#N/A"}},{"$f":"D18+10*LOG10('Path Considerations'!$N$5*'Path Considerations'!$F$43/4/PI()/('Path Considerations'!$Q$4)^2+4*EXP(-SQRT(2)/2*K18/(1-K18))/('Path Considerations'!$J$7*K18/(1-K18)))","v":{"$error":"#N/A"}},{"$f":"Transmissibility!U18","v":{"$error":"#N/A"}},{"$error":"#N/A"},{"$f":"20*LOG10(Transmissibility!$C$7*Transmissibility!$C$8*'Sound Level Calculation'!A18)-42","v":{"$error":"#NUM!"}},{"$f":"IF('Path Considerations'!$M$6=\"Single\",O18,N18)","v":{"$error":"#N/A"}},{"$f":"10*LOG10('Path Considerations'!$N$5*'Path Considerations'!$F$45/(4*PI()*'Path Considerations'!$Q$16^2))","v":{"$error":"#N/A"}},{"$error":"#N/A"},{"$error":"#N/A"},{"$error":"#N/A"},{"$f":"10*LOG10('Path Considerations'!$K$6/'Path Considerations'!$J$7)","v":{"$error":"#DIV/0!"}},{"$error":"#N/A"},{"$f":"'Sound Absorption Calculation'!CA18","v":false},{"$f":"10*LOG10('Path Considerations'!$K$10/('Path Considerations'!$J$13*W18/(1-W18)))","v":{"$error":"#DIV/0!"}},{"$f":"Transmissibility!AB18","v":false},{"$error":"#DIV/0!"},{"$f":"20*LOG10(Transmissibility!$C$11*Transmissibility!$C$12*'Sound Level Calculation'!A18)-42","v":{"$error":"#NUM!"}},{"$f":"IF('Path Considerations'!$M$12=\"Single\",AA18,Z18)","v":{"$error":"#DIV/0!"}},{"$f":"10*LOG10('Path Considerations'!$C$5*'Path Considerations'!$F$47/4/PI()/('Path Considerations'!$P$10^2))","v":{"$error":"#N/A"}},{"$f":"D18+AC18+'Path Considerations'!$B$5-'Path Considerations'!$G$5-AB18+X18","v":{"$error":"#N/A"}},{"$error":"#N/A"},{"$error":"#N/A"}]
[100,628.31853071795865,1,120,{"$f":"10*LOG10('Path Considerations'!$C$5*'Path Considerations'!$F$47/4/PI()/('Path Considerations'!$F$4^2))","v":{"$error":"#N/A"}},{"$f":"IF('Baseline Data'!$C$4=\"Yes\",'Baseline Data'!H18,(D19+E19+'Path Considerations'!$B$5-'Path Considerations'!$G$5))","v":{"$error":"#N/A"}},{"$f":"'Room Improvements'!AG19","v":{"$error":"#DIV/0!"}},{"$f":"IF('Room Improvements'!$D$8=\"Yes\",G19,F19)","v":{"$error":"#N/A"}},{"$f":"'Barrier Effect'!H18","v":{"$error":"#N/A"}},{"$error":"#N/A"},{"$f":"'Sound Absorption Calculation'!AX19","v":{"$error":"#N/A"}},{"$f":"D19+10*LOG10('Path Considerations'!$N$5*'Path Considerations'!$F$43/4/PI()/('Path Considerations'!$Q$4)^2+4*EXP(-SQRT(2)/2*K19/(1-K19))/('Path Considerations'!$J$7*K19/(1-K19)))","v":{"$error":"#N/A"}},{"$f":"Transmissibility!U19","v":{"$error":"#N/A"}},{"$error":"#N/A"},{"$f":"20*LOG10(Transmissibility!$C$7*Transmissibility!$C$8*'Sound Level Calculation'!A19)-42","v":{"$error":"#NUM!"}},{"$f":"IF('Path Considerations'!$M$6=\"Single\",O19,N19)","v":{"$error":"#N/A"}},{"$f":"10*LOG10('Path Considerations'!$N$5*'Path Considerations'!$F$45/(4*PI()*'Path Considerations'!$Q$16^2))","v":{"$error":"#N/A"}},{"$error":"#N/A"},{"$error":"#N/A"},{"$error":"#N/A"},{"$f":"10*LOG10('Path Considerations'!$K$6/'Path Considerations'!$J$7)","v":{"$error":"#DIV/0!"}},{"$error":"#N/A"},{"$f":"'Sound Absorption Calculation'!CA19","v":false},{"$f":"10*LOG10('Path Considerations'!$K$10/('Path Considerations'!$J$13*W19/(1-W19)))","v":{"$error":"#DIV/0!"}},{"$f":"Transmissibility!AB19","v":false},{"$error":"#DIV/0!"},{"$f":"20*LOG10(Transmissibility!$C$11*Transmissibility!$C$12*'Sound Level Calculation'!A19)-42","v":{"$error":"#NUM!"}},{"$f":"IF('Path Considerations'!$M$12=\"Single\",AA19,Z19)","v":{"$error":"#DIV/0!"}},{"$f":"10*LOG10('Path Considerations'!$C$5*'Path Considerations'!$F$47/4/PI()/('Path Considerations'!$P$10^2))","v":{"$error":"#N/A"}},{"$f":"D19+AC19+'Path Considerations'!$B$5-'Path Considerations'!$G$5-AB19+X19","v":{"$error":"#N/A"}},{"$error":"#N/A"},{"$error":"#N/A"}]
[125,785.39816339744823,1,120,{"$f":"10*LOG10('Path Considerations'!$C$5*'Path Considerations'!$F$47/4/PI()/('Path Considerations'!$F$4^2))","v":{"$error":"#N/A"}},{"$f":"IF('Baseline Data'!$C$4=\"Yes\",'Baseline Data'!H19,(D20+E20+'Path Considerations'!$B$5-'Path Considerations'!$G$5))","v":{"$error":"#N/A"}},{"$f":"'Room Improvements'!AG20","v":{"$error":"#DIV/0!"}},{"$f":"IF('Room Improvements'!$D$8=\"Yes\",G20,F20)","v":{"$error":"#N/A"}},{"$f":"'Barrier Effect'!H19","v":{"$error":"#N/A"}},{"$error":"#N/A"},{"$f":"'Sound Absorption Calculation'!AX20","v":{"$error":"#N/A"}},{"$f":"D20+10*LOG10('Path Considerations'!$N$5*'Path Considerations'!$F$43/4/PI()/('Path Considerations'!$Q$4)^2+4*EXP(-SQRT(2)/2*K20/(1-K20))/('Path Considerations'!$J$7*K20/(1-K20)))","v":{"$error":"#N/A"}},{"$f":"Transmissibility!U20","v":{"$error":"#N/A"}},{"$error":"#N/A"},{"$f":"20*LOG10(Transmissibility!$C$7*Transmissibility!$C$8*'Sound Level Calculation'!A20)-42","v":{"$error":"#NUM!"}},{"$f":"IF('Path Considerations'!$M$6=\"Single\",O20,N20)","v":{"$error":"#N/A"}},{"$f":"10*LOG10('Path Considerations'!$N$5*'Path Considerations'!$F$45/(4*PI()*'Path Considerations'!$Q$16^2))","v":{"$error":"#N/A"}},{"$error":"#N/A"},{"$error":"#N/A"},{"$error":"#N/A"},{"$f":"10*LOG10('Path Considerations'!$K$6/'Path Considerations'!$J$7)","v":{"$error":"#DIV/0!"}},{"$error":"#N/A"},{"$f":"'Sound Absorption Calculation'!CA20","v":false},{"$f":"10*LOG10('Path Considerations'!$K$10/('Path Considerations'!$J$13*W20/(1-W20)))","v":{"$error":"#DIV/0!"}},{"$f":"Transmissibility!AB20","v":false},{"$error":"#DIV/0!"},{"$f":"20*LOG10(Transmissibility!$C$11*Transmissibility!$C$12*'Sound Level Calculation'!A20)-42","v":{"$error":"#NUM!"}},{"$f":"IF('Path Considerations'!$M$12=\"Single\",AA20,Z20)","v":{"$error":"#DIV/0!"}},{"$f":"10*LOG10('Path Considerations'!$C$5*'Path Considerations'!$F$47/4/PI()/('Path Considerations'!$P$10^2))","v":{"$error":"#N/A"}},{"$f":"D20+AC20+'Path Considerations'!$B$5-'Path Considerations'!$G$5-AB20+X20","v":{"$error":"#N/A"}},{"$error":"#N/A"},{"$error":"#N/A"}]
[160,1005.3096491487338,1,120,{"$f":"10*LOG10('Path Considerations'!$C$5*'Path Considerations'!$F$47/4/PI()/('Path Considerations'!$F$4^2))","v":{"$error":"#N/A"}},{"$f":"IF('Baseline Data'!$C$4=\"Yes\",'Baseline Data'!H20,(D21+E21+'Path Considerations'!$B$5-'Path Considerations'!$G$5))","v":{"$error":"#N/A"}},{"$f":"'Room Improvements'!AG21","v":{"$error":"#DIV/0!"}},{"$f":"IF('Room Improvements'!$D$8=\"Yes\",G21,F21)","v":{"$error":"#N/A"}},{"$f":"'Barrier Effect'!H20","v":{"$error":"#N/A"}},{"$error":"#N/A"},{"$f":"'Sound Absorption Calculation'!AX21","v":{"$error":"#N/A"}},{"$f":"D21+10*LOG10('Path Considerations'!$N$5*'Path Considerations'!$F$43/4/PI()/('Path Considerations'!$Q$4)^2+4*EXP(-SQRT(2)/2*K21/(1-K21))/('Path Considerations'!$J$7*K21/(1-K21)))","v":{"$error":"#N/A"}},{"$f":"Transmissibility!U21","v":{"$error":"#N/A"}},{"$error":"#N/A"},{"$f":"20*LOG10(Transmissibility!$C$7*Transmissibility!$C$8*'Sound Level Calculation'!A21)-42","v":{"$error":"#NUM!"}},{"$f":"IF('Path Considerations'!$M$6=\"Single\",O21,N21)","v":{"$error":"#N/A"}},{"$f":"10*LOG10('Path Considerations'!$N$5*'Path Considerations'!$F$45/(4*PI()*'Path Considerations'!$Q$16^2))","v":{"$error":"#N/A"}},{"$error":"#N/A"},{"$error":"#N/A"},{"$error":"#N/A"},{"$f":"10*LOG10('Path Considerations'!$K$6/'Path Considerations'!$J$7)","v":{"$error":"#DIV/0!"}},{"$error":"#N/A"},{"$f":"'Sound Absorption Calculation'!CA21","v":false},{"$f":"10*LOG10('Path Considerations'!$K$10/('Path Considerations'!$J$13*W21/(1-W21)))","v":{"$error":"#DIV/0!"}},{"$f":"Transmissibility!AB21","v":false},{"$error":"#DIV/0!"},{"$f":"20*LOG10(Transmissibility!$C$11*Transmissibility!$C$12*'Sound Level Calculation'!A21)-42","v":{"$error":"#NUM!"}},{"$f":"IF('Path Considerations'!$M$12=\"Single\",AA21,Z21)","v":{"$error":"#DIV/0!"}},{"$f":"10*LOG10('Path Considerations'!$C$5*'Path Considerations'!$F$47/4/PI()/('Path Considerations'!$P$10^2))","v":{"$error":"#N/A"}},{"$f":"D21+AC21+'Path Considerations'!$B$5-'Path Considerations'!$G$5-AB21+X21","v":{"$error":"#N/A"}},{"$error":"#N/A"},{"$error":"#N/A"}]
[200,1256.6370614359173,1,120,{"$f":"10*LOG10('Path Considerations'!$C$5*'Path Considerations'!$F$47/4/PI()/('Path Considerations'!$F$4^2))","v":{"$error":"#N/A"}},{"$f":"IF('Baseline Data'!$C$4=\"Yes\",'Baseline Data'!H21,(D22+E22+'Path Considerations'!$B$5-'Path Considerations'!$G$5))","v":{"$error":"#N/A"}},{"$f":"'Room Improvements'!AG22","v":{"$error":"#DIV/0!"}},{"$f":"IF('Room Improvements'!$D$8=\"Yes\",G22,F22)","v":{"$error":"#N/A"}},{"$f":"'Barrier Effect'!H21","v":{"$error":"#N/A"}},{"$error":"#N/A"},{"$f":"'Sound Absorption Calculation'!AX22","v":{"$error":"#N/A"}},{"$f":"D22+10*LOG10('Path Considerations'!$N$5*'Path Considerations'!$F$43/4/PI()/('Path Considerations'!$Q$4)^2+4*EXP(-SQRT(2)/2*K22/(1-K22))/('Path Considerations'!$J$7*K22/(1-K22)))","v":{"$error":"#N/A"}},{"$f":"Transmissibility!U22","v":{"$error":"#N/A"}},{"$error":"#N/A"},{"$f":"20*LOG10(Transmissibility!$C$7*Transmissibility!$C$8*'Sound Level Calculation'!A22)-42","v":{"$error":"#NUM!"}},{"$f":"IF('Path Considerations'!$M$6=\"Single\",O22,N22)","v":{"$error":"#N/A"}},{"$f":"10*LOG10('Path Considerations'!$N$5*'Path Considerations'!$F$45/(4*PI()*'Path Considerations'!$Q$16^2))","v":{"$error":"#N/A"}},{"$error":"#N/A"},{"$error":"#N/A"},{"$error":"#N/A"},{"$f":"10*LOG10('Path Considerations'!$K$6/'Path Considerations'!$J$7)","v":{"$error":"#DIV/0!"}},{"$error":"#N/A"},{"$f":"'Sound Absorption Calculation'!CA22","v":false},{"$f":"10*LOG10('Path Considerations'!$K$10/('Path Considerations'!$J$13*W22/(1-W22)))","v":{"$error":"#DIV/0!"}},{"$f":"Transmissibility!AB22","v":false},{"$error":"#DIV/0!"},{"$f":"20*LOG10(Transmissibility!$C$11*Transmissibility!$C$12*'Sound Level Calculation'!A22)-42","v":{"$error":"#NUM!"}},{"$f":"IF('Path Considerations'!$M$12=\"Single\",AA22,Z22)","v":{"$error":"#DIV/0!"}},{"$f":"10*LOG10('Path Considerations'!$C$5*'Path Considerations'!$F$47/4/PI()/('Path Considerations'!$P$10^2))","v":{"$error":"#N/A"}},{"$f":"D22+AC22+'Path Considerations'!$B$5-'Path Considerations'!$G$5-AB22+X22","v":{"$error":"#N/A"}},{"$error":"#N/A"},{"$error":"#N/A"}]
[250,1570.7963267948965,1,120,{"$f":"10*LOG10('Path Considerations'!$C$5*'Path Considerations'!$F$47/4/PI()/('Path Considerations'!$F$4^2))","v":{"$error":"#N/A"}},{"$f":"IF('Baseline Data'!$C$4=\"Yes\",'Baseline Data'!H22,(D23+E23+'Path Considerations'!$B$5-'Path Considerations'!$G$5))","v":{"$error":"#N/A"}},{"$f":"'Room Improvements'!AG23","v":{"$error":"#DIV/0!"}},{"$f":"IF('Room Improvements'!$D$8=\"Yes\",G23,F23)","v":{"$error":"#N/A"}},{"$f":"'Barrier Effect'!H22","v":{"$error":"#N/A"}},{"$error":"#N/A"},{"$f":"'Sound Absorption Calculation'!AX23","v":{"$error":"#N/A"}},{"$f":"D23+10*LOG10('Path Considerations'!$N$5*'Path Considerations'!$F$43/4/PI()/('Path Considerations'!$Q$4)^2+4*EXP(-SQRT(2)/2*K23/(1-K23))/('Path Considerations'!$J$7*K23/(1-K23)))","v":{"$error":"#N/A"}},{"$f":"Transmissibility!U23","v":{"$error":"#N/A"}},{"$error":"#N/A"},{"$f":"20*LOG10(Transmissibility!$C$7*Transmissibility!$C$8*'Sound Level Calculation'!A23)-42","v":{"$error":"#NUM!"}},{"$f":"IF('Path Considerations'!$M$6=\"Single\",O23,N23)","v":{"$error":"#N/A"}},{"$f":"10*LOG10('Path Considerations'!$N$5*'Path Considerations'!$F$45/(4*PI()*'Path Considerations'!$Q$16^2))","v":{"$error":"#N/A"}},{"$error":"#N/A"},{"$error":"#N/A"},{"$error":"#N/A"},{"$f":"10*LOG10('Path Considerations'!$K$6/'Path Considerations'!$J$7)","v":{"$error":"#DIV/0!"}},{"$error":"#N/A"},{"$f":"'Sound Absorption Calculation'!CA23","v":false},{"$f":"10*LOG10('Path Considerations'!$K$10/('Path Considerations'!$J$13*W23/(1-W23)))","v":{"$error":"#DIV/0!"}},{"$f":"Transmissibility!AB23","v":false},{"$error":"#DIV/0!"},{"$f":"20*LOG10(Transmissibility!$C$11*Transmissibility!$C$12*'Sound Level Calculation'!A23)-42","v":{"$error":"#NUM!"}},{"$f":"IF('Path Considerations'!$M$12=\"Single\",AA23,Z23)","v":{"$error":"#DIV/0!"}},{"$f":"10*LOG10('Path Considerations'!$C$5*'Path Considerations'!$F$47/4/PI()/('Path Considerations'!$P$10^2))","v":{"$error":"#N/A"}},{"$f":"D23+AC23+'Path Considerations'!$B$5-'Path Considerations'!$G$5-AB23+X23","v":{"$error":"#N/A"}},{"$error":"#N/A"},{"$error":"#N/A"}]
[315,1979.2033717615698,1,120,{"$f":"10*LOG10('Path Considerations'!$C$5*'Path Considerations'!$F$47/4/PI()/('Path Considerations'!$F$4^2))","v":{"$error":"#N/A"}},{"$f":"IF('Baseline Data'!$C$4=\"Yes\",'Baseline Data'!H23,(D24+E24+'Path Considerations'!$B$5-'Path Considerations'!$G$5))","v":{"$error":"#N/A"}},{"$f":"'Room Improvements'!AG24","v":{"$error":"#DIV/0!"}},{"$f":"IF('Room Improvements'!$D$8=\"Yes\",G24,F24)","v":{"$error":"#N/A"}},{"$f":"'Barrier Effect'!H23","v":{"$error":"#N/A"}},{"$error":"#N/A"},{"$f":"'Sound Absorption Calculation'!AX24","v":{"$error":"#N/A"}},{"$f":"D24+10*LOG10('Path Considerations'!$N$5*'Path Considerations'!$F$43/4/PI()/('Path Considerations'!$Q$4)^2+4*EXP(-SQRT(2)/2*K24/(1-K24))/('Path Considerations'!$J$7*K24/(1-K24)))","v":{"$error":"#N/A"}},{"$f":"Transmissibility!U24","v":{"$error":"#N/A"}},{"$error":"#N/A"},{"$f":"20*LOG10(Transmissibility!$C$7*Transmissibility!$C$8*'Sound Level Calculation'!A24)-42","v":{"$error":"#NUM!"}},{"$f":"IF('Path Considerations'!$M$6=\"Single\",O24,N24)","v":{"$error":"#N/A"}},{"$f":"10*LOG10('Path Considerations'!$N$5*'Path Considerations'!$F$45/(4*PI()*'Path Considerations'!$Q$16^2))","v":{"$error":"#N/A"}},{"$error":"#N/A"},{"$error":"#N/A"},{"$error":"#N/A"},{"$f":"10*LOG10('Path Considerations'!$K$6/'Path Considerations'!$J$7)","v":{"$error":"#DIV/0!"}},{"$error":"#N/A"},{"$f":"'Sound Absorption Calculation'!CA24","v":false},{"$f":"10*LOG10('Path Considerations'!$K$10/('Path Considerations'!$J$13*W24/(1-W24)))","v":{"$error":"#DIV/0!"}},{"$f":"Transmissibility!AB24","v":false},{"$error":"#DIV/0!"},{"$f":"20*LOG10(Transmissibility!$C$11*Transmissibility!$C$12*'Sound Level Calculation'!A24)-42","v":{"$error":"#NUM!"}},{"$f":"IF('Path Considerations'!$M$12=\"Single\",AA24,Z24)","v":{"$error":"#DIV/0!"}},{"$f":"10*LOG10('Path Considerations'!$C$5*'Path Considerations'!$F$47/4/PI()/('Path Considerations'!$P$10^2))","v":{"$error":"#N/A"}},{"$f":"D24+AC24+'Path Considerations'!$B$5-'Path Considerations'!$G$5-AB24+X24","v":{"$error":"#N/A"}},{"$error":"#N/A"},{"$error":"#N/A"}]
[400,2513.2741228718346,1,120,{"$f":"10*LOG10('Path Considerations'!$C$5*'Path Considerations'!$F$47/4/PI()/('Path Considerations'!$F$4^2))","v":{"$error":"#N/A"}},{"$f":"IF('Baseline Data'!$C$4=\"Yes\",'Baseline Data'!H24,(D25+E25+'Path Considerations'!$B$5-'Path Considerations'!$G$5))","v":{"$error":"#N/A"}},{"$f":"'Room Improvements'!AG25","v":{"$error":"#DIV/0!"}},{"$f":"IF('Room Improvements'!$D$8=\"Yes\",G25,F25)","v":{"$error":"#N/A"}},{"$f":"'Barrier Effect'!H24","v":{"$error":"#N/A"}},{"$error":"#N/A"},{"$f":"'Sound Absorption Calculation'!AX25","v":{"$error":"#N/A"}},{"$f":"D25+10*LOG10('Path Considerations'!$N$5*'Path Considerations'!$F$43/4/PI()/('Path Considerations'!$Q$4)^2+4*EXP(-SQRT(2)/2*K25/(1-K25))/('Path Considerations'!$J$7*K25/(1-K25)))","v":{"$error":"#N/A"}},{"$f":"Transmissibility!U25","v":{"$error":"#N/A"}},{"$error":"#N/A"},{"$f":"20*LOG10(Transmissibility!$C$7*Transmissibility!$C$8*'Sound Level Calculation'!A25)-42","v":{"$error":"#NUM!"}},{"$f":"IF('Path Considerations'!$M$6=\"Single\",O25,N25)","v":{"$error":"#N/A"}},{"$f":"10*LOG10('Path Considerations'!$N$5*'Path Considerations'!$F$45/(4*PI()*'Path Considerations'!$Q$16^2))","v":{"$error":"#N/A"}},{"$error":"#N/A"},{"$error":"#N/A"},{"$error":"#N/A"},{"$f":"10*LOG10('Path Considerations'!$K$6/'Path Considerations'!$J$7)","v":{"$error":"#DIV/0!"}},{"$error":"#N/A"},{"$f":"'Sound Absorption Calculation'!CA25","v":false},{"$f":"10*LOG10('Path Considerations'!$K$10/('Path Considerations'!$J$13*W25/(1-W25)))","v":{"$error":"#DIV/0!"}},{"$f":"Transmissibility!AB25","v":false},{"$error":"#DIV/0!"},{"$f":"20*LOG10(Transmissibility!$C$11*Transmissibility!$C$12*'Sound Level Calculation'!A25)-42","v":{"$error":"#NUM!"}},{"$f":"IF('Path Considerations'!$M$12=\"Single\",AA25,Z25)","v":{"$error":"#DIV/0!"}},{"$f":"10*LOG10('Path Considerations'!$C$5*'Path Considerations'!$F$47/4/PI()/('Path Considerations'!$P$10^2))","v":{"$error":"#N/A"}},{"$f":"D25+AC25+'Path Considerations'!$B$5-'Path Considerations'!$G$5-AB25+X25","v":{"$error":"#N/A"}},{"$error":"#N/A"},{"$error":"#N/A"}]
[500,3141.5926535897929,1,120,{"$f":"10*LOG10('Path Considerations'!$C$5*'Path Considerations'!$F$47/4/PI()/('Path Considerations'!$F$4^2))","v":{"$error":"#N/A"}},{"$f":"IF('Baseline Data'!$C$4=\"Yes\",'Baseline Data'!H25,(D26+E26+'Path Considerations'!$B$5-'Path Considerations'!$G$5))","v":{"$error":"#N/A"}},{"$f":"'Room Improvements'!AG26","v":{"$error":"#DIV/0!"}},{"$f":"IF('Room Improvements'!$D$8=\"Yes\",G26,F26)","v":{"$error":"#N/A"}},{"$f":"'Barrier Effect'!H25","v":{"$error":"#N/A"}},{"$error":"#N/A"},{"$f":"'Sound Absorption Calculation'!AX26","v":{"$error":"#N/A"}},{"$f":"D26+10*LOG10('Path Considerations'!$N$5*'Path Considerations'!$F$43/4/PI()/('Path Considerations'!$Q$4)^2+4*EXP(-SQRT(2)/2*K26/(1-K26))/('Path Considerations'!$J$7*K26/(1-K26)))","v":{"$error":"#N/A"}},{"$f":"Transmissibility!U26","v":{"$error":"#N/A"}},{"$error":"#N/A"},{"$f":"20*LOG10(Transmissibility!$C$7*Transmissibility!$C$8*'Sound Level Calculation'!A26)-42","v":{"$error":"#NUM!"}},{"$f":"IF('Path Considerations'!$M$6=\"Single\",O26,N26)","v":{"$error":"#N/A"}},{"$f":"10*LOG10('Path Considerations'!$N$5*'Path Considerations'!$F$45/(4*PI()*'Path Considerations'!$Q$16^2))","v":{"$error":"#N/A"}},{"$error":"#N/A"},{"$error":"#N/A"},{"$error":"#N/A"},{"$f":"10*LOG10('Path Considerations'!$K$6/'Path Considerations'!$J$7)","v":{"$error":"#DIV/0!"}},{"$error":"#N/A"},{"$f":"'Sound Absorption Calculation'!CA26","v":false},{"$f":"10*LOG10('Path Considerations'!$K$10/('Path Considerations'!$J$13*W26/(1-W26)))","v":{"$error":"#DIV/0!"}},{"$f":"Transmissibility!AB26","v":false},{"$error":"#DIV/0!"},{"$f":"20*LOG10(Transmissibility!$C$11*Transmissibility!$C$12*'Sound Level Calculation'!A26)-42","v":{"$error":"#NUM!"}},{"$f":"IF('Path Considerations'!$M$12=\"Single\",AA26,Z26)","v":{"$error":"#DIV/0!"}},{"$f":"10*LOG10('Path Considerations'!$C$5*'Path Considerations'!$F$47/4/PI()/('Path Considerations'!$P$10^2))","v":{"$error":"#N/A"}},{"$f":"D26+AC26+'Path Considerations'!$B$5-'Path Considerations'!$G$5-AB26+X26","v":{"$error":"#N/A"}},{"$error":"#N/A"},{"$error":"#N/A"}]
[630,3958.4067435231395,1,120,{"$f":"10*LOG10('Path Considerations'!$C$5*'Path Considerations'!$F$47/4/PI()/('Path Considerations'!$F$4^2))","v":{"$error":"#N/A"}},{"$f":"IF('Baseline Data'!$C$4=\"Yes\",'Baseline Data'!H26,(D27+E27+'Path Considerations'!$B$5-'Path Considerations'!$G$5))","v":{"$error":"#N/A"}},{"$f":"'Room Improvements'!AG27","v":{"$error":"#DIV/0!"}},{"$f":"IF('Room Improvements'!$D$8=\"Yes\",G27,F27)","v":{"$error":"#N/A"}},{"$f":"'Barrier Effect'!H26","v":{"$error":"#N/A"}},{"$error":"#N/A"},{"$f":"'Sound Absorption Calculation'!AX27","v":{"$error":"#N/A"}},{"$f":"D27+10*LOG10('Path Considerations'!$N$5*'Path Considerations'!$F$43/4/PI()/('Path Considerations'!$Q$4)^2+4*EXP(-SQRT(2)/2*K27/(1-K27))/('Path Considerations'!$J$7*K27/(1-K27)))","v":{"$error":"#N/A"}},{"$f":"Transmissibility!U27","v":{"$error":"#N/A"}},{"$error":"#N/A"},{"$f":"20*LOG10(Transmissibility!$C$7*Transmissibility!$C$8*'Sound Level Calculation'!A27)-42","v":{"$error":"#NUM!"}},{"$f":"IF('Path Considerations'!$M$6=\"Single\",O27,N27)","v":{"$error":"#N/A"}},{"$f":"10*LOG10('Path Considerations'!$N$5*'Path Considerations'!$F$45/(4*PI()*'Path Considerations'!$Q$16^2))","v":{"$error":"#N/A"}},{"$error":"#N/A"},{"$error":"#N/A"},{"$error":"#N/A"},{"$f":"10*LOG10('Path Considerations'!$K$6/'Path Considerations'!$J$7)","v":{"$error":"#DIV/0!"}},{"$error":"#N/A"},{"$f":"'Sound Absorption Calculation'!CA27","v":false},{"$f":"10*LOG10('Path Considerations'!$K$10/('Path Considerations'!$J$13*W27/(1-W27)))","v":{"$error":"#DIV/0!"}},{"$f":"Transmissibility!AB27","v":false},{"$error":"#DIV/0!"},{"$f":"20*LOG10(Transmissibility!$C$11*Transmissibility!$C$12*'Sound Level Calculation'!A27)-42","v":{"$error":"#NUM!"}},{"$f":"IF('Path Considerations'!$M$12=\"Single\",AA27,Z27)","v":{"$error":"#DIV/0!"}},{"$f":"10*LOG10('Path Considerations'!$C$5*'Path Considerations'!$F$47/4/PI()/('Path Considerations'!$P$10^2))","v":{"$error":"#N/A"}},{"$f":"D27+AC27+'Path Considerations'!$B$5-'Path Considerations'!$G$5-AB27+X27","v":{"$error":"#N/A"}},{"$error":"#N/A"},{"$error":"#N/A"}]
[800,5026.5482457436692,1,120,{"$f":"10*LOG10('Path Considerations'!$C$5*'Path Considerations'!$F$47/4/PI()/('Path Considerations'!$F$4^2))","v":{"$error":"#N/A"}},{"$f":"IF('Baseline Data'!$C$4=\"Yes\",'Baseline Data'!H27,(D28+E28+'Path Considerations'!$B$5-'Path Considerations'!$G$5))","v":{"$error":"#N/A"}},{"$f":"'Room Improvements'!AG28","v":{"$error":"#DIV/0!"}},{"$f":"IF('Room Improvements'!$D$8=\"Yes\",G28,F28)","v":{"$error":"#N/A"}},{"$f":"'Barrier Effect'!H27","v":{"$error":"#N/A"}},{"$error":"#N/A"},{"$f":"'Sound Absorption Calculation'!AX28","v":{"$error":"#N/A"}},{"$f":"D28+10*LOG10('Path Considerations'!$N$5*'Path Considerations'!$F$43/4/PI()/('Path Considerations'!$Q$4)^2+4*EXP(-SQRT(2)/2*K28/(1-K28))/('Path Considerations'!$J$7*K28/(1-K28)))","v":{"$error":"#N/A"}},{"$f":"Transmissibility!U28","v":{"$error":"#N/A"}},{"$error":"#N/A"},{"$f":"20*LOG10(Transmissibility!$C$7*Transmissibility!$C$8*'Sound Level Calculation'!A28)-42","v":{"$error":"#NUM!"}},{"$f":"IF('Path Considerations'!$M$6=\"Single\",O28,N28)","v":{"$error":"#N/A"}},{"$f":"10*LOG10('Path Considerations'!$N$5*'Path Considerations'!$F$45/(4*PI()*'Path Considerations'!$Q$16^2))","v":{"$error":"#N/A"}},{"$error":"#N/A"},{"$error":"#N/A"},{"$error":"#N/A"},{"$f":"10*LOG10('Path Considerations'!$K$6/'Path Considerations'!$J$7)","v":{"$error":"#DIV/0!"}},{"$error":"#N/A"},{"$f":"'Sound Absorption Calculation'!CA28","v":false},{"$f":"10*LOG10('Path Considerations'!$K$10/('Path Considerations'!$J$13*W28/(1-W28)))","v":{"$error":"#DIV/0!"}},{"$f":"Transmissibility!AB28","v":false},{"$error":"#DIV/0!"},{"$f":"20*LOG10(Transmissibility!$C$11*Transmissibility!$C$12*'Sound Level Calculation'!A28)-42","v":{"$error":"#NUM!"}},{"$f":"IF('Path Considerations'!$M$12=\"Single\",AA28,Z28)","v":{"$error":"#DIV/0!"}},{"$f":"10*LOG10('Path Considerations'!$C$5*'Path Considerations'!$F$47/4/PI()/('Path Considerations'!$P$10^2))","v":{"$error":"#N/A"}},{"$f":"D28+AC28+'Path Considerations'!$B$5-'Path Considerations'!$G$5-AB28+X28","v":{"$error":"#N/A"}},{"$error":"#N/A"},{"$error":"#N/A"}]
[1000,6283.1853071795858,1,120,{"$f":"10*LOG10('Path Considerations'!$C$5*'Path Considerations'!$F$47/4/PI()/('Path Considerations'!$F$4^2))","v":{"$error":"#N/A"}},{"$f":"IF('Baseline Data'!$C$4=\"Yes\",'Baseline Data'!H28,(D29+E29+'Path Considerations'!$B$5-'Path Considerations'!$G$5))","v":{"$error":"#N/A"}},{"$f":"'Room Improvements'!AG29","v":{"$error":"#DIV/0!"}},{"$f":"IF('Room Improvements'!$D$8=\"Yes\",G29,F29)","v":{"$error":"#N/A"}},{"$f":"'Barrier Effect'!H28","v":{"$error":"#N/A"}},{"$error":"#N/A"},{"$f":"'Sound Absorption Calculation'!AX29","v":{"$error":"#N/A"}},{"$f":"D29+10*LOG10('Path Considerations'!$N$5*'Path Considerations'!$F$43/4/PI()/('Path Considerations'!$Q$4)^2+4*EXP(-SQRT(2)/2*K29/(1-K29))/('Path Considerations'!$J$7*K29/(1-K29)))","v":{"$error":"#N/A"}},{"$f":"Transmissibility!U29","v":{"$error":"#N/A"}},{"$error":"#N/A"},{"$f":"20*LOG10(Transmissibility!$C$7*Transmissibility!$C$8*'Sound Level Calculation'!A29)-42","v":{"$error":"#NUM!"}},{"$f":"IF('Path Considerations'!$M$6=\"Single\",O29,N29)","v":{"$error":"#N/A"}},{"$f":"10*LOG10('Path Considerations'!$N$5*'Path Considerations'!$F$45/(4*PI()*'Path Considerations'!$Q$16^2))","v":{"$error":"#N/A"}},{"$error":"#N/A"},{"$error":"#N/A"},{"$error":"#N/A"},{"$f":"10*LOG10('Path Considerations'!$K$6/'Path Considerations'!$J$7)","v":{"$error":"#DIV/0!"}},{"$error":"#N/A"},{"$f":"'Sound Absorption Calculation'!CA29","v":false},{"$f":"10*LOG10('Path Considerations'!$K$10/('Path Considerations'!$J$13*W29/(1-W29)))","v":{"$error":"#DIV/0!"}},{"$f":"Transmissibility!AB29","v":false},{"$error":"#DIV/0!"},{"$f":"20*LOG10(Transmissibility!$C$11*Transmissibility!$C$12*'Sound Level Calculation'!A29)-42","v":{"$error":"#NUM!"}},{"$f":"IF('Path Considerations'!$M$12=\"Single\",AA29,Z29)","v":{"$error":"#DIV/0!"}},{"$f":"10*LOG10('Path Considerations'!$C$5*'Path Considerations'!$F$47/4/PI()/('Path Considerations'!$P$10^2))","v":{"$error":"#N/A"}},{"$f":"D29+AC29+'Path Considerations'!$B$5-'Path Considerations'!$G$5-AB29+X29","v":{"$error":"#N/A"}},{"$error":"#N/A"},{"$error":"#N/A"}]
[1250,7853.981633974483,1,120,{"$f":"10*LOG10('Path Considerations'!$C$5*'Path Considerations'!$F$47/4/PI()/('Path Considerations'!$F$4^2))","v":{"$error":"#N/A"}},{"$f":"IF('Baseline Data'!$C$4=\"Yes\",'Baseline Data'!H29,(D30+E30+'Path Considerations'!$B$5-'Path Considerations'!$G$5))","v":{"$error":"#N/A"}},{"$f":"'Room Improvements'!AG30","v":{"$error":"#DIV/0!"}},{"$f":"IF('Room Improvements'!$D$8=\"Yes\",G30,F30)","v":{"$error":"#N/A"}},{"$f":"'Barrier Effect'!H29","v":{"$error":"#N/A"}},{"$error":"#N/A"},{"$f":"'Sound Absorption Calculation'!AX30","v":{"$error":"#N/A"}},{"$f":"D30+10*LOG10('Path Considerations'!$N$5*'Path Considerations'!$F$43/4/PI()/('Path Considerations'!$Q$4)^2+4*EXP(-SQRT(2)/2*K30/(1-K30))/('Path Considerations'!$J$7*K30/(1-K30)))","v":{"$error":"#N/A"}},{"$f":"Transmissibility!U30","v":{"$error":"#N/A"}},{"$error":"#N/A"},{"$f":"20*LOG10(Transmissibility!$C$7*Transmissibility!$C$8*'Sound Level Calculation'!A30)-42","v":{"$error":"#NUM!"}},{"$f":"IF('Path Considerations'!$M$6=\"Single\",O30,N30)","v":{"$error":"#N/A"}},{"$f":"10*LOG10('Path Considerations'!$N$5*'Path Considerations'!$F$45/(4*PI()*'Path Considerations'!$Q$16^2))","v":{"$error":"#N/A"}},{"$error":"#N/A"},{"$error":"#N/A"},{"$error":"#N/A"},{"$f":"10*LOG10('Path Considerations'!$K$6/'Path Considerations'!$J$7)","v":{"$error":"#DIV/0!"}},{"$error":"#N/A"},{"$f":"'Sound Absorption Calculation'!CA30","v":false},{"$f":"10*LOG10('Path Considerations'!$K$10/('Path Considerations'!$J$13*W30/(1-W30)))","v":{"$error":"#DIV/0!"}},{"$f":"Transmissibility!AB30","v":false},{"$error":"#DIV/0!"},{"$f":"20*LOG10(Transmissibility!$C$11*Transmissibility!$C$12*'Sound Level Calculation'!A30)-42","v":{"$error":"#NUM!"}},{"$f":"IF('Path Considerations'!$M$12=\"Single\",AA30,Z30)","v":{"$error":"#DIV/0!"}},{"$f":"10*LOG10('Path Considerations'!$C$5*'Path Considerations'!$F$47/4/PI()/('Path Considerations'!$P$10^2))","v":{"$error":"#N/A"}},{"$f":"D30+AC30+'Path Considerations'!$B$5-'Path Considerations'!$G$5-AB30+X30","v":{"$error":"#N/A"}},{"$error":"#N/A"},{"$error":"#N/A"}]
[1600,10053.096491487338,1,120,{"$f":"10*LOG10('Path Considerations'!$C$5*'Path Considerations'!$F$47/4/PI()/('Path Considerations'!$F$4^2))","v":{"$error":"#N/A"}},{"$f":"IF('Baseline Data'!$C$4=\"Yes\",'Baseline Data'!H30,(D31+E31+'Path Considerations'!$B$5-'Path Considerations'!$G$5))","v":{"$error":"#N/A"}},{"$f":"'Room Improvements'!AG31","v":{"$error":"#DIV/0!"}},{"$f":"IF('Room Improvements'!$D$8=\"Yes\",G31,F31)","v":{"$error":"#N/A"}},{"$f":"'Barrier Effect'!H30","v":{"$error":"#N/A"}},{"$error":"#N/A"},{"$f":"'Sound Absorption Calculation'!AX31","v":{"$error":"#N/A"}},{"$f":"D31+10*LOG10('Path Considerations'!$N$5*'Path Considerations'!$F$43/4/PI()/('Path Considerations'!$Q$4)^2+4*EXP(-SQRT(2)/2*K31/(1-K31))/('Path Considerations'!$J$7*K31/(1-K31)))","v":{"$error":"#N/A"}},{"$f":"Transmissibility!U31","v":{"$error":"#N/A"}},{"$error":"#N/A"},{"$f":"20*LOG10(Transmissibility!$C$7*Transmissibility!$C$8*'Sound Level Calculation'!A31)-42","v":{"$error":"#NUM!"}},{"$f":"IF('Path Considerations'!$M$6=\"Single\",O31,N31)","v":{"$error":"#N/A"}},{"$f":"10*LOG10('Path Considerations'!$N$5*'Path Considerations'!$F$45/(4*PI()*'Path Considerations'!$Q$16^2))","v":{"$error":"#N/A"}},{"$error":"#N/A"},{"$error":"#N/A"},{"$error":"#N/A"},{"$f":"10*LOG10('Path Considerations'!$K$6/'Path Considerations'!$J$7)","v":{"$error":"#DIV/0!"}},{"$error":"#N/A"},{"$f":"'Sound Absorption Calculation'!CA31","v":false},{"$f":"10*LOG10('Path Considerations'!$K$10/('Path Considerations'!$J$13*W31/(1-W31)))","v":{"$error":"#DIV/0!"}},{"$f":"Transmissibility!AB31","v":false},{"$error":"#DIV/0!"},{"$f":"20*LOG10(Transmissibility!$C$11*Transmissibility!$C$12*'Sound Level Calculation'!A31)-42","v":{"$error":"#NUM!"}},{"$f":"IF('Path Considerations'!$M$12=\"Single\",AA31,Z31)","v":{"$error":"#DIV/0!"}},{"$f":"10*LOG10('Path Considerations'!$C$5*'Path Considerations'!$F$47/4/PI()/('Path Considerations'!$P$10^2))","v":{"$error":"#N/A"}},{"$f":"D31+AC31+'Path Considerations'!$B$5-'Path Considerations'!$G$5-AB31+X31","v":{"$error":"#N/A"}},{"$error":"#N/A"},{"$error":"#N/A"}]
[2000,12566.370614359172,1,120,{"$f":"10*LOG10('Path Considerations'!$C$5*'Path Considerations'!$F$47/4/PI()/('Path Considerations'!$F$4^2))","v":{"$error":"#N/A"}},{"$f":"IF('Baseline Data'!$C$4=\"Yes\",'Baseline Data'!H31,(D32+E32+'Path Considerations'!$B$5-'Path Considerations'!$G$5))","v":{"$error":"#N/A"}},{"$f":"'Room Improvements'!AG32","v":{"$error":"#DIV/0!"}},{"$f":"IF('Room Improvements'!$D$8=\"Yes\",G32,F32)","v":{"$error":"#N/A"}},{"$f":"'Barrier Effect'!H31","v":{"$error":"#N/A"}},{"$error":"#N/A"},{"$f":"'Sound Absorption Calculation'!AX32","v":{"$error":"#N/A"}},{"$f":"D32+10*LOG10('Path Considerations'!$N$5*'Path Considerations'!$F$43/4/PI()/('Path Considerations'!$Q$4)^2+4*EXP(-SQRT(2)/2*K32/(1-K32))/('Path Considerations'!$J$7*K32/(1-K32)))","v":{"$error":"#N/A"}},{"$f":"Transmissibility!U32","v":{"$error":"#N/A"}},{"$error":"#N/A"},{"$f":"20*LOG10(Transmissibility!$C$7*Transmissibility!$C$8*'Sound Level Calculation'!A32)-42","v":{"$error":"#NUM!"}},{"$f":"IF('Path Considerations'!$M$6=\"Single\",O32,N32)","v":{"$error":"#N/A"}},{"$f":"10*LOG10('Path Considerations'!$N$5*'Path Considerations'!$F$45/(4*PI()*'Path Considerations'!$Q$16^2))","v":{"$error":"#N/A"}},{"$error":"#N/A"},{"$error":"#N/A"},{"$error":"#N/A"},{"$f":"10*LOG10('Path Considerations'!$K$6/'Path Considerations'!$J$7)","v":{"$error":"#DIV/0!"}},{"$error":"#N/A"},{"$f":"'Sound Absorption Calculation'!CA32","v":false},{"$f":"10*LOG10('Path Considerations'!$K$10/('Path Considerations'!$J$13*W32/(1-W32)))","v":{"$error":"#DIV/0!"}},{"$f":"Transmissibility!AB32","v":false},{"$error":"#DIV/0!"},{"$f":"20*LOG10(Transmissibility!$C$11*Transmissibility!$C$12*'Sound Level Calculation'!A32)-42","v":{"$error":"#NUM!"}},{"$f":"IF('Path Considerations'!$M$12=\"Single\",AA32,Z32)","v":{"$error":"#DIV/0!"}},{"$f":"10*LOG10('Path Considerations'!$C$5*'Path Considerations'!$F$47/4/PI()/('Path Considerations'!$P$10^2))","v":{"$error":"#N/A"}},{"$f":"D32+AC32+'Path Considerations'!$B$5-'Path Considerations'!$G$5-AB32+X32","v":{"$error":"#N/A"}},{"$error":"#N/A"},{"$error":"#N/A"}]
[2500,15707.963267948966,1,120,{"$f":"10*LOG10('Path Considerations'!$C$5*'Path Considerations'!$F$47/4/PI()/('Path Considerations'!$F$4^2))","v":{"$error":"#N/A"}},{"$f":"IF('Baseline Data'!$C$4=\"Yes\",'Baseline Data'!H32,(D33+E33+'Path Considerations'!$B$5-'Path Considerations'!$G$5))","v":{"$error":"#N/A"}},{"$f":"'Room Improvements'!AG33","v":{"$error":"#DIV/0!"}},{"$f":"IF('Room Improvements'!$D$8=\"Yes\",G33,F33)","v":{"$error":"#N/A"}},{"$f":"'Barrier Effect'!H32","v":{"$error":"#N/A"}},{"$error":"#N/A"},{"$f":"'Sound Absorption Calculation'!AX33","v":{"$error":"#N/A"}},{"$f":"D33+10*LOG10('Path Considerations'!$N$5*'Path Considerations'!$F$43/4/PI()/('Path Considerations'!$Q$4)^2+4*EXP(-SQRT(2)/2*K33/(1-K33))/('Path Considerations'!$J$7*K33/(1-K33)))","v":{"$error":"#N/A"}},{"$f":"Transmissibility!U33","v":{"$error":"#N/A"}},{"$error":"#N/A"},{"$f":"20*LOG10(Transmissibility!$C$7*Transmissibility!$C$8*'Sound Level Calculation'!A33)-42","v":{"$error":"#NUM!"}},{"$f":"IF('Path Considerations'!$M$6=\"Single\",O33,N33)","v":{"$error":"#N/A"}},{"$f":"10*LOG10('Path Considerations'!$N$5*'Path Considerations'!$F$45/(4*PI()*'Path Considerations'!$Q$16^2))","v":{"$error":"#N/A"}},{"$error":"#N/A"},{"$error":"#N/A"},{"$error":"#N/A"},{"$f":"10*LOG10('Path Considerations'!$K$6/'Path Considerations'!$J$7)","v":{"$error":"#DIV/0!"}},{"$error":"#N/A"},{"$f":"'Sound Absorption Calculation'!CA33","v":false},{"$f":"10*LOG10('Path Considerations'!$K$10/('Path Considerations'!$J$13*W33/(1-W33)))","v":{"$error":"#DIV/0!"}},{"$f":"Transmissibility!AB33","v":false},{"$error":"#DIV/0!"},{"$f":"20*LOG10(Transmissibility!$C$11*Transmissibility!$C$12*'Sound Level Calculation'!A33)-42","v":{"$error":"#NUM!"}},{"$f":"IF('Path Considerations'!$M$12=\"Single\",AA33,Z33)","v":{"$error":"#DIV/0!"}},{"$f":"10*LOG10('Path Considerations'!$C$5*'Path Considerations'!$F$47/4/PI()/('Path Considerations'!$P$10^2))","v":{"$error":"#N/A"}},{"$f":"D33+AC33+'Path Considerations'!$B$5-'Path Considerations'!$G$5-AB33+X33","v":{"$error":"#N/A"}},{"$error":"#N/A"},{"$error":"#N/A"}]
[3150,19792.033717615697,1,120,{"$f":"10*LOG10('Path Considerations'!$C$5*'Path Considerations'!$F$47/4/PI()/('Path Considerations'!$F$4^2))","v":{"$error":"#N/A"}},{"$f":"IF('Baseline Data'!$C$4=\"Yes\",'Baseline Data'!H33,(D34+E34+'Path Considerations'!$B$5-'Path Considerations'!$G$5))","v":{"$error":"#N/A"}},{"$f":"'Room Improvements'!AG34","v":{"$error":"#DIV/0!"}},{"$f":"IF('Room Improvements'!$D$8=\"Yes\",G34,F34)","v":{"$error":"#N/A"}},{"$f":"'Barrier Effect'!H33","v":{"$error":"#N/A"}},{"$error":"#N/A"},{"$f":"'Sound Absorption Calculation'!AX34","v":{"$error":"#N/A"}},{"$f":"D34+10*LOG10('Path Considerations'!$N$5*'Path Considerations'!$F$43/4/PI()/('Path Considerations'!$Q$4)^2+4*EXP(-SQRT(2)/2*K34/(1-K34))/('Path Considerations'!$J$7*K34/(1-K34)))","v":{"$error":"#N/A"}},{"$f":"Transmissibility!U34","v":{"$error":"#N/A"}},{"$error":"#N/A"},{"$f":"20*LOG10(Transmissibility!$C$7*Transmissibility!$C$8*'Sound Level Calculation'!A34)-42","v":{"$error":"#NUM!"}},{"$f":"IF('Path Considerations'!$M$6=\"Single\",O34,N34)","v":{"$error":"#N/A"}},{"$f":"10*LOG10('Path Considerations'!$N$5*'Path Considerations'!$F$45/(4*PI()*'Path Considerations'!$Q$16^2))","v":{"$error":"#N/A"}},{"$error":"#N/A"},{"$error":"#N/A"},{"$error":"#N/A"},{"$f":"10*LOG10('Path Considerations'!$K$6/'Path Considerations'!$J$7)","v":{"$error":"#DIV/0!"}},{"$error":"#N/A"},{"$f":"'Sound Absorption Calculation'!CA34","v":false},{"$f":"10*LOG10('Path Considerations'!$K$10/('Path Considerations'!$J$13*W34/(1-W34)))","v":{"$error":"#DIV/0!"}},{"$f":"Transmissibility!AB34","v":false},{"$error":"#DIV/0!"},{"$f":"20*LOG10(Transmissibility!$C$11*Transmissibility!$C$12*'Sound Level Calculation'!A34)-42","v":{"$error":"#NUM!"}},{"$f":"IF('Path Considerations'!$M$12=\"Single\",AA34,Z34)","v":{"$error":"#DIV/0!"}},{"$f":"10*LOG10('Path Considerations'!$C$5*'Path Considerations'!$F$47/4/PI()/('Path Considerations'!$P$10^2))","v":{"$error":"#N/A"}},{"$f":"D34+AC34+'Path Considerations'!$B$5-'Path Considerations'!$G$5-AB34+X34","v":{"$error":"#N/A"}},{"$error":"#N/A"},{"$error":"#N/A"}]
[4000,25132.741228718343,1,120,{"$f":"10*LOG10('Path Considerations'!$C$5*'Path Considerations'!$F$47/4/PI()/('Path Considerations'!$F$4^2))","v":{"$error":"#N/A"}},{"$f":"IF('Baseline Data'!$C$4=\"Yes\",'Baseline Data'!H34,(D35+E35+'Path Considerations'!$B$5-'Path Considerations'!$G$5))","v":{"$error":"#N/A"}},{"$f":"'Room Improvements'!AG35","v":{"$error":"#DIV/0!"}},{"$f":"IF('Room Improvements'!$D$8=\"Yes\",G35,F35)","v":{"$error":"#N/A"}},{"$f":"'Barrier Effect'!H34","v":{"$error":"#N/A"}},{"$error":"#N/A"},{"$f":"'Sound Absorption Calculation'!AX35","v":{"$error":"#N/A"}},{"$f":"D35+10*LOG10('Path Considerations'!$N$5*'Path Considerations'!$F$43/4/PI()/('Path Considerations'!$Q$4)^2+4*EXP(-SQRT(2)/2*K35/(1-K35))/('Path Considerations'!$J$7*K35/(1-K35)))","v":{"$error":"#N/A"}},{"$f":"Transmissibility!U35","v":{"$error":"#N/A"}},{"$error":"#N/A"},{"$f":"20*LOG10(Transmissibility!$C$7*Transmissibility!$C$8*'Sound Level Calculation'!A35)-42","v":{"$error":"#NUM!"}},{"$f":"IF('Path Considerations'!$M$6=\"Single\",O35,N35)","v":{"$error":"#N/A"}},{"$f":"10*LOG10('Path Considerations'!$N$5*'Path Considerations'!$F$45/(4*PI()*'Path Considerations'!$Q$16^2))","v":{"$error":"#N/A"}},{"$error":"#N/A"},{"$error":"#N/A"},{"$error":"#N/A"},{"$f":"10*LOG10('Path Considerations'!$K$6/'Path Considerations'!$J$7)","v":{"$error":"#DIV/0!"}},{"$error":"#N/A"},{"$f":"'Sound Absorption Calculation'!CA35","v":false},{"$f":"10*LOG10('Path Considerations'!$K$10/('Path Considerations'!$J$13*W35/(1-W35)))","v":{"$error":"#DIV/0!"}},{"$f":"Transmissibility!AB35","v":false},{"$error":"#DIV/0!"},{"$f":"20*LOG10(Transmissibility!$C$11*Transmissibility!$C$12*'Sound Level Calculation'!A35)-42","v":{"$error":"#NUM!"}},{"$f":"IF('Path Considerations'!$M$12=\"Single\",AA35,Z35)","v":{"$error":"#DIV/0!"}},{"$f":"10*LOG10('Path Considerations'!$C$5*'Path Considerations'!$F$47/4/PI()/('Path Considerations'!$P$10^2))","v":{"$error":"#N/A"}},{"$f":"D35+AC35+'Path Considerations'!$B$5-'Path Considerations'!$G$5-AB35+X35","v":{"$error":"#N/A"}},{"$error":"#N/A"},{"$error":"#N/A"}]
[5000,31415.926535897932,1,120,{"$f":"10*LOG10('Path Considerations'!$C$5*'Path Considerations'!$F$47/4/PI()/('Path Considerations'!$F$4^2))","v":{"$error":"#N/A"}},{"$f":"IF('Baseline Data'!$C$4=\"Yes\",'Baseline Data'!H35,(D36+E36+'Path Considerations'!$B$5-'Path Considerations'!$G$5))","v":{"$error":"#N/A"}},{"$f":"'Room Improvements'!AG36","v":{"$error":"#DIV/0!"}},{"$f":"IF('Room Improvements'!$D$8=\"Yes\",G36,F36)","v":{"$error":"#N/A"}},{"$f":"'Barrier Effect'!H35","v":{"$error":"#N/A"}},{"$error":"#N/A"},{"$f":"'Sound Absorption Calculation'!AX36","v":{"$error":"#N/A"}},{"$f":"D36+10*LOG10('Path Considerations'!$N$5*'Path Considerations'!$F$43/4/PI()/('Path Considerations'!$Q$4)^2+4*EXP(-SQRT(2)/2*K36/(1-K36))/('Path Considerations'!$J$7*K36/(1-K36)))","v":{"$error":"#N/A"}},{"$f":"Transmissibility!U36","v":{"$error":"#N/A"}},{"$error":"#N/A"},{"$f":"20*LOG10(Transmissibility!$C$7*Transmissibility!$C$8*'Sound Level Calculation'!A36)-42","v":{"$error":"#NUM!"}},{"$f":"IF('Path Considerations'!$M$6=\"Single\",O36,N36)","v":{"$error":"#N/A"}},{"$f":"10*LOG10('Path Considerations'!$N$5*'Path Considerations'!$F$45/(4*PI()*'Path Considerations'!$Q$16^2))","v":{"$error":"#N/A"}},{"$error":"#N/A"},{"$error":"#N/A"},{"$error":"#N/A"},{"$f":"10*LOG10('Path Considerations'!$K$6/'Path Considerations'!$J$7)","v":{"$error":"#DIV/0!"}},{"$error":"#N/A"},{"$f":"'Sound Absorption Calculation'!CA36","v":false},{"$f":"10*LOG10('Path Considerations'!$K$10/('Path Considerations'!$J$13*W36/(1-W36)))","v":{"$error":"#DIV/0!"}},{"$f":"Transmissibility!AB36","v":false},{"$error":"#DIV/0!"},{"$f":"20*LOG10(Transmissibility!$C$11*Transmissibility!$C$12*'Sound Level Calculation'!A36)-42","v":{"$error":"#NUM!"}},{"$f":"IF('Path Considerations'!$M$12=\"Single\",AA36,Z36)","v":{"$error":"#DIV/0!"}},{"$f":"10*LOG10('Path Considerations'!$C$5*'Path Considerations'!$F$47/4/PI()/('Path Considerations'!$P$10^2))","v":{"$error":"#N/A"}},{"$f":"D36+AC36+'Path Considerations'!$B$5-'Path Considerations'!$G$5-AB36+X36","v":{"$error":"#N/A"}},{"$error":"#N/A"},{"$error":"#N/A"}]
[6300,39584.067435231394,1,120,{"$f":"10*LOG10('Path Considerations'!$C$5*'Path Considerations'!$F$47/4/PI()/('Path Considerations'!$F$4^2))","v":{"$error":"#N/A"}},{"$f":"IF('Baseline Data'!$C$4=\"Yes\",'Baseline Data'!H36,(D37+E37+'Path Considerations'!$B$5-'Path Considerations'!$G$5))","v":{"$error":"#N/A"}},{"$f":"'Room Improvements'!AG37","v":{"$error":"#DIV/0!"}},{"$f":"IF('Room Improvements'!$D$8=\"Yes\",G37,F37)","v":{"$error":"#N/A"}},{"$f":"'Barrier Effect'!H36","v":{"$error":"#N/A"}},{"$error":"#N/A"},{"$f":"'Sound Absorption Calculation'!AX37","v":{"$error":"#N/A"}},{"$f":"D37+10*LOG10('Path Considerations'!$N$5*'Path Considerations'!$F$43/4/PI()/('Path Considerations'!$Q$4)^2+4*EXP(-SQRT(2)/2*K37/(1-K37))/('Path Considerations'!$J$7*K37/(1-K37)))","v":{"$error":"#N/A"}},{"$f":"Transmissibility!U37","v":{"$error":"#N/A"}},{"$error":"#N/A"},{"$f":"20*LOG10(Transmissibility!$C$7*Transmissibility!$C$8*'Sound Level Calculation'!A37)-42","v":{"$error":"#NUM!"}},{"$f":"IF('Path Considerations'!$M$6=\"Single\",O37,N37)","v":{"$error":"#N/A"}},{"$f":"10*LOG10('Path Considerations'!$N$5*'Path Considerations'!$F$45/(4*PI()*'Path Considerations'!$Q$16^2))","v":{"$error":"#N/A"}},{"$error":"#N/A"},{"$error":"#N/A"},{"$error":"#N/A"},{"$f":"10*LOG10('Path Considerations'!$K$6/'Path Considerations'!$J$7)","v":{"$error":"#DIV/0!"}},{"$error":"#N/A"},{"$f":"'Sound Absorption Calculation'!CA37","v":false},{"$f":"10*LOG10('Path Considerations'!$K$10/('Path Considerations'!$J$13*W37/(1-W37)))","v":{"$error":"#DIV/0!"}},{"$f":"Transmissibility!AB37","v":false},{"$error":"#DIV/0!"},{"$f":"20*LOG10(Transmissibility!$C$11*Transmissibility!$C$12*'Sound Level Calculation'!A37)-42","v":{"$error":"#NUM!"}},{"$f":"IF('Path Considerations'!$M$12=\"Single\",AA37,Z37)","v":{"$error":"#DIV/0!"}},{"$f":"10*LOG10('Path Considerations'!$C$5*'Path Considerations'!$F$47/4/PI()/('Path Considerations'!$P$10^2))","v":{"$error":"#N/A"}},{"$f":"D37+AC37+'Path Considerations'!$B$5-'Path Considerations'!$G$5-AB37+X37","v":{"$error":"#N/A"}},{"$error":"#N/A"},{"$error":"#N/A"}]
[8000,50265.482457436687,1,120,{"$f":"10*LOG10('Path Considerations'!$C$5*'Path Considerations'!$F$47/4/PI()/('Path Considerations'!$F$4^2))","v":{"$error":"#N/A"}},{"$f":"IF('Baseline Data'!$C$4=\"Yes\",'Baseline Data'!H37,(D38+E38+'Path Considerations'!$B$5-'Path Considerations'!$G$5))","v":{"$error":"#N/A"}},{"$f":"'Room Improvements'!AG38","v":{"$error":"#DIV/0!"}},{"$f":"IF('Room Improvements'!$D$8=\"Yes\",G38,F38)","v":{"$error":"#N/A"}},{"$f":"'Barrier Effect'!H37","v":{"$error":"#N/A"}},{"$error":"#N/A"},{"$f":"'Sound Absorption Calculation'!AX38","v":{"$error":"#N/A"}},{"$f":"D38+10*LOG10('Path Considerations'!$N$5*'Path Considerations'!$F$43/4/PI()/('Path Considerations'!$Q$4)^2+4*EXP(-SQRT(2)/2*K38/(1-K38))/('Path Considerations'!$J$7*K38/(1-K38)))","v":{"$error":"#N/A"}},{"$f":"Transmissibility!U38","v":{"$error":"#N/A"}},{"$error":"#N/A"},{"$f":"20*LOG10(Transmissibility!$C$7*Transmissibility!$C$8*'Sound Level Calculation'!A38)-42","v":{"$error":"#NUM!"}},{"$f":"IF('Path Considerations'!$M$6=\"Single\",O38,N38)","v":{"$error":"#N/A"}},{"$f":"10*LOG10('Path Considerations'!$N$5*'Path Considerations'!$F$45/(4*PI()*'Path Considerations'!$Q$16^2))","v":{"$error":"#N/A"}},{"$error":"#N/A"},{"$error":"#N/A"},{"$error":"#N/A"},{"$f":"10*LOG10('Path Considerations'!$K$6/'Path Considerations'!$J$7)","v":{"$error":"#DIV/0!"}},{"$error":"#N/A"},{"$f":"'Sound Absorption Calculation'!CA38","v":false},{"$f":"10*LOG10('Path Considerations'!$K$10/('Path Considerations'!$J$13*W38/(1-W38)))","v":{"$error":"#DIV/0!"}},{"$f":"Transmissibility!AB38","v":false},{"$error":"#DIV/0!"},{"$f":"20*LOG10(Transmissibility!$C$11*Transmissibility!$C$12*'Sound Level Calculation'!A38)-42","v":{"$error":"#NUM!"}},{"$f":"IF('Path Considerations'!$M$12=\"Single\",AA38,Z38)","v":{"$error":"#DIV/0!"}},{"$f":"10*LOG10('Path Considerations'!$C$5*'Path Considerations'!$F$47/4/PI()/('Path Considerations'!$P$10^2))","v":{"$error":"#N/A"}},{"$f":"D38+AC38+'Path Considerations'!$B$5-'Path Considerations'!$G$5-AB38+X38","v":{"$error":"#N/A"}},{"$error":"#N/A"},{"$error":"#N/A"}]
[10000,62831.853071795864,1,120,{"$f":"10*LOG10('Path Considerations'!$C$5*'Path Considerations'!$F$47/4/PI()/('Path Considerations'!$F$4^2))","v":{"$error":"#N/A"}},{"$f":"IF('Baseline Data'!$C$4=\"Yes\",'Baseline Data'!H38,(D39+E39+'Path Considerations'!$B$5-'Path Considerations'!$G$5))","v":{"$error":"#N/A"}},{"$f":"'Room Improvements'!AG39","v":{"$error":"#DIV/0!"}},{"$f":"IF('Room Improvements'!$D$8=\"Yes\",G39,F39)","v":{"$error":"#N/A"}},{"$f":"'Barrier Effect'!H38","v":{"$error":"#N/A"}},{"$error":"#N/A"},{"$f":"'Sound Absorption Calculation'!AX39","v":{"$error":"#N/A"}},{"$f":"D39+10*LOG10('Path Considerations'!$N$5*'Path Considerations'!$F$43/4/PI()/('Path Considerations'!$Q$4)^2+4*EXP(-SQRT(2)/2*K39/(1-K39))/('Path Considerations'!$J$7*K39/(1-K39)))","v":{"$error":"#N/A"}},{"$f":"Transmissibility!U39","v":{"$error":"#N/A"}},{"$error":"#N/A"},{"$f":"20*LOG10(Transmissibility!$C$7*Transmissibility!$C$8*'Sound Level Calculation'!A39)-42","v":{"$error":"#NUM!"}},{"$f":"IF('Path Considerations'!$M$6=\"Single\",O39,N39)","v":{"$error":"#N/A"}},{"$f":"10*LOG10('Path Considerations'!$N$5*'Path Considerations'!$F$45/(4*PI()*'Path Considerations'!$Q$16^2))","v":{"$error":"#N/A"}},{"$error":"#N/A"},{"$error":"#N/A"},{"$error":"#N/A"},{"$f":"10*LOG10('Path Considerations'!$K$6/'Path Considerations'!$J$7)","v":{"$error":"#DIV/0!"}},{"$error":"#N/A"},{"$f":"'Sound Absorption Calculation'!CA39","v":false},{"$f":"10*LOG10('Path Considerations'!$K$10/('Path Considerations'!$J$13*W39/(1-W39)))","v":{"$error":"#DIV/0!"}},{"$f":"Transmissibility!AB39","v":false},{"$error":"#DIV/0!"},{"$f":"20*LOG10(Transmissibility!$C$11*Transmissibility!$C$12*'Sound Level Calculation'!A39)-42","v":{"$error":"#NUM!"}},{"$f":"IF('Path Considerations'!$M$12=\"Single\",AA39,Z39)","v":{"$error":"#DIV/0!"}},{"$f":"10*LOG10('Path Considerations'!$C$5*'Path Considerations'!$F$47/4/PI()/('Path Considerations'!$P$10^2))","v":{"$error":"#N/A"}},{"$f":"D39+AC39+'Path Considerations'!$B$5-'Path Considerations'!$G$5-AB39+X39","v":{"$error":"#N/A"}},{"$error":"#N/A"},{"$error":"#N/A"}]

{"sheet":"Path Considerations","index":3,"n_rows":55,"n_cols":20,"rows_kept":55,"cut":false,"hidden":false,"merged":[[22,3,22,4],[29,3,29,4],[35,3,35,4],[41,3,41,4],[2,3,2,4],[2,8,2,9],[2,14,2,15],[8,8,8,9],[8,14,8,15],[2,11,2,12],[8,11,8,12]]}
[]
[]
["SWL (in dBA)","Directivity","Source Symmetry","Source Dimensions",null,"Receiver Distance","Shielding",null,"Source Enclosure Dimensions",null," Percentage of Enclosure that’s Open (in %)","Source Enclosure Environment",null,"Source Enclosure Symmetry","Source Enclosure Properties",null,"rse Distance From Source to Enclosure (in m)","Source Enclosure Absorption Model (Fibre/Foam)",null,"Source Enclosure Absorption Model (MPP)"]
[null,null,null,"Length (in m)",null,null,null,null,"Length (in m)",null,0,null,null,null,null,null,null,"Material flow resistivity (R)",{"$f":"VLOOKUP(S19,A24:B46,2,FALSE)","v":{"$error":"#N/A"}},"Viscosity of medium (η)"]
[null,{"$f":"VLOOKUP(B4,D31:E33,2,FALSE)","v":{"$error":"#N/A"}},{"$f":"VLOOKUP(C4,D24:E27,2,FALSE)","v":{"$error":"#N/A"}},"Width (in m)",null,null,{"$f":"VLOOKUP(G4,D37:E39,2,FALSE)","v":{"$error":"#N/A"}},null,"Width (in m)",null,"Open Enclosure area","Number of Absorption Materials","Single",{"$f":"VLOOKUP(N4,D24:E27,2,FALSE)","v":{"$error":"#N/A"}},null,null,null,"Absorption material specimen thickness  (in m)",null,"Hole Diameter (d)"]
[null,null,null,"Height (in m)",null,null,null,null,"Height (in m)",null,{"$f":"(K4*J7/100)","v":0},"Number of Enclosure Materials",null,null,null,null,null,"Mass Density (ρ)",null,"Thickness (t)"]
[null,null,null,null,null,null,null,null,"Enclosure Surface Area (in m2)",{"$f":"2*(J4*J5+J5*J6+J6*J4)","v":0},"Single Absorption Material Area (in m2)",null,null,null,null,null,null,"Speed of Sound (c)",null,"Porosity (σ)"]
[null,null,null,null,null,null,null,null,"Enclosure Absorption Effective Surface Area (in m2)",{"$f":"IF(M5=\"Single\",K8,J7)","v":0},null,null,null,null,null,null,null,"Modeling Approach",null,"Cavity Depth"]
[null,"Source Lagging (%)",null,null,null,null,null,null,"Receiver Enclosure Dimensions",null,"Partition Panel Area (in m2)","Receiver Enclosure Environment",null,null,"Receiver Enclosure Properties",null,null,"Receiver Enclosure Absorption Model (Fibre/Foam)",null,"Receiver Enclosure Absorption Model (MPP)"]
[null,0,null,null,null,null,null,null,"Length (in m)",null,{"$f":"Transmissibility!I20","v":0},null,null,null,"Source to Enclosure Wall (in m)",null,null,"Material flow resistivity (R)",{"$f":"VLOOKUP(S20,A24:B46,2,FALSE)","v":{"$error":"#N/A"}},"Viscosity of medium (η)"]
[null,null,null,null,null,null,null,null,"Width (in m)",null,null,"Number of Absorption Materials","Multiple",null,null,null,null,"Absorption material specimen thickness  (in m)",null,"Hole Diameter (d)"]
[null,null,null,null,null,null,null,null,"Height (in m)",null,null,"Number of Enclosure Materials","Multiple",null,null,null,null,"Mass Density (ρ)",null,"Thickness (t)"]
[null,null,null,null,null,null,null,null,"Enclosure Surface Area (in m2)",{"$f":"2*(J10+J11+J12)","v":0},"Single Absorption Material Area (in m2)",null,null,null,null,null,null,"Speed of Sound (c)",null,"Porosity (σ)"]
[null,null,null,null,null,null,null,null,"Enclosure Absorption Effective Surface Area (in m2)",{"$f":"IF(M11=\"Single\",K14,J13)","v":0},null,null,null,null,null,null,null,"Modeling Approach",null,"Cavity Depth"]
[null,null,null,null,null,null,null,null,null,null,null,null,null,null,null,null,"rer , ror Distance From Enclosure to Receiver (in m)"]
[]
[]
[null,null,null,null,null,null,null,null,null,null,null,null,null,null,null,null,null,null,null,"Absorption Type"]
[null,null,null,null,null,null,null,null,null,null,null,null,null,null,null,null,null,"Source Absorption Material"]
[null,null,null,null,null,null,null,null,null,null,null,null,null,null,null,null,null,"Receiver Absorption Material"]
[]
[]
["Absorption Material","Flow Resistivity (rayls/m)",null,"Symmetry Surface"]
["Glasswool (Fibrous) - CVG",2475,null,"Free Field",1]
["Glasswool (Fibrous) - Harley",1347,null,"1 Symmetry Surface",2]
["Polyurethane (Foam) - LAB",2097,null,"2 Symmetry Surfaces",4]
["Glassfiber (Fibrous) - CVG",57594,null,"3 Symmetry Surfaces",8]
["Polyester (Foam) - CVG",11904]
["Polyester (Foam) - LAB",18828]
["Melamine (Foam) - CVG",7745,null,"Directivity Index dB"]
["Polymide (Foam) - LAB",10495,null,"Upwards",0]
["Miscellaneous Foam - LAB",4857,null,"Towards Receiver/Operator",4]
["OtherS",null,null,"Opposite to Receiver/Operator",-4]
["OtherSP1",{"$f":"'Multiple Absorption'!D20","v":0}]
["OtherSP2",{"$f":"'Multiple Absorption'!D28","v":0}]
["OtherSP3",{"$f":"'Multiple Absorption'!D33","v":0},null,"Source Shielding dB"]
["OtherSP4",{"$f":"'Multiple Absorption'!D38","v":0},null,"No Shielding",0]
["OtherSP5",{"$f":"'Multiple Absorption'!D43","v":0},null,"Partially Shielded",5]
["OtherSP6",{"$f":"'Multiple Absorption'!D48","v":0},null,"Fully Shielded",8]
["OtherR"]
["OtherRP1",{"$f":"'Multiple Absorption'!D54","v":0}]
["OtherRP2",{"$f":"'Multiple Absorption'!D61","v":0},null,"Near Field Effect"]
["OtherRP3",{"$f":"'Multiple Absorption'!D66","v":0},null,"rse/lsmax<2",{"$f":"2.5+1.5*COS(PI()/2*Q4/E4)","v":{"$error":"#DIV/0!"}},{"$f":"IF((Q4/E4)<2,E43,E44)","v":{"$error":"#DIV/0!"}}]
["OtherRP4",{"$f":"'Multiple Absorption'!D71","v":0},null,"rse/lsmax>2",1]
["OtherRP5",{"$f":"'Multiple Absorption'!D76","v":0},null,"rer/lemax<2",{"$f":"2.5+1.5*COS(PI()/2*Q16/J4)","v":{"$error":"#DIV/0!"}},{"$f":"IF((Q16/J4)<2,E45,E46)","v":{"$error":"#DIV/0!"}}]
["OtherRP6",{"$f":"'Multiple Absorption'!D81","v":0},null,"rer/lemax>2",1]
[null,null,null,"r/lmax<2",{"$f":"2.5+1.5*COS(PI()/2*F4/E4)","v":{"$error":"#DIV/0!"}},{"$f":"IF((F4/E4)<2,E47,E48)","v":{"$error":"#DIV/0!"}}]
["Enclosure Material","Density (in kg/m3)",null,"r/lmax>2",1]
["Brick / Hard-Floor",2300]
["Plaster / Gypsum (or) Lime",2960]
["Glass",2600]
["Carpet 5mm thick on hard floor",2095,"Ref: CRI (Carpet and Rug Institute) - Commercial Environment usage requirements (~190 kg/m3)","https://carpet-rug.org/"]
["Acoustic Plaster Wall 10mm thick sprayed on solid wall",850]
["13mm Mineral tile direct fixed to floor slab",350]
["Ordinary Window",500]

{"sheet":"Barrier Effect","index":4,"n_rows":38,"n_cols":8,"rows_kept":38,"cut":false,"hidden":false,"merged":[]}
[null,null,null,null,"f (Hz)","λ (m)","Maximum Fresnel Number","Delta SPL"]
[null,null,null,null,2.5,{"$f":"$B$13/E2","v":137.19999999999999},{"$f":"2*($B$3+$B$4-$B$5)/F2","v":5.830903790087464E-2},{"$f":"$B$8+20*LOG10((SQRT(2*PI()*G2))/(TANH(2*PI()*G2)))","v":{"$error":"#N/A"}}]
["Distance between Source and Barrier (in m)",2,null,null,3.15,{"$f":"$B$13/E3","v":108.88888888888889},{"$f":"2*($B$3+$B$4-$B$5)/F3","v":7.3469387755102047E-2},{"$f":"$B$8+20*LOG10((SQRT(2*PI()*G3))/(TANH(2*PI()*G3)))","v":{"$error":"#N/A"}}]
["Distance between Barrier and Receiver (in m)",2,null,null,4,85.75,9.3294460641399415E-2,{"$error":"#N/A"}]
["Distance between Source and Receiver (in m)",{"$f":"'Path Considerations'!F4","v":0},null,null,5,68.599999999999994,0.11661807580174928,{"$error":"#N/A"}]
[null,null,null,null,6.3,54.444444444444443,0.14693877551020409,{"$error":"#N/A"}]
["Type of Barrier",null,null,null,8,42.875,0.18658892128279883,{"$error":"#N/A"}]
["Barrier Constant",{"$f":"VLOOKUP(B7,B10:C11,2,FALSE)","v":{"$error":"#N/A"}},null,null,10,34.299999999999997,0.23323615160349856,{"$error":"#N/A"}]
[null,null,"dB",null,12.5,27.44,0.29154518950437314,{"$error":"#N/A"}]
[null,"Wall",5,null,16,21.4375,0.37317784256559766,{"$error":"#N/A"}]
[null,"Berm",8,null,20,17.149999999999999,0.46647230320699712,{"$error":"#N/A"}]
[null,null,null,null,25,13.72,0.58309037900874627,{"$error":"#N/A"}]
["Speed of Sound (c)  ",343,null,null,31.5,10.888888888888889,0.73469387755102034,{"$error":"#N/A"}]
[null,null,null,null,40,8.5749999999999993,0.93294460641399424,{"$error":"#N/A"}]
[null,null,null,null,50,6.86,1.1661807580174925,{"$error":"#N/A"}]
[null,null,null,null,63,5.4444444444444446,1.4693877551020407,{"$error":"#N/A"}]
[null,null,null,null,80,4.2874999999999996,1.8658892128279885,{"$error":"#N/A"}]
[null,null,null,null,100,3.43,2.3323615160349851,{"$error":"#N/A"}]
[null,null,null,null,125,2.7440000000000002,2.9154518950437316,{"$error":"#N/A"}]
[null,null,null,null,160,2.1437499999999998,3.7317784256559769,{"$error":"#N/A"}]
[null,null,null,null,200,1.7150000000000001,4.6647230320699702,{"$error":"#N/A"}]
[null,null,null,null,250,1.3720000000000001,5.8309037900874632,{"$error":"#N/A"}]
[null,null,null,null,315,1.0888888888888888,7.3469387755102051,{"$error":"#N/A"}]
[null,null,null,null,400,0.85750000000000004,9.3294460641399404,{"$error":"#N/A"}]
[null,null,null,null,500,0.68600000000000005,11.661807580174926,{"$error":"#N/A"}]
[null,null,null,null,630,0.5444444444444444,14.69387755102041,{"$error":"#N/A"}]
[null,null,null,null,800,0.42875000000000002,18.658892128279881,{"$error":"#N/A"}]
[null,null,null,null,1000,0.34300000000000003,23.323615160349853,{"$error":"#N/A"}]
[null,null,null,null,1250,0.27439999999999998,29.154518950437321,{"$error":"#N/A"}]
[null,null,null,null,1600,0.21437500000000001,37.317784256559762,{"$error":"#N/A"}]
[null,null,null,null,2000,0.17150000000000001,46.647230320699705,{"$error":"#N/A"}]
[null,null,null,null,2500,0.13719999999999999,58.309037900874642,{"$error":"#N/A"}]
[null,null,null,null,3150,0.10888888888888888,73.469387755102048,{"$error":"#N/A"}]
[null,null,null,null,4000,8.5750000000000007E-2,93.294460641399411,{"$error":"#N/A"}]
[null,null,null,null,5000,6.8599999999999994E-2,116.61807580174928,{"$error":"#N/A"}]
[null,null,null,null,6300,5.4444444444444441E-2,146.9387755102041,{"$error":"#N/A"}]
[null,null,null,null,8000,4.2875000000000003E-2,186.58892128279882,{"$error":"#N/A"}]
[null,null,null,null,10000,3.4299999999999997E-2,233.23615160349857,{"$error":"#N/A"}]

{"sheet":"Room Improvements","index":5,"n_rows":39,"n_cols":33,"rows_kept":39,"cut":false,"hidden":false,"merged":[[0,0,0,1]]}
["Source Dimensions",null,"Absorption Co-efficient of Untreated Room","Absorption Co-efficient of Treatment Material",null,null,null,null,null,null,null,"Input Alpha","Ceiling","1 Side Wall along Length","2 Side Walls along Length","1 Side Wall along Width","2 Side Walls along Width","1 Side Wall along Length + 1 Side Wall along Width","2 Side Walls along Length + 1 Side Wall along Width","2 Side Walls along Width + 1 Side Wall along Length","All Walls","Ceiling + 1 Side Wall along Length","Ceiling + 2 Side Walls along Length","Ceiling + 1 Side Wall along Width","Ceiling + 2 Side Walls along Width","Ceiling + 1 Side Wall along Length + 1 Side Wall along Width","Ceiling + 2 Side Walls along Length + 1 Side Wall along Width","Ceiling + 2 Side Walls along Width + 1 Side Wall along Length","Ceiling + All Walls ","Custom Absorption Calculation","Final Selection"]
["Length (in m)",null,null,null,null,"f (Hz)","ω (rad/sec)","Baseline SPL","Total SWL","Modified SPL",null,"α","Effective α","Effective α","Effective α","Effective α","Effective α","Effective α","Effective α","Effective α","Effective α","Effective α","Effective α","Effective α","Effective α","Effective α","Effective α","Effective α","Effective α","Effective α","Effective α","Rr","Modified SPL"]
["Width (in m)",null,null,null,null,2.5,{"$f":"2*PI()*F3","v":15.707963267948966},120,{"$f":"H3-10*LOG10(4/$C$2/$B$5*(1-$C$2))","v":{"$error":"#DIV/0!"}},{"$f":"I3+10*LOG10(4/$C$8)","v":{"$error":"#DIV/0!"}},null,-9.9999999999766942E-5,{"$f":"$C$2+(L3*$B$2*$B$3/$B$5)","v":{"$error":"#DIV/0!"}},{"$f":"$C$2+(L3*$B$2*$B$4/$B$5)","v":{"$error":"#DIV/0!"}},{"$f":"$C$2+(L3*2*$B$2*$B$4/$B$5)","v":{"$error":"#DIV/0!"}},{"$f":"$C$2+(L3*$B$3*$B$4/$B$5)","v":{"$error":"#DIV/0!"}},{"$f":"$C$2+(L3*2*$B$3*$B$4/$B$5)","v":{"$error":"#DIV/0!"}},{"$f":"$C$2+(L3*(($B$2*$B$4)+($B$3*$B$4))/$B$5)","v":{"$error":"#DIV/0!"}},{"$f":"$C$2+(L3*((2*$B$2*$B$4)+($B$3*$B$4))/$B$5)","v":{"$error":"#DIV/0!"}},{"$f":"$C$2+(L3*(($B$2*$B$4)+(2*$B$3*$B$4))/$B$5)","v":{"$error":"#DIV/0!"}},{"$f":"$C$2+(L3*((2*$B$2*$B$4)+(2*$B$3*$B$4))/$B$5)","v":{"$error":"#DIV/0!"}},{"$f":"$C$2+(L3*(($B$2*$B$3)+($B$2*$B$4))/$B$5)","v":{"$error":"#DIV/0!"}},{"$f":"$C$2+(L3*(($B$2*$B$3)+(2*$B$2*$B$4))/$B$5)","v":{"$error":"#DIV/0!"}},{"$f":"$C$2+(L3*(($B$2*$B$3)+($B$3*$B$4))/$B$5)","v":{"$error":"#DIV/0!"}},{"$f":"$C$2+(L3*(($B$2*$B$3)+(2*$B$3*$B$4))/$B$5)","v":{"$error":"#DIV/0!"}},{"$f":"$C$2+(L3*(($B$2*$B$3)+($B$2*$B$4)+($B$3*$B$4))/$B$5)","v":{"$error":"#DIV/0!"}},{"$f":"$C$2+(L3*(($B$2*$B$3)+(2*$B$2*$B$4)+($B$3*$B$4))/$B$5)","v":{"$error":"#DIV/0!"}},{"$f":"$C$2+(L3*(($B$2*$B$3)+($B$2*$B$4)+(2*$B$3*$B$4))/$B$5)","v":{"$error":"#DIV/0!"}},{"$f":"$C$2+(L3*(($B$2*$B$3)+(2*$B$2*$B$4)+(2*$B$3*$B$4))/$B$5)","v":{"$error":"#DIV/0!"}},{"$f":"$C$2+(L3*$B$6/$B$5)","v":{"$error":"#DIV/0!"}},{"$f":"IF($A$8=\"Ceiling\",M3,IF($A$8=\"1 Side Wall along Length\",N3,IF($A$8=\"2 Side Walls along Length\",O3,IF($A$8=\"1 Side Wall along Width\",P3,IF($A$8=\"2 Side Walls along Width\",Q3,IF($A$8=\"1 Side Wall along Length + 1 Side Wall along Width\",R3,IF($A$8=\"2 Side Walls along Length + 1 Side Wall along Width\",S3,IF($A$8=\"2 Side Walls along Width + 1 Side Wall along Length\",T3,IF($A$8=\"All Walls\",U3,IF($A$8=\"Ceiling + 1 Side Wall along Length\",V3,IF($A$8=\"Ceiling + 2 Side Walls along Length\",W3,IF($A$8=\"Ceiling + 1 Side Wall along Width\",X3,IF($A$8=\"Ceiling + 2 Side Walls along Width\",Y3,IF($A$8=\"Ceiling + 1 Side Wall along Length + 1 Side Wall along Width\",Z3,IF($A$8=\"Ceiling + 2 Side Walls along Length + 1 Side Wall along Width\",AA3,IF($A$8=\"Ceiling + 1 Side Wall along Length + 2 Side Walls along Width\",AB3,IF($A$8=\"Ceiling + All Walls\",AC3,AD3)))))))))))))))))","v":{"$error":"#DIV/0!"}},{"$f":"$B$5*AE3/(1-AE3)","v":{"$error":"#DIV/0!"}},{"$f":"I3+10*LOG10(4/AF3)","v":{"$error":"#DIV/0!"}}]
["Height (in m)",null,null,null,null,3.15,{"$f":"2*PI()*F4","v":19.792033717615695},120,{"$f":"H4-10*LOG10(4/$C$2/$B$5*(1-$C$2))","v":{"$error":"#DIV/0!"}},{"$f":"I4+10*LOG10(4/$C$8)","v":{"$error":"#DIV/0!"}},null,-9.9999999999766942E-5,{"$f":"$C$2+(L4*$B$2*$B$3/$B$5)","v":{"$error":"#DIV/0!"}},{"$f":"$C$2+(L4*$B$2*$B$4/$B$5)","v":{"$error":"#DIV/0!"}},{"$f":"$C$2+(L4*2*$B$2*$B$4/$B$5)","v":{"$error":"#DIV/0!"}},{"$f":"$C$2+(L4*$B$3*$B$4/$B$5)","v":{"$error":"#DIV/0!"}},{"$f":"$C$2+(L4*2*$B$3*$B$4/$B$5)","v":{"$error":"#DIV/0!"}},{"$f":"$C$2+(L4*(($B$2*$B$4)+($B$3*$B$4))/$B$5)","v":{"$error":"#DIV/0!"}},{"$f":"$C$2+(L4*((2*$B$2*$B$4)+($B$3*$B$4))/$B$5)","v":{"$error":"#DIV/0!"}},{"$f":"$C$2+(L4*(($B$2*$B$4)+(2*$B$3*$B$4))/$B$5)","v":{"$error":"#DIV/0!"}},{"$f":"$C$2+(L4*((2*$B$2*$B$4)+(2*$B$3*$B$4))/$B$5)","v":{"$error":"#DIV/0!"}},{"$f":"$C$2+(L4*(($B$2*$B$3)+($B$2*$B$4))/$B$5)","v":{"$error":"#DIV/0!"}},{"$f":"$C$2+(L4*(($B$2*$B$3)+(2*$B$2*$B$4))/$B$5)","v":{"$error":"#DIV/0!"}},{"$f":"$C$2+(L4*(($B$2*$B$3)+($B$3*$B$4))/$B$5)","v":{"$error":"#DIV/0!"}},{"$f":"$C$2+(L4*(($B$2*$B$3)+(2*$B$3*$B$4))/$B$5)","v":{"$error":"#DIV/0!"}},{"$f":"$C$2+(L4*(($B$2*$B$3)+($B$2*$B$4)+($B$3*$B$4))/$B$5)","v":{"$error":"#DIV/0!"}},{"$f":"$C$2+(L4*(($B$2*$B$3)+(2*$B$2*$B$4)+($B$3*$B$4))/$B$5)","v":{"$error":"#DIV/0!"}},{"$f":"$C$2+(L4*(($B$2*$B$3)+($B$2*$B$4)+(2*$B$3*$B$4))/$B$5)","v":{"$error":"#DIV/0!"}},{"$f":"$C$2+(L4*(($B$2*$B$3)+(2*$B$2*$B$4)+(2*$B$3*$B$4))/$B$5)","v":{"$error":"#DIV/0!"}},{"$f":"$C$2+(L4*$B$6/$B$5)","v":{"$error":"#DIV/0!"}},{"$f":"IF($A$8=\"Ceiling\",M4,IF($A$8=\"1 Side Wall along Length\",N4,IF($A$8=\"2 Side Walls along Length\",O4,IF($A$8=\"1 Side Wall along Width\",P4,IF($A$8=\"2 Side Walls along Width\",Q4,IF($A$8=\"1 Side Wall along Length + 1 Side Wall along Width\",R4,IF($A$8=\"2 Side Walls along Length + 1 Side Wall along Width\",S4,IF($A$8=\"2 Side Walls along Width + 1 Side Wall along Length\",T4,IF($A$8=\"All Walls\",U4,IF($A$8=\"Ceiling + 1 Side Wall along Length\",V4,IF($A$8=\"Ceiling + 2 Side Walls along Length\",W4,IF($A$8=\"Ceiling + 1 Side Wall along Width\",X4,IF($A$8=\"Ceiling + 2 Side Walls along Width\",Y4,IF($A$8=\"Ceiling + 1 Side Wall along Length + 1 Side Wall along Width\",Z4,IF($A$8=\"Ceiling + 2 Side Walls along Length + 1 Side Wall along Width\",AA4,IF($A$8=\"Ceiling + 1 Side Wall along Length + 2 Side Walls along Width\",AB4,IF($A$8=\"Ceiling + All Walls\",AC4,AD4)))))))))))))))))","v":{"$error":"#DIV/0!"}},{"$f":"$B$5*AE4/(1-AE4)","v":{"$error":"#DIV/0!"}},{"$error":"#DIV/0!"}]
["Total Surface Area (m2)",{"$f":"2*((B2*B3)+(B3*B4)+(B2*B4))","v":0},null,null,null,4,25.132741228718345,120,{"$error":"#DIV/0!"},{"$error":"#DIV/0!"},null,-9.9999999999766942E-5,{"$error":"#DIV/0!"},{"$error":"#DIV/0!"},{"$error":"#DIV/0!"},{"$error":"#DIV/0!"},{"$error":"#DIV/0!"},{"$error":"#DIV/0!"},{"$error":"#DIV/0!"},{"$error":"#DIV/0!"},{"$error":"#DIV/0!"},{"$error":"#DIV/0!"},{"$error":"#DIV/0!"},{"$error":"#DIV/0!"},{"$error":"#DIV/0!"},{"$error":"#DIV/0!"},{"$error":"#DIV/0!"},{"$error":"#DIV/0!"},{"$error":"#DIV/0!"},{"$error":"#DIV/0!"},{"$error":"#DIV/0!"},{"$error":"#DIV/0!"},{"$error":"#DIV/0!"}]
["Custom Treatment Surface Area (m2)",null,null,null,null,5,31.415926535897931,120,{"$error":"#DIV/0!"},{"$error":"#DIV/0!"},null,-9.9999999999766942E-5,{"$error":"#DIV/0!"},{"$error":"#DIV/0!"},{"$error":"#DIV/0!"},{"$error":"#DIV/0!"},{"$error":"#DIV/0!"},{"$error":"#DIV/0!"},{"$error":"#DIV/0!"},{"$error":"#DIV/0!"},{"$error":"#DIV/0!"},{"$error":"#DIV/0!"},{"$error":"#DIV/0!"},{"$error":"#DIV/0!"},{"$error":"#DIV/0!"},{"$error":"#DIV/0!"},{"$error":"#DIV/0!"},{"$error":"#DIV/0!"},{"$error":"#DIV/0!"},{"$error":"#DIV/0!"},{"$error":"#DIV/0!"},{"$error":"#DIV/0!"},{"$error":"#DIV/0!"}]
["Selection",null,"Rr","Room Improvements?",null,6.3,39.58406743523139,120,{"$error":"#DIV/0!"},{"$error":"#DIV/0!"},null,-3.999999999997339E-4,{"$error":"#DIV/0!"},{"$error":"#DIV/0!"},{"$error":"#DIV/0!"},{"$error":"#DIV/0!"},{"$error":"#DIV/0!"},{"$error":"#DIV/0!"},{"$error":"#DIV/0!"},{"$error":"#DIV/0!"},{"$error":"#DIV/0!"},{"$error":"#DIV/0!"},{"$error":"#DIV/0!"},{"$error":"#DIV/0!"},{"$error":"#DIV/0!"},{"$error":"#DIV/0!"},{"$error":"#DIV/0!"},{"$error":"#DIV/0!"},{"$error":"#DIV/0!"},{"$error":"#DIV/0!"},{"$error":"#DIV/0!"},{"$error":"#DIV/0!"},{"$error":"#DIV/0!"}]
[null,{"$f":"VLOOKUP(A8,A10:B26,2,FALSE)","v":{"$error":"#N/A"}},{"$f":"B5*B8/(1-B8)","v":{"$error":"#N/A"}},null,null,8,50.26548245743669,120,{"$error":"#DIV/0!"},{"$error":"#DIV/0!"},null,-3.999999999997339E-4,{"$error":"#DIV/0!"},{"$error":"#DIV/0!"},{"$error":"#DIV/0!"},{"$error":"#DIV/0!"},{"$error":"#DIV/0!"},{"$error":"#DIV/0!"},{"$error":"#DIV/0!"},{"$error":"#DIV/0!"},{"$error":"#DIV/0!"},{"$error":"#DIV/0!"},{"$error":"#DIV/0!"},{"$error":"#DIV/0!"},{"$error":"#DIV/0!"},{"$error":"#DIV/0!"},{"$error":"#DIV/0!"},{"$error":"#DIV/0!"},{"$error":"#DIV/0!"},{"$error":"#DIV/0!"},{"$error":"#DIV/0!"},{"$error":"#DIV/0!"},{"$error":"#DIV/0!"}]
[null,null,null,null,null,10,62.831853071795862,120,{"$error":"#DIV/0!"},{"$error":"#DIV/0!"},null,-8.9999999999990088E-4,{"$error":"#DIV/0!"},{"$error":"#DIV/0!"},{"$error":"#DIV/0!"},{"$error":"#DIV/0!"},{"$error":"#DIV/0!"},{"$error":"#DIV/0!"},{"$error":"#DIV/0!"},{"$error":"#DIV/0!"},{"$error":"#DIV/0!"},{"$error":"#DIV/0!"},{"$error":"#DIV/0!"},{"$error":"#DIV/0!"},{"$error":"#DIV/0!"},{"$error":"#DIV/0!"},{"$error":"#DIV/0!"},{"$error":"#DIV/0!"},{"$error":"#DIV/0!"},{"$error":"#DIV/0!"},{"$error":"#DIV/0!"},{"$error":"#DIV/0!"},{"$error":"#DIV/0!"}]
["Ceiling",{"$f":"C2+(D2*B2*B3/B5)","v":{"$error":"#DIV/0!"}},null,null,null,12.5,78.539816339744831,120,{"$error":"#DIV/0!"},{"$error":"#DIV/0!"},null,-1.6000000000002679E-3,{"$error":"#DIV/0!"},{"$error":"#DIV/0!"},{"$error":"#DIV/0!"},{"$error":"#DIV/0!"},{"$error":"#DIV/0!"},{"$error":"#DIV/0!"},{"$error":"#DIV/0!"},{"$error":"#DIV/0!"},{"$error":"#DIV/0!"},{"$error":"#DIV/0!"},{"$error":"#DIV/0!"},{"$error":"#DIV/0!"},{"$error":"#DIV/0!"},{"$error":"#DIV/0!"},{"$error":"#DIV/0!"},{"$error":"#DIV/0!"},{"$error":"#DIV/0!"},{"$error":"#DIV/0!"},{"$error":"#DIV/0!"},{"$error":"#DIV/0!"},{"$error":"#DIV/0!"}]
["1 Side Wall along Length",{"$f":"C2+(D2*B2*B4/B5)","v":{"$error":"#DIV/0!"}},null,null,null,16,100.53096491487338,120,{"$error":"#DIV/0!"},{"$error":"#DIV/0!"},null,-2.5000000000001688E-3,{"$error":"#DIV/0!"},{"$error":"#DIV/0!"},{"$error":"#DIV/0!"},{"$error":"#DIV/0!"},{"$error":"#DIV/0!"},{"$error":"#DIV/0!"},{"$error":"#DIV/0!"},{"$error":"#DIV/0!"},{"$error":"#DIV/0!"},{"$error":"#DIV/0!"},{"$error":"#DIV/0!"},{"$error":"#DIV/0!"},{"$error":"#DIV/0!"},{"$error":"#DIV/0!"},{"$error":"#DIV/0!"},{"$error":"#DIV/0!"},{"$error":"#DIV/0!"},{"$error":"#DIV/0!"},{"$error":"#DIV/0!"},{"$error":"#DIV/0!"},{"$error":"#DIV/0!"}]
["2 Side Walls along Length",{"$f":"C2+(D2*2*B2*B4/B5)","v":{"$error":"#DIV/0!"}},null,null,null,20,125.66370614359172,120,{"$error":"#DIV/0!"},{"$error":"#DIV/0!"},null,-4.9000000000001265E-3,{"$error":"#DIV/0!"},{"$error":"#DIV/0!"},{"$error":"#DIV/0!"},{"$error":"#DIV/0!"},{"$error":"#DIV/0!"},{"$error":"#DIV/0!"},{"$error":"#DIV/0!"},{"$error":"#DIV/0!"},{"$error":"#DIV/0!"},{"$error":"#DIV/0!"},{"$error":"#DIV/0!"},{"$error":"#DIV/0!"},{"$error":"#DIV/0!"},{"$error":"#DIV/0!"},{"$error":"#DIV/0!"},{"$error":"#DIV/0!"},{"$error":"#DIV/0!"},{"$error":"#DIV/0!"},{"$error":"#DIV/0!"},{"$error":"#DIV/0!"},{"$error":"#DIV/0!"}]
["1 Side Wall along Width",{"$f":"C2+(D2*B3*B4/B5)","v":{"$error":"#DIV/0!"}},null,null,null,25,157.07963267948966,120,{"$error":"#DIV/0!"},{"$error":"#DIV/0!"},null,-6.4000000000001833E-3,{"$error":"#DIV/0!"},{"$error":"#DIV/0!"},{"$error":"#DIV/0!"},{"$error":"#DIV/0!"},{"$error":"#DIV/0!"},{"$error":"#DIV/0!"},{"$error":"#DIV/0!"},{"$error":"#DIV/0!"},{"$error":"#DIV/0!"},{"$error":"#DIV/0!"},{"$error":"#DIV/0!"},{"$error":"#DIV/0!"},{"$error":"#DIV/0!"},{"$error":"#DIV/0!"},{"$error":"#DIV/0!"},{"$error":"#DIV/0!"},{"$error":"#DIV/0!"},{"$error":"#DIV/0!"},{"$error":"#DIV/0!"},{"$error":"#DIV/0!"},{"$error":"#DIV/0!"}]
["2 Side Walls along Width",{"$f":"C2+(D2*2*B3*B4/B5)","v":{"$error":"#DIV/0!"}},null,null,null,31.5,197.92033717615698,120,{"$error":"#DIV/0!"},{"$error":"#DIV/0!"},null,7.8000000000000291E-3,{"$error":"#DIV/0!"},{"$error":"#DIV/0!"},{"$error":"#DIV/0!"},{"$error":"#DIV/0!"},{"$error":"#DIV/0!"},{"$error":"#DIV/0!"},{"$error":"#DIV/0!"},{"$error":"#DIV/0!"},{"$error":"#DIV/0!"},{"$error":"#DIV/0!"},{"$error":"#DIV/0!"},{"$error":"#DIV/0!"},{"$error":"#DIV/0!"},{"$error":"#DIV/0!"},{"$error":"#DIV/0!"},{"$error":"#DIV/0!"},{"$error":"#DIV/0!"},{"$error":"#DIV/0!"},{"$error":"#DIV/0!"},{"$error":"#DIV/0!"},{"$error":"#DIV/0!"}]
["1 Side Wall along Length + 1 Side Wall along Width",{"$f":"B11+B13","v":{"$error":"#DIV/0!"}},null,null,null,40,251.32741228718345,120,{"$error":"#DIV/0!"},{"$error":"#DIV/0!"},null,2.9999999999974492E-4,{"$error":"#DIV/0!"},{"$error":"#DIV/0!"},{"$error":"#DIV/0!"},{"$error":"#DIV/0!"},{"$error":"#DIV/0!"},{"$error":"#DIV/0!"},{"$error":"#DIV/0!"},{"$error":"#DIV/0!"},{"$error":"#DIV/0!"},{"$error":"#DIV/0!"},{"$error":"#DIV/0!"},{"$error":"#DIV/0!"},{"$error":"#DIV/0!"},{"$error":"#DIV/0!"},{"$error":"#DIV/0!"},{"$error":"#DIV/0!"},{"$error":"#DIV/0!"},{"$error":"#DIV/0!"},{"$error":"#DIV/0!"},{"$error":"#DIV/0!"},{"$error":"#DIV/0!"}]
["2 Side Walls along Length + 1 Side Wall along Width",{"$f":"B12+B13","v":{"$error":"#DIV/0!"}},null,null,null,50,314.15926535897933,120,{"$error":"#DIV/0!"},{"$error":"#DIV/0!"},null,1.0700000000000043E-2,{"$error":"#DIV/0!"},{"$error":"#DIV/0!"},{"$error":"#DIV/0!"},{"$error":"#DIV/0!"},{"$error":"#DIV/0!"},{"$error":"#DIV/0!"},{"$error":"#DIV/0!"},{"$error":"#DIV/0!"},{"$error":"#DIV/0!"},{"$error":"#DIV/0!"},{"$error":"#DIV/0!"},{"$error":"#DIV/0!"},{"$error":"#DIV/0!"},{"$error":"#DIV/0!"},{"$error":"#DIV/0!"},{"$error":"#DIV/0!"},{"$error":"#DIV/0!"},{"$error":"#DIV/0!"},{"$error":"#DIV/0!"},{"$error":"#DIV/0!"},{"$error":"#DIV/0!"}]
["2 Side Walls along Width + 1 Side Wall along Length",{"$f":"B14+B11","v":{"$error":"#DIV/0!"}},null,null,null,63,395.84067435231395,120,{"$error":"#DIV/0!"},{"$error":"#DIV/0!"},null,3.430000000000033E-2,{"$error":"#DIV/0!"},{"$error":"#DIV/0!"},{"$error":"#DIV/0!"},{"$error":"#DIV/0!"},{"$error":"#DIV/0!"},{"$error":"#DIV/0!"},{"$error":"#DIV/0!"},{"$error":"#DIV/0!"},{"$error":"#DIV/0!"},{"$error":"#DIV/0!"},{"$error":"#DIV/0!"},{"$error":"#DIV/0!"},{"$error":"#DIV/0!"},{"$error":"#DIV/0!"},{"$error":"#DIV/0!"},{"$error":"#DIV/0!"},{"$error":"#DIV/0!"},{"$error":"#DIV/0!"},{"$error":"#DIV/0!"},{"$error":"#DIV/0!"},{"$error":"#DIV/0!"}]
["All Walls",{"$f":"B12+B14","v":{"$error":"#DIV/0!"}},null,null,null,80,502.6548245743669,120,{"$error":"#DIV/0!"},{"$error":"#DIV/0!"},null,4.8800000000000066E-2,{"$error":"#DIV/0!"},{"$error":"#DIV/0!"},{"$error":"#DIV/0!"},{"$error":"#DIV/0!"},{"$error":"#DIV/0!"},{"$error":"#DIV/0!"},{"$error":"#DIV/0!"},{"$error":"#DIV/0!"},{"$error":"#DIV/0!"},{"$error":"#DIV/0!"},{"$error":"#DIV/0!"},{"$error":"#DIV/0!"},{"$error":"#DIV/0!"},{"$error":"#DIV/0!"},{"$error":"#DIV/0!"},{"$error":"#DIV/0!"},{"$error":"#DIV/0!"},{"$error":"#DIV/0!"},{"$error":"#DIV/0!"},{"$error":"#DIV/0!"},{"$error":"#DIV/0!"}]
["Ceiling + 1 Side Wall along Length",{"$f":"B10+B11","v":{"$error":"#DIV/0!"}},null,null,null,100,628.31853071795865,120,{"$error":"#DIV/0!"},{"$error":"#DIV/0!"},null,6.9499999999999895E-2,{"$error":"#DIV/0!"},{"$error":"#DIV/0!"},{"$error":"#DIV/0!"},{"$error":"#DIV/0!"},{"$error":"#DIV/0!"},{"$error":"#DIV/0!"},{"$error":"#DIV/0!"},{"$error":"#DIV/0!"},{"$error":"#DIV/0!"},{"$error":"#DIV/0!"},{"$error":"#DIV/0!"},{"$error":"#DIV/0!"},{"$error":"#DIV/0!"},{"$error":"#DIV/0!"},{"$error":"#DIV/0!"},{"$error":"#DIV/0!"},{"$error":"#DIV/0!"},{"$error":"#DIV/0!"},{"$error":"#DIV/0!"},{"$error":"#DIV/0!"},{"$error":"#DIV/0!"}]
["Ceiling + 2 Side Walls along Length",{"$f":"B10+B12","v":{"$error":"#DIV/0!"}},null,null,null,125,785.39816339744823,120,{"$error":"#DIV/0!"},{"$error":"#DIV/0!"},null,0.10830000000000006,{"$error":"#DIV/0!"},{"$error":"#DIV/0!"},{"$error":"#DIV/0!"},{"$error":"#DIV/0!"},{"$error":"#DIV/0!"},{"$error":"#DIV/0!"},{"$error":"#DIV/0!"},{"$error":"#DIV/0!"},{"$error":"#DIV/0!"},{"$error":"#DIV/0!"},{"$error":"#DIV/0!"},{"$error":"#DIV/0!"},{"$error":"#DIV/0!"},{"$error":"#DIV/0!"},{"$error":"#DIV/0!"},{"$error":"#DIV/0!"},{"$error":"#DIV/0!"},{"$error":"#DIV/0!"},{"$error":"#DIV/0!"},{"$error":"#DIV/0!"},{"$error":"#DIV/0!"}]
["Ceiling + 1 Side Wall along Width",{"$f":"B10+B13","v":{"$error":"#DIV/0!"}},null,null,null,160,1005.3096491487338,120,{"$error":"#DIV/0!"},{"$error":"#DIV/0!"},null,0.15499999999999992,{"$error":"#DIV/0!"},{"$error":"#DIV/0!"},{"$error":"#DIV/0!"},{"$error":"#DIV/0!"},{"$error":"#DIV/0!"},{"$error":"#DIV/0!"},{"$error":"#DIV/0!"},{"$error":"#DIV/0!"},{"$error":"#DIV/0!"},{"$error":"#DIV/0!"},{"$error":"#DIV/0!"},{"$error":"#DIV/0!"},{"$error":"#DIV/0!"},{"$error":"#DIV/0!"},{"$error":"#DIV/0!"},{"$error":"#DIV/0!"},{"$error":"#DIV/0!"},{"$error":"#DIV/0!"},{"$error":"#DIV/0!"},{"$error":"#DIV/0!"},{"$error":"#DIV/0!"}]
["Ceiling + 2 Side Walls along Width",{"$f":"B10+B14","v":{"$error":"#DIV/0!"}},null,null,null,200,1256.6370614359173,120,{"$error":"#DIV/0!"},{"$error":"#DIV/0!"},null,0.19339999999999979,{"$error":"#DIV/0!"},{"$error":"#DIV/0!"},{"$error":"#DIV/0!"},{"$error":"#DIV/0!"},{"$error":"#DIV/0!"},{"$error":"#DIV/0!"},{"$error":"#DIV/0!"},{"$error":"#DIV/0!"},{"$error":"#DIV/0!"},{"$error":"#DIV/0!"},{"$error":"#DIV/0!"},{"$error":"#DIV/0!"},{"$error":"#DIV/0!"},{"$error":"#DIV/0!"},{"$error":"#DIV/0!"},{"$error":"#DIV/0!"},{"$error":"#DIV/0!"},{"$error":"#DIV/0!"},{"$error":"#DIV/0!"},{"$error":"#DIV/0!"},{"$error":"#DIV/0!"}]
["Ceiling + 1 Side Wall along Length + 1 Side Wall along Width",{"$f":"B10+B15","v":{"$error":"#DIV/0!"}},null,null,null,250,1570.7963267948965,120,{"$error":"#DIV/0!"},{"$error":"#DIV/0!"},null,0.26750000000000007,{"$error":"#DIV/0!"},{"$error":"#DIV/0!"},{"$error":"#DIV/0!"},{"$error":"#DIV/0!"},{"$error":"#DIV/0!"},{"$error":"#DIV/0!"},{"$error":"#DIV/0!"},{"$error":"#DIV/0!"},{"$error":"#DIV/0!"},{"$error":"#DIV/0!"},{"$error":"#DIV/0!"},{"$error":"#DIV/0!"},{"$error":"#DIV/0!"},{"$error":"#DIV/0!"},{"$error":"#DIV/0!"},{"$error":"#DIV/0!"},{"$error":"#DIV/0!"},{"$error":"#DIV/0!"},{"$error":"#DIV/0!"},{"$error":"#DIV/0!"},{"$error":"#DIV/0!"}]
["Ceiling + 2 Side Walls along Length + 1 Side Wall along Width",{"$f":"B10+B16","v":{"$error":"#DIV/0!"}},null,null,null,315,1979.2033717615698,120,{"$error":"#DIV/0!"},{"$error":"#DIV/0!"},null,0.3526999999999999,{"$error":"#DIV/0!"},{"$error":"#DIV/0!"},{"$error":"#DIV/0!"},{"$error":"#DIV/0!"},{"$error":"#DIV/0!"},{"$error":"#DIV/0!"},{"$error":"#DIV/0!"},{"$error":"#DIV/0!"},{"$error":"#DIV/0!"},{"$error":"#DIV/0!"},{"$error":"#DIV/0!"},{"$error":"#DIV/0!"},{"$error":"#DIV/0!"},{"$error":"#DIV/0!"},{"$error":"#DIV/0!"},{"$error":"#DIV/0!"},{"$error":"#DIV/0!"},{"$error":"#DIV/0!"},{"$error":"#DIV/0!"},{"$error":"#DIV/0!"},{"$error":"#DIV/0!"}]
["Ceiling + 2 Side Walls along Width + 1 Side Wall along Length",{"$f":"B10+B17","v":{"$error":"#DIV/0!"}},null,null,null,400,2513.2741228718346,120,{"$error":"#DIV/0!"},{"$error":"#DIV/0!"},null,0.44299999999999995,{"$error":"#DIV/0!"},{"$error":"#DIV/0!"},{"$error":"#DIV/0!"},{"$error":"#DIV/0!"},{"$error":"#DIV/0!"},{"$error":"#DIV/0!"},{"$error":"#DIV/0!"},{"$error":"#DIV/0!"},{"$error":"#DIV/0!"},{"$error":"#DIV/0!"},{"$error":"#DIV/0!"},{"$error":"#DIV/0!"},{"$error":"#DIV/0!"},{"$error":"#DIV/0!"},{"$error":"#DIV/0!"},{"$error":"#DIV/0!"},{"$error":"#DIV/0!"},{"$error":"#DIV/0!"},{"$error":"#DIV/0!"},{"$error":"#DIV/0!"},{"$error":"#DIV/0!"}]
["Ceiling + All Walls ",{"$f":"B10+B18","v":{"$error":"#DIV/0!"}},null,null,null,500,3141.5926535897929,120,{"$error":"#DIV/0!"},{"$error":"#DIV/0!"},null,0.53750000000000009,{"$error":"#DIV/0!"},{"$error":"#DIV/0!"},{"$error":"#DIV/0!"},{"$error":"#DIV/0!"},{"$error":"#DIV/0!"},{"$error":"#DIV/0!"},{"$error":"#DIV/0!"},{"$error":"#DIV/0!"},{"$error":"#DIV/0!"},{"$error":"#DIV/0!"},{"$error":"#DIV/0!"},{"$error":"#DIV/0!"},{"$error":"#DIV/0!"},{"$error":"#DIV/0!"},{"$error":"#DIV/0!"},{"$error":"#DIV/0!"},{"$error":"#DIV/0!"},{"$error":"#DIV/0!"},{"$error":"#DIV/0!"},{"$error":"#DIV/0!"},{"$error":"#DIV/0!"}]
["Custom Absorption Calculation",{"$f":"C2+(D2*B6/B5)","v":{"$error":"#DIV/0!"}},null,null,null,630,3958.4067435231395,120,{"$error":"#DIV/0!"},{"$error":"#DIV/0!"},null,0.64910000000000001,{"$error":"#DIV/0!"},{"$error":"#DIV/0!"},{"$error":"#DIV/0!"},{"$error":"#DIV/0!"},{"$error":"#DIV/0!"},{"$error":"#DIV/0!"},{"$error":"#DIV/0!"},{"$error":"#DIV/0!"},{"$error":"#DIV/0!"},{"$error":"#DIV/0!"},{"$error":"#DIV/0!"},{"$error":"#DIV/0!"},{"$error":"#DIV/0!"},{"$error":"#DIV/0!"},{"$error":"#DIV/0!"},{"$error":"#DIV/0!"},{"$error":"#DIV/0!"},{"$error":"#DIV/0!"},{"$error":"#DIV/0!"},{"$error":"#DIV/0!"},{"$error":"#DIV/0!"}]
[null,null,null,null,null,800,5026.5482457436692,120,{"$error":"#DIV/0!"},{"$error":"#DIV/0!"},null,0.76559999999999995,{"$error":"#DIV/0!"},{"$error":"#DIV/0!"},{"$error":"#DIV/0!"},{"$error":"#DIV/0!"},{"$error":"#DIV/0!"},{"$error":"#DIV/0!"},{"$error":"#DIV/0!"},{"$error":"#DIV/0!"},{"$error":"#DIV/0!"},{"$error":"#DIV/0!"},{"$error":"#DIV/0!"},{"$error":"#DIV/0!"},{"$error":"#DIV/0!"},{"$error":"#DIV/0!"},{"$error":"#DIV/0!"},{"$error":"#DIV/0!"},{"$error":"#DIV/0!"},{"$error":"#DIV/0!"},{"$error":"#DIV/0!"},{"$error":"#DIV/0!"},{"$error":"#DIV/0!"}]
[null,null,null,null,null,1000,6283.1853071795858,120,{"$error":"#DIV/0!"},{"$error":"#DIV/0!"},null,0.83989999999999987,{"$error":"#DIV/0!"},{"$error":"#DIV/0!"},{"$error":"#DIV/0!"},{"$error":"#DIV/0!"},{"$error":"#DIV/0!"},{"$error":"#DIV/0!"},{"$error":"#DIV/0!"},{"$error":"#DIV/0!"},{"$error":"#DIV/0!"},{"$error":"#DIV/0!"},{"$error":"#DIV/0!"},{"$error":"#DIV/0!"},{"$error":"#DIV/0!"},{"$error":"#DIV/0!"},{"$error":"#DIV/0!"},{"$error":"#DIV/0!"},{"$error":"#DIV/0!"},{"$error":"#DIV/0!"},{"$error":"#DIV/0!"},{"$error":"#DIV/0!"},{"$error":"#DIV/0!"}]
[null,null,null,null,null,1250,7853.981633974483,120,{"$error":"#DIV/0!"},{"$error":"#DIV/0!"},null,0.8891,{"$error":"#DIV/0!"},{"$error":"#DIV/0!"},{"$error":"#DIV/0!"},{"$error":"#DIV/0!"},{"$error":"#DIV/0!"},{"$error":"#DIV/0!"},{"$error":"#DIV/0!"},{"$error":"#DIV/0!"},{"$error":"#DIV/0!"},{"$error":"#DIV/0!"},{"$error":"#DIV/0!"},{"$error":"#DIV/0!"},{"$error":"#DIV/0!"},{"$error":"#DIV/0!"},{"$error":"#DIV/0!"},{"$error":"#DIV/0!"},{"$error":"#DIV/0!"},{"$error":"#DIV/0!"},{"$error":"#DIV/0!"},{"$error":"#DIV/0!"},{"$error":"#DIV/0!"}]
[null,null,null,null,null,1600,10053.096491487338,120,{"$error":"#DIV/0!"},{"$error":"#DIV/0!"},null,0.89039999999999997,{"$error":"#DIV/0!"},{"$error":"#DIV/0!"},{"$error":"#DIV/0!"},{"$error":"#DIV/0!"},{"$error":"#DIV/0!"},{"$error":"#DIV/0!"},{"$error":"#DIV/0!"},{"$error":"#DIV/0!"},{"$error":"#DIV/0!"},{"$error":"#DIV/0!"},{"$error":"#DIV/0!"},{"$error":"#DIV/0!"},{"$error":"#DIV/0!"},{"$error":"#DIV/0!"},{"$error":"#DIV/0!"},{"$error":"#DIV/0!"},{"$error":"#DIV/0!"},{"$error":"#DIV/0!"},{"$error":"#DIV/0!"},{"$error":"#DIV/0!"},{"$error":"#DIV/0!"}]
[null,null,null,null,null,2000,12566.370614359172,120,{"$error":"#DIV/0!"},{"$error":"#DIV/0!"},null,0.87030000000000007,{"$error":"#DIV/0!"},{"$error":"#DIV/0!"},{"$error":"#DIV/0!"},{"$error":"#DIV/0!"},{"$error":"#DIV/0!"},{"$error":"#DIV/0!"},{"$error":"#DIV/0!"},{"$error":"#DIV/0!"},{"$error":"#DIV/0!"},{"$error":"#DIV/0!"},{"$error":"#DIV/0!"},{"$error":"#DIV/0!"},{"$error":"#DIV/0!"},{"$error":"#DIV/0!"},{"$error":"#DIV/0!"},{"$error":"#DIV/0!"},{"$error":"#DIV/0!"},{"$error":"#DIV/0!"},{"$error":"#DIV/0!"},{"$error":"#DIV/0!"},{"$error":"#DIV/0!"}]
[null,null,null,null,null,2500,15707.963267948966,120,{"$error":"#DIV/0!"},{"$error":"#DIV/0!"},null,0.879,{"$error":"#DIV/0!"},{"$error":"#DIV/0!"},{"$error":"#DIV/0!"},{"$error":"#DIV/0!"},{"$error":"#DIV/0!"},{"$error":"#DIV/0!"},{"$error":"#DIV/0!"},{"$error":"#DIV/0!"},{"$error":"#DIV/0!"},{"$error":"#DIV/0!"},{"$error":"#DIV/0!"},{"$error":"#DIV/0!"},{"$error":"#DIV/0!"},{"$error":"#DIV/0!"},{"$error":"#DIV/0!"},{"$error":"#DIV/0!"},{"$error":"#DIV/0!"},{"$error":"#DIV/0!"},{"$error":"#DIV/0!"},{"$error":"#DIV/0!"},{"$error":"#DIV/0!"}]
[null,null,null,null,null,3150,19792.033717615697,120,{"$error":"#DIV/0!"},{"$error":"#DIV/0!"},null,0.93149999999999999,{"$error":"#DIV/0!"},{"$error":"#DIV/0!"},{"$error":"#DIV/0!"},{"$error":"#DIV/0!"},{"$error":"#DIV/0!"},{"$error":"#DIV/0!"},{"$error":"#DIV/0!"},{"$error":"#DIV/0!"},{"$error":"#DIV/0!"},{"$error":"#DIV/0!"},{"$error":"#DIV/0!"},{"$error":"#DIV/0!"},{"$error":"#DIV/0!"},{"$error":"#DIV/0!"},{"$error":"#DIV/0!"},{"$error":"#DIV/0!"},{"$error":"#DIV/0!"},{"$error":"#DIV/0!"},{"$error":"#DIV/0!"},{"$error":"#DIV/0!"},{"$error":"#DIV/0!"}]
[null,null,null,null,null,4000,25132.741228718343,120,{"$error":"#DIV/0!"},{"$error":"#DIV/0!"},null,0.94310000000000005,{"$error":"#DIV/0!"},{"$error":"#DIV/0!"},{"$error":"#DIV/0!"},{"$error":"#DIV/0!"},{"$error":"#DIV/0!"},{"$error":"#DIV/0!"},{"$error":"#DIV/0!"},{"$error":"#DIV/0!"},{"$error":"#DIV/0!"},{"$error":"#DIV/0!"},{"$error":"#DIV/0!"},{"$error":"#DIV/0!"},{"$error":"#DIV/0!"},{"$error":"#DIV/0!"},{"$error":"#DIV/0!"},{"$error":"#DIV/0!"},{"$error":"#DIV/0!"},{"$error":"#DIV/0!"},{"$error":"#DIV/0!"},{"$error":"#DIV/0!"},{"$error":"#DIV/0!"}]
[null,null,null,null,null,5000,31415.926535897932,120,{"$error":"#DIV/0!"},{"$error":"#DIV/0!"},null,0.95,{"$error":"#DIV/0!"},{"$error":"#DIV/0!"},{"$error":"#DIV/0!"},{"$error":"#DIV/0!"},{"$error":"#DIV/0!"},{"$error":"#DIV/0!"},{"$error":"#DIV/0!"},{"$error":"#DIV/0!"},{"$error":"#DIV/0!"},{"$error":"#DIV/0!"},{"$error":"#DIV/0!"},{"$error":"#DIV/0!"},{"$error":"#DIV/0!"},{"$error":"#DIV/0!"},{"$error":"#DIV/0!"},{"$error":"#DIV/0!"},{"$error":"#DIV/0!"},{"$error":"#DIV/0!"},{"$error":"#DIV/0!"},{"$error":"#DIV/0!"},{"$error":"#DIV/0!"}]
[null,null,null,null,null,6300,39584.067435231394,120,{"$error":"#DIV/0!"},{"$error":"#DIV/0!"},null,0.96750000000000003,{"$error":"#DIV/0!"},{"$error":"#DIV/0!"},{"$error":"#DIV/0!"},{"$error":"#DIV/0!"},{"$error":"#DIV/0!"},{"$error":"#DIV/0!"},{"$error":"#DIV/0!"},{"$error":"#DIV/0!"},{"$error":"#DIV/0!"},{"$error":"#DIV/0!"},{"$error":"#DIV/0!"},{"$error":"#DIV/0!"},{"$error":"#DIV/0!"},{"$error":"#DIV/0!"},{"$error":"#DIV/0!"},{"$error":"#DIV/0!"},{"$error":"#DIV/0!"},{"$error":"#DIV/0!"},{"$error":"#DIV/0!"},{"$error":"#DIV/0!"},{"$error":"#DIV/0!"}]
[null,null,null,null,null,8000,50265.482457436687,120,{"$error":"#DIV/0!"},{"$error":"#DIV/0!"},null,0.98060000000000003,{"$error":"#DIV/0!"},{"$error":"#DIV/0!"},{"$error":"#DIV/0!"},{"$error":"#DIV/0!"},{"$error":"#DIV/0!"},{"$error":"#DIV/0!"},{"$error":"#DIV/0!"},{"$error":"#DIV/0!"},{"$error":"#DIV/0!"},{"$error":"#DIV/0!"},{"$error":"#DIV/0!"},{"$error":"#DIV/0!"},{"$error":"#DIV/0!"},{"$error":"#DIV/0!"},{"$error":"#DIV/0!"},{"$error":"#DIV/0!"},{"$error":"#DIV/0!"},{"$error":"#DIV/0!"},{"$error":"#DIV/0!"},{"$error":"#DIV/0!"},{"$error":"#DIV/0!"}]
[null,null,null,null,null,10000,62831.853071795864,120,{"$error":"#DIV/0!"},{"$error":"#DIV/0!"},null,0.98750000000000004,{"$error":"#DIV/0!"},{"$error":"#DIV/0!"},{"$error":"#DIV/0!"},{"$error":"#DIV/0!"},{"$error":"#DIV/0!"},{"$error":"#DIV/0!"},{"$error":"#DIV/0!"},{"$error":"#DIV/0!"},{"$error":"#DIV/0!"},{"$error":"#DIV/0!"},{"$error":"#DIV/0!"},{"$error":"#DIV/0!"},{"$error":"#DIV/0!"},{"$error":"#DIV/0!"},{"$error":"#DIV/0!"},{"$error":"#DIV/0!"},{"$error":"#DIV/0!"},{"$error":"#DIV/0!"},{"$error":"#DIV/0!"},{"$error":"#DIV/0!"},{"$error":"#DIV/0!"}]

{"sheet":"Baseline Data","index":6,"n_rows":70,"n_cols":8,"rows_kept":70,"cut":false,"hidden":false,"merged":[[4,1,4,3],[5,1,5,3]]}
[null,null,null,null,null,null,"f (Hz)","Sound Pressure Level - SPL 1/3 rd Octave Baseline (dB)"]
[null,null,null,null,null,null,2.5]
[null,null,"Select Yes/No from below box",null,null,null,3.15]
["Step-1","Baseline Input?",null,null,null,null,4]
["Step-2","Copy the measured SPL 1/3rd Octave Baseline values to the table on the right ",null,null,null,null,5]
["Step-3","Go to START Tab/Sheet",null,null,null,null,6.3]
[null,null,null,null,null,null,8]
[null,null,null,null,null,null,10]
[null,null,null,null,null,null,12.5]
[null,null,null,null,null,null,16]
[null,null,null,null,null,null,20]
[null,null,null,null,null,null,25]
[null,null,null,null,null,null,31.5]
[null,null,null,null,null,null,40]
[null,null,null,null,null,null,50]
[null,null,null,null,null,null,63]
[null,null,null,null,null,null,80]
[null,null,null,null,null,null,100]
[null,null,null,null,null,null,125]
[null,null,null,null,null,null,160]
[null,null,null,null,null,null,200]
[null,null,null,null,null,null,250]
[null,null,null,null,null,null,315]
[null,null,null,null,null,null,400]
[null,null,null,null,null,null,500]
[null,null,null,null,null,null,630]
[null,null,null,null,null,null,800]
[null,null,null,null,null,null,1000]
[null,null,null,null,null,null,1250]
[null,null,null,null,null,null,1600]
[null,null,null,null,null,null,2000]
[null,null,null,null,null,null,2500]
[null,null,null,null,null,null,3150]
[null,null,null,null,null,null,4000]
[null,null,null,null,null,null,5000]
[null,null,null,null,null,null,6300]
[null,null,null,null,null,null,8000]
[null,null,null,null,null,null,10000]
[]
[]
[]
[]
[]
[]
[]
[]
[]
[]
[]
[]
[]
[]
[]
[]
[]
[]
[]
[]
[]
[]
[]
[]
[]
[]
[]
[]
[]
[]
["Yes"]
["No"]

{"sheet":"Sound Absorption Calculation","index":7,"n_rows":46,"n_cols":79,"rows_kept":46,"cut":false,"hidden":false,"merged":[[11,14,11,19],[1,22,10,22],[0,1,0,8],[7,1,7,8],[0,14,0,19],[0,54,0,63],[0,66,0,75],[1,51,10,51],[0,37,0,46],[0,25,0,34]]}
[null,"Values of the constants C1-C8 for various materials",null,null,null,null,null,null,null,null,null,null,null,null,"Octave band centre frequency (Hz)",null,null,null,null,null,null,null,null,null,null,"Foam/Fibre Absorption Coefficient",null,null,null,null,null,null,null,null,null,null,null,"MPP Absorption Coefficient",null,null,null,null,null,null,null,null,null,"Single","Multiple",null,null,null,null,null,"Foam/Fibre Absorption Coefficient",null,null,null,null,null,null,null,null,null,null,null,"MPP Absorption Coefficient",null,null,null,null,null,null,null,null,null,"Single","Multiple"]
["Material Type Reference"," C1"," C2"," C3"," C4"," C5"," C6"," C7"," C8",null,null,null,"Enclsoure Material","Density (kg/m3)",125,250,500,1000,2000,4000,null,null,"SOURCE","f (Hz)","ω (rad/sec)","X","Zm (Real)","Zm (Imag)","Zm","km (Real)","km (Imag)","km","Z","R","α",null,null,"Perforation Constant (β)","Transfer Impedence (Ztr) [Real]","Transfer Impedence (Ztr) [Imag]","Ztr","Z [Real]","Z [Imag]","Z","α [Num]","α [Den]","α","Total α","Total α","Final α",null,"RECEIVER","f (Hz)","ω (rad/sec)","X","Zm (Real)","Zm (Imag)","Zm","km (Real)","km (Imag)","km","Z","R","α",null,null,"Perforation Constant (β)","Transfer Impedence (Ztr) [Real]","Transfer Impedence (Ztr) [Imag]","Ztr","Z [Real]","Z [Imag]","Z","α [Num]","α [Den]","α","Total α","Total α","Final α"]
["Rockwool/Fibreglass",5.7099999999999998E-2,0.754,8.6999999999999994E-2,0.73199999999999998,9.7799999999999998E-2,0.7,0.189,0.59499999999999997,null,null,null,"Brick, Hard Floor",2300,0.02,0.02,0.03,0.03,0.04,0.04,null,null,null,2.5,{"$f":"2*PI()*X3","v":15.707963267948966},{"$f":"$B$21*X3/$B$19","v":{"$error":"#N/A"}},{"$f":"$B$21*$B$22*(1+($B$18*Z3^-$C$18))","v":{"$error":"#N/A"}},{"$f":"-$B$21*$B$22*($D$18*Z3^-$E$18)","v":{"$error":"#N/A"}},{"$f":"COMPLEX(ROUND(AA3,2),ROUND(AB3,2))","v":{"$error":"#N/A"}},{"$f":"(Y3/$B$22)*(1+($F$18*Z3^-$G$18))","v":{"$error":"#DIV/0!"}},{"$f":"(-Y3/$B$22)*($H$18*Z3^-$I$18)","v":{"$error":"#DIV/0!"}},{"$f":"COMPLEX(ROUND(AD3,2),ROUND(AE3,2))","v":{"$error":"#DIV/0!"}},{"$f":"COMPLEX(ROUND(IMREAL(IMPRODUCT(COMPLEX(0,-1),AC3,_xlfn.IMCOT(IMPRODUCT(AF3,$B$20)))),2),ROUND(IMAGINARY(IMPRODUCT(COMPLEX(0,-1),AC3,_xlfn.IMCOT(IMPRODUCT(AF3,$B$20)))),2))","v":{"$error":"#N/A"}},{"$f":"COMPLEX(ROUND(IMREAL(IMDIV(IMSUB(AG3,COMPLEX(($B$21*$B$22),0)),IMSUM(AG3,COMPLEX(($B$21*$B$22),0)))),2),ROUND(IMAGINARY(IMDIV(IMSUB(AG3,COMPLEX(($B$21*$B$22),0)),IMSUM(AG3,COMPLEX(($B$21*$B$22),0)))),2))","v":{"$error":"#N/A"}},{"$f":"1-(IMABS(AH3)^2)","v":{"$error":"#N/A"}},null,null,{"$f":"$B$35*SQRT((Y3*$B$21)/(4*$B$34))","v":{"$error":"#DIV/0!"}},{"$f":"((32*$B$34*$B$36)/($B$37*$B$21*$B$22*$B$35^2))*((1+(AL3^2/32))^0.5+((SQRT(2)*AL3*$B$35)/(8*$B$36)))","v":{"$error":"#DIV/0!"}},{"$f":"(Y3*$B$36/($B$37*$B$22))*(1+(1/SQRT(9+(AL3^2/2)))+(0.85*$B$35/$B$36))","v":{"$error":"#DIV/0!"}},{"$f":"COMPLEX(ROUND(AM3,3),ROUND(AN3,3))","v":{"$error":"#DIV/0!"}},{"$f":"AM3","v":{"$error":"#DIV/0!"}},{"$f":"AN3-(_xlfn.COT(Y3*$B$38/$B$22))","v":{"$error":"#DIV/0!"}},{"$f":"COMPLEX(ROUND(AP3,3),ROUND(AQ3,3))","v":{"$error":"#DIV/0!"}},{"$f":"4*AP3","v":{"$error":"#DIV/0!"}},{"$f":"((1+AP3)^2+(AQ3^2))","v":{"$error":"#DIV/0!"}},{"$f":"AS3/AT3","v":{"$error":"#DIV/0!"}},{"$f":"IF('Path Considerations'!$T$19=\"MPP\",'Sound Absorption Calculation'!AU3,'Sound Absorption Calculation'!AI3)","v":{"$error":"#N/A"}},{"$f":"'Multiple Absorption'!GB3","v":false},{"$f":"IF('Path Considerations'!$M$5=\"Single\",AV3,AW3)","v":{"$error":"#N/A"}},null,null,2.5,{"$f":"2*PI()*BA3","v":15.707963267948966},{"$f":"$B$28*BA3/$B$26","v":{"$error":"#N/A"}},{"$f":"$B$28*$B$29*(1+($B$25*BC3^-$C$25))","v":{"$error":"#N/A"}},{"$f":"-$B$28*$B$29*($D$25*BC3^-$E$25)","v":{"$error":"#N/A"}},{"$f":"COMPLEX(ROUND(BD3,2),ROUND(BE3,2))","v":{"$error":"#N/A"}},{"$f":"(BB3/$B$29)*(1+($F$25*BC3^-$G$25))","v":{"$error":"#DIV/0!"}},{"$f":"(-BB3/$B$29)*($H$25*BC3^-$I$25)","v":{"$error":"#DIV/0!"}},{"$f":"COMPLEX(ROUND(BG3,2),ROUND(BH3,2))","v":{"$error":"#DIV/0!"}},{"$f":"COMPLEX(ROUND(IMREAL(IMPRODUCT(COMPLEX(0,-1),BF3,_xlfn.IMCOT(IMPRODUCT(BI3,$B$27)))),2),ROUND(IMAGINARY(IMPRODUCT(COMPLEX(0,-1),BF3,_xlfn.IMCOT(IMPRODUCT(BI3,$B$27)))),2))","v":{"$error":"#N/A"}},{"$f":"COMPLEX(ROUND(IMREAL(IMDIV(IMSUB(BJ3,COMPLEX(($B$28*$B$29),0)),IMSUM(BJ3,COMPLEX(($B$28*$B$29),0)))),2),ROUND(IMAGINARY(IMDIV(IMSUB(BJ3,COMPLEX(($B$28*$B$29),0)),IMSUM(BJ3,COMPLEX(($B$28*$B$29),0)))),2))","v":{"$error":"#N/A"}},{"$f":"1-(IMABS(BK3)^2)","v":{"$error":"#N/A"}},null,null,{"$f":"$B$43*SQRT((BB3*$B$28)/(4*$B$42))","v":{"$error":"#DIV/0!"}},{"$f":"((32*$B$42*$B$44)/($B$45*$B$28*$B$29*$B$43^2))*((1+(BO3^2/32))^0.5+((SQRT(2)*BO3*$B$43)/(8*$B$44)))","v":{"$error":"#DIV/0!"}},{"$f":"(BB3*$B$44/($B$45*$B$29))*(1+(1/SQRT(9+(BO3^2/2)))+(0.85*$B$43/$B$44))","v":{"$error":"#DIV/0!"}},{"$f":"COMPLEX(ROUND(BP3,3),ROUND(BQ3,3))","v":{"$error":"#DIV/0!"}},{"$f":"BP3","v":{"$error":"#DIV/0!"}},{"$f":"BQ3-(_xlfn.COT(BB3*$B$46/$B$29))","v":{"$error":"#DIV/0!"}},{"$f":"COMPLEX(ROUND(BS3,3),ROUND(BT3,3))","v":{"$error":"#DIV/0!"}},{"$f":"4*BS3","v":{"$error":"#DIV/0!"}},{"$f":"((1+BS3)^2+(BT3^2))","v":{"$error":"#DIV/0!"}},{"$f":"BV3/BW3","v":{"$error":"#DIV/0!"}},{"$f":"IF('Path Considerations'!$T$19=\"MPP\",'Sound Absorption Calculation'!BX3,'Sound Absorption Calculation'!BL3)","v":{"$error":"#N/A"}},{"$f":"'Multiple Absorption'!ML3","v":false},{"$f":"IF('Path Considerations'!$M$11=\"Single\",BY3,BZ3)","v":false}]
["Polyester",7.8E-2,0.623,7.3999999999999996E-2,0.66,0.159,0.57099999999999995,0.121,0.53,null,null,null,"Plaster, Gypsum or Lime",2960,1.2999999999999999E-2,1.4999999999999999E-2,0.02,0.03,0.04,0.05,null,null,null,3.15,{"$f":"2*PI()*X4","v":19.792033717615695},{"$f":"$B$21*X4/$B$19","v":{"$error":"#N/A"}},{"$f":"$B$21*$B$22*(1+($B$18*Z4^-$C$18))","v":{"$error":"#N/A"}},{"$f":"-$B$21*$B$22*($D$18*Z4^-$E$18)","v":{"$error":"#N/A"}},{"$f":"COMPLEX(ROUND(AA4,2),ROUND(AB4,2))","v":{"$error":"#N/A"}},{"$f":"(Y4/$B$22)*(1+($F$18*Z4^-$G$18))","v":{"$error":"#DIV/0!"}},{"$f":"(-Y4/$B$22)*($H$18*Z4^-$I$18)","v":{"$error":"#DIV/0!"}},{"$f":"COMPLEX(ROUND(AD4,2),ROUND(AE4,2))","v":{"$error":"#DIV/0!"}},{"$f":"COMPLEX(ROUND(IMREAL(IMPRODUCT(COMPLEX(0,-1),AC4,_xlfn.IMCOT(IMPRODUCT(AF4,$B$20)))),2),ROUND(IMAGINARY(IMPRODUCT(COMPLEX(0,-1),AC4,_xlfn.IMCOT(IMPRODUCT(AF4,$B$20)))),2))","v":{"$error":"#N/A"}},{"$f":"COMPLEX(ROUND(IMREAL(IMDIV(IMSUB(AG4,COMPLEX(($B$21*$B$22),0)),IMSUM(AG4,COMPLEX(($B$21*$B$22),0)))),2),ROUND(IMAGINARY(IMDIV(IMSUB(AG4,COMPLEX(($B$21*$B$22),0)),IMSUM(AG4,COMPLEX(($B$21*$B$22),0)))),2))","v":{"$error":"#N/A"}},{"$f":"1-(IMABS(AH4)^2)","v":{"$error":"#N/A"}},null,null,{"$error":"#DIV/0!"},{"$f":"((32*$B$34*$B$36)/($B$37*$B$21*$B$22*$B$35^2))*((1+(AL4^2/32))^0.5+((SQRT(2)*AL4*$B$35)/(8*$B$36)))","v":{"$error":"#DIV/0!"}},{"$f":"(Y4*$B$36/($B$37*$B$22))*(1+(1/SQRT(9+(AL4^2/2)))+(0.85*$B$35/$B$36))","v":{"$error":"#DIV/0!"}},{"$f":"COMPLEX(ROUND(AM4,3),ROUND(AN4,3))","v":{"$error":"#DIV/0!"}},{"$f":"AM4","v":{"$error":"#DIV/0!"}},{"$f":"AN4-(_xlfn.COT(Y4*$B$38/$B$22))","v":{"$error":"#DIV/0!"}},{"$f":"COMPLEX(ROUND(AP4,3),ROUND(AQ4,3))","v":{"$error":"#DIV/0!"}},{"$f":"4*AP4","v":{"$error":"#DIV/0!"}},{"$f":"((1+AP4)^2+(AQ4^2))","v":{"$error":"#DIV/0!"}},{"$f":"AS4/AT4","v":{"$error":"#DIV/0!"}},{"$f":"IF('Path Considerations'!$T$19=\"MPP\",'Sound Absorption Calculation'!AU4,'Sound Absorption Calculation'!AI4)","v":{"$error":"#N/A"}},{"$f":"'Multiple Absorption'!GB4","v":false},{"$f":"IF('Path Considerations'!$M$5=\"Single\",AV4,AW4)","v":{"$error":"#N/A"}},null,null,3.15,{"$f":"2*PI()*BA4","v":19.792033717615695},{"$f":"$B$28*BA4/$B$26","v":{"$error":"#N/A"}},{"$f":"$B$28*$B$29*(1+($B$25*BC4^-$C$25))","v":{"$error":"#N/A"}},{"$f":"-$B$28*$B$29*($D$25*BC4^-$E$25)","v":{"$error":"#N/A"}},{"$f":"COMPLEX(ROUND(BD4,2),ROUND(BE4,2))","v":{"$error":"#N/A"}},{"$f":"(BB4/$B$29)*(1+($F$25*BC4^-$G$25))","v":{"$error":"#DIV/0!"}},{"$f":"(-BB4/$B$29)*($H$25*BC4^-$I$25)","v":{"$error":"#DIV/0!"}},{"$f":"COMPLEX(ROUND(BG4,2),ROUND(BH4,2))","v":{"$error":"#DIV/0!"}},{"$f":"COMPLEX(ROUND(IMREAL(IMPRODUCT(COMPLEX(0,-1),BF4,_xlfn.IMCOT(IMPRODUCT(BI4,$B$27)))),2),ROUND(IMAGINARY(IMPRODUCT(COMPLEX(0,-1),BF4,_xlfn.IMCOT(IMPRODUCT(BI4,$B$27)))),2))","v":{"$error":"#N/A"}},{"$f":"COMPLEX(ROUND(IMREAL(IMDIV(IMSUB(BJ4,COMPLEX(($B$28*$B$29),0)),IMSUM(BJ4,COMPLEX(($B$28*$B$29),0)))),2),ROUND(IMAGINARY(IMDIV(IMSUB(BJ4,COMPLEX(($B$28*$B$29),0)),IMSUM(BJ4,COMPLEX(($B$28*$B$29),0)))),2))","v":{"$error":"#N/A"}},{"$f":"1-(IMABS(BK4)^2)","v":{"$error":"#N/A"}},null,null,{"$f":"$B$43*SQRT((BB4*$B$28)/(4*$B$42))","v":{"$error":"#DIV/0!"}},{"$f":"((32*$B$42*$B$44)/($B$45*$B$28*$B$29*$B$43^2))*((1+(BO4^2/32))^0.5+((SQRT(2)*BO4*$B$43)/(8*$B$44)))","v":{"$error":"#DIV/0!"}},{"$f":"(BB4*$B$44/($B$45*$B$29))*(1+(1/SQRT(9+(BO4^2/2)))+(0.85*$B$43/$B$44))","v":{"$error":"#DIV/0!"}},{"$f":"COMPLEX(ROUND(BP4,3),ROUND(BQ4,3))","v":{"$error":"#DIV/0!"}},{"$f":"BP4","v":{"$error":"#DIV/0!"}},{"$f":"BQ4-(_xlfn.COT(BB4*$B$46/$B$29))","v":{"$error":"#DIV/0!"}},{"$f":"COMPLEX(ROUND(BS4,3),ROUND(BT4,3))","v":{"$error":"#DIV/0!"}},{"$f":"4*BS4","v":{"$error":"#DIV/0!"}},{"$f":"((1+BS4)^2+(BT4^2))","v":{"$error":"#DIV/0!"}},{"$f":"BV4/BW4","v":{"$error":"#DIV/0!"}},{"$f":"IF('Path Considerations'!$T$19=\"MPP\",'Sound Absorption Calculation'!BX4,'Sound Absorption Calculation'!BL4)","v":{"$error":"#N/A"}},{"$f":"'Multiple Absorption'!ML4","v":false},{"$f":"IF('Path Considerations'!$M$11=\"Single\",BY4,BZ4)","v":false}]
["Polyurethane foam of low flow resistivity",0.114,0.36899999999999999,9.8500000000000004E-2,0.75800000000000001,0.16800000000000001,0.71499999999999997,0.13600000000000001,0.49099999999999999,null,null,null,"13mm mineral tile direct fixed to floor slab",350,0.1,0.25,0.7,0.85,0.7,0.6,null,null,null,4,{"$f":"2*PI()*X5","v":25.132741228718345},{"$error":"#N/A"},{"$error":"#N/A"},{"$error":"#N/A"},{"$error":"#N/A"},{"$error":"#DIV/0!"},{"$error":"#DIV/0!"},{"$error":"#DIV/0!"},{"$error":"#N/A"},{"$error":"#N/A"},{"$error":"#N/A"},null,null,{"$error":"#DIV/0!"},{"$error":"#DIV/0!"},{"$error":"#DIV/0!"},{"$error":"#DIV/0!"},{"$error":"#DIV/0!"},{"$error":"#DIV/0!"},{"$error":"#DIV/0!"},{"$error":"#DIV/0!"},{"$error":"#DIV/0!"},{"$error":"#DIV/0!"},{"$f":"IF('Path Considerations'!$T$19=\"MPP\",'Sound Absorption Calculation'!AU5,'Sound Absorption Calculation'!AI5)","v":{"$error":"#N/A"}},{"$f":"'Multiple Absorption'!GB5","v":false},{"$f":"IF('Path Considerations'!$M$5=\"Single\",AV5,AW5)","v":{"$error":"#N/A"}},null,null,4,{"$f":"2*PI()*BA5","v":25.132741228718345},{"$error":"#N/A"},{"$error":"#N/A"},{"$error":"#N/A"},{"$error":"#N/A"},{"$error":"#DIV/0!"},{"$error":"#DIV/0!"},{"$error":"#DIV/0!"},{"$error":"#N/A"},{"$error":"#N/A"},{"$error":"#N/A"},null,null,{"$error":"#DIV/0!"},{"$error":"#DIV/0!"},{"$error":"#DIV/0!"},{"$error":"#DIV/0!"},{"$error":"#DIV/0!"},{"$error":"#DIV/0!"},{"$error":"#DIV/0!"},{"$error":"#DIV/0!"},{"$error":"#DIV/0!"},{"$error":"#DIV/0!"},{"$f":"IF('Path Considerations'!$T$19=\"MPP\",'Sound Absorption Calculation'!BX5,'Sound Absorption Calculation'!BL5)","v":{"$error":"#N/A"}},{"$f":"'Multiple Absorption'!ML5","v":false},{"$f":"IF('Path Considerations'!$M$11=\"Single\",BY5,BZ5)","v":false}]
["Porous plastic foams of medium flow resistivity",0.21199999999999999,0.45500000000000002,0.105,0.60699999999999998,0.16300000000000001,0.59199999999999997,0.188,0.54400000000000004,null,null,null,"Glass",2600,0.18,0.06,0.04,0.03,0.02,0.02,null,null,null,5,31.415926535897931,{"$error":"#N/A"},{"$error":"#N/A"},{"$error":"#N/A"},{"$error":"#N/A"},{"$error":"#DIV/0!"},{"$error":"#DIV/0!"},{"$error":"#DIV/0!"},{"$error":"#N/A"},{"$error":"#N/A"},{"$error":"#N/A"},null,null,{"$error":"#DIV/0!"},{"$error":"#DIV/0!"},{"$error":"#DIV/0!"},{"$error":"#DIV/0!"},{"$error":"#DIV/0!"},{"$error":"#DIV/0!"},{"$error":"#DIV/0!"},{"$error":"#DIV/0!"},{"$error":"#DIV/0!"},{"$error":"#DIV/0!"},{"$f":"IF('Path Considerations'!$T$19=\"MPP\",'Sound Absorption Calculation'!AU6,'Sound Absorption Calculation'!AI6)","v":{"$error":"#N/A"}},{"$f":"'Multiple Absorption'!GB6","v":false},{"$f":"IF('Path Considerations'!$M$5=\"Single\",AV6,AW6)","v":{"$error":"#N/A"}},null,null,5,31.415926535897931,{"$error":"#N/A"},{"$error":"#N/A"},{"$error":"#N/A"},{"$error":"#N/A"},{"$error":"#DIV/0!"},{"$error":"#DIV/0!"},{"$error":"#DIV/0!"},{"$error":"#N/A"},{"$error":"#N/A"},{"$error":"#N/A"},null,null,{"$error":"#DIV/0!"},{"$error":"#DIV/0!"},{"$error":"#DIV/0!"},{"$error":"#DIV/0!"},{"$error":"#DIV/0!"},{"$error":"#DIV/0!"},{"$error":"#DIV/0!"},{"$error":"#DIV/0!"},{"$error":"#DIV/0!"},{"$error":"#DIV/0!"},{"$f":"IF('Path Considerations'!$T$19=\"MPP\",'Sound Absorption Calculation'!BX6,'Sound Absorption Calculation'!BL6)","v":{"$error":"#N/A"}},{"$f":"'Multiple Absorption'!ML6","v":false},{"$f":"IF('Path Considerations'!$M$11=\"Single\",BY6,BZ6)","v":false}]
[null,null,null,null,null,null,null,null,null,null,null,null,"Ordinary Window",500,0.35,0.25,0.18,0.12,7.0000000000000007E-2,0.65,null,null,null,6.3,39.58406743523139,{"$error":"#N/A"},{"$error":"#N/A"},{"$error":"#N/A"},{"$error":"#N/A"},{"$error":"#DIV/0!"},{"$error":"#DIV/0!"},{"$error":"#DIV/0!"},{"$error":"#N/A"},{"$error":"#N/A"},{"$error":"#N/A"},null,null,{"$error":"#DIV/0!"},{"$error":"#DIV/0!"},{"$error":"#DIV/0!"},{"$error":"#DIV/0!"},{"$error":"#DIV/0!"},{"$error":"#DIV/0!"},{"$error":"#DIV/0!"},{"$error":"#DIV/0!"},{"$error":"#DIV/0!"},{"$error":"#DIV/0!"},{"$f":"IF('Path Considerations'!$T$19=\"MPP\",'Sound Absorption Calculation'!AU7,'Sound Absorption Calculation'!AI7)","v":{"$error":"#N/A"}},{"$f":"'Multiple Absorption'!GB7","v":false},{"$f":"IF('Path Considerations'!$M$5=\"Single\",AV7,AW7)","v":{"$error":"#N/A"}},null,null,6.3,39.58406743523139,{"$error":"#N/A"},{"$error":"#N/A"},{"$error":"#N/A"},{"$error":"#N/A"},{"$error":"#DIV/0!"},{"$error":"#DIV/0!"},{"$error":"#DIV/0!"},{"$error":"#N/A"},{"$error":"#N/A"},{"$error":"#N/A"},null,null,{"$error":"#DIV/0!"},{"$error":"#DIV/0!"},{"$error":"#DIV/0!"},{"$error":"#DIV/0!"},{"$error":"#DIV/0!"},{"$error":"#DIV/0!"},{"$error":"#DIV/0!"},{"$error":"#DIV/0!"},{"$error":"#DIV/0!"},{"$error":"#DIV/0!"},{"$f":"IF('Path Considerations'!$T$19=\"MPP\",'Sound Absorption Calculation'!BX7,'Sound Absorption Calculation'!BL7)","v":{"$error":"#N/A"}},{"$f":"'Multiple Absorption'!ML7","v":false},{"$f":"IF('Path Considerations'!$M$11=\"Single\",BY7,BZ7)","v":false}]
[null,"Ref: Enginnering Noise Control by David A Bies 4th Edition. Page: 674",null,null,null,null,null,null,null,null,null,null,"Carpet, 5mm thick on hard floor",2095,0.02,0.03,0.05,0.1,0.3,0.5,null,null,null,8,50.26548245743669,{"$error":"#N/A"},{"$error":"#N/A"},{"$error":"#N/A"},{"$error":"#N/A"},{"$error":"#DIV/0!"},{"$error":"#DIV/0!"},{"$error":"#DIV/0!"},{"$error":"#N/A"},{"$error":"#N/A"},{"$error":"#N/A"},null,null,{"$error":"#DIV/0!"},{"$error":"#DIV/0!"},{"$error":"#DIV/0!"},{"$error":"#DIV/0!"},{"$error":"#DIV/0!"},{"$error":"#DIV/0!"},{"$error":"#DIV/0!"},{"$error":"#DIV/0!"},{"$error":"#DIV/0!"},{"$error":"#DIV/0!"},{"$f":"IF('Path Considerations'!$T$19=\"MPP\",'Sound Absorption Calculation'!AU8,'Sound Absorption Calculation'!AI8)","v":{"$error":"#N/A"}},{"$f":"'Multiple Absorption'!GB8","v":false},{"$f":"IF('Path Considerations'!$M$5=\"Single\",AV8,AW8)","v":{"$error":"#N/A"}},null,null,8,50.26548245743669,{"$error":"#N/A"},{"$error":"#N/A"},{"$error":"#N/A"},{"$error":"#N/A"},{"$error":"#DIV/0!"},{"$error":"#DIV/0!"},{"$error":"#DIV/0!"},{"$error":"#N/A"},{"$error":"#N/A"},{"$error":"#N/A"},null,null,{"$error":"#DIV/0!"},{"$error":"#DIV/0!"},{"$error":"#DIV/0!"},{"$error":"#DIV/0!"},{"$error":"#DIV/0!"},{"$error":"#DIV/0!"},{"$error":"#DIV/0!"},{"$error":"#DIV/0!"},{"$error":"#DIV/0!"},{"$error":"#DIV/0!"},{"$f":"IF('Path Considerations'!$T$19=\"MPP\",'Sound Absorption Calculation'!BX8,'Sound Absorption Calculation'!BL8)","v":{"$error":"#N/A"}},{"$f":"'Multiple Absorption'!ML8","v":false},{"$f":"IF('Path Considerations'!$M$11=\"Single\",BY8,BZ8)","v":false}]
[null,null,null,null,null,null,null,null,null,null,null,null,"Acoustic Plaster Wall 10mm thick sprayed on  solid wall",850,0.08,0.15,0.3,0.5,0.6,0.7,null,null,null,10,62.831853071795862,{"$error":"#N/A"},{"$error":"#N/A"},{"$error":"#N/A"},{"$error":"#N/A"},{"$error":"#DIV/0!"},{"$error":"#DIV/0!"},{"$error":"#DIV/0!"},{"$error":"#N/A"},{"$error":"#N/A"},{"$error":"#N/A"},null,null,{"$error":"#DIV/0!"},{"$error":"#DIV/0!"},{"$error":"#DIV/0!"},{"$error":"#DIV/0!"},{"$error":"#DIV/0!"},{"$error":"#DIV/0!"},{"$error":"#DIV/0!"},{"$error":"#DIV/0!"},{"$error":"#DIV/0!"},{"$error":"#DIV/0!"},{"$f":"IF('Path Considerations'!$T$19=\"MPP\",'Sound Absorption Calculation'!AU9,'Sound Absorption Calculation'!AI9)","v":{"$error":"#N/A"}},{"$f":"'Multiple Absorption'!GB9","v":false},{"$f":"IF('Path Considerations'!$M$5=\"Single\",AV9,AW9)","v":{"$error":"#N/A"}},null,null,10,62.831853071795862,{"$error":"#N/A"},{"$error":"#N/A"},{"$error":"#N/A"},{"$error":"#N/A"},{"$error":"#DIV/0!"},{"$error":"#DIV/0!"},{"$error":"#DIV/0!"},{"$error":"#N/A"},{"$error":"#N/A"},{"$error":"#N/A"},null,null,{"$error":"#DIV/0!"},{"$error":"#DIV/0!"},{"$error":"#DIV/0!"},{"$error":"#DIV/0!"},{"$error":"#DIV/0!"},{"$error":"#DIV/0!"},{"$error":"#DIV/0!"},{"$error":"#DIV/0!"},{"$error":"#DIV/0!"},{"$error":"#DIV/0!"},{"$f":"IF('Path Considerations'!$T$19=\"MPP\",'Sound Absorption Calculation'!BX9,'Sound Absorption Calculation'!BL9)","v":{"$error":"#N/A"}},{"$f":"'Multiple Absorption'!ML9","v":false},{"$f":"IF('Path Considerations'!$M$11=\"Single\",BY9,BZ9)","v":false}]
[null,null,null,null,null,null,null,null,null,null,null,null,null,null,null,null,null,null,null,null,null,null,null,12.5,78.539816339744831,{"$error":"#N/A"},{"$error":"#N/A"},{"$error":"#N/A"},{"$error":"#N/A"},{"$error":"#DIV/0!"},{"$error":"#DIV/0!"},{"$error":"#DIV/0!"},{"$error":"#N/A"},{"$error":"#N/A"},{"$error":"#N/A"},null,null,{"$error":"#DIV/0!"},{"$error":"#DIV/0!"},{"$error":"#DIV/0!"},{"$error":"#DIV/0!"},{"$error":"#DIV/0!"},{"$error":"#DIV/0!"},{"$error":"#DIV/0!"},{"$error":"#DIV/0!"},{"$error":"#DIV/0!"},{"$error":"#DIV/0!"},{"$f":"IF('Path Considerations'!$T$19=\"MPP\",'Sound Absorption Calculation'!AU10,'Sound Absorption Calculation'!AI10)","v":{"$error":"#N/A"}},{"$f":"'Multiple Absorption'!GB10","v":false},{"$f":"IF('Path Considerations'!$M$5=\"Single\",AV10,AW10)","v":{"$error":"#N/A"}},null,null,12.5,78.539816339744831,{"$error":"#N/A"},{"$error":"#N/A"},{"$error":"#N/A"},{"$error":"#N/A"},{"$error":"#DIV/0!"},{"$error":"#DIV/0!"},{"$error":"#DIV/0!"},{"$error":"#N/A"},{"$error":"#N/A"},{"$error":"#N/A"},null,null,{"$error":"#DIV/0!"},{"$error":"#DIV/0!"},{"$error":"#DIV/0!"},{"$error":"#DIV/0!"},{"$error":"#DIV/0!"},{"$error":"#DIV/0!"},{"$error":"#DIV/0!"},{"$error":"#DIV/0!"},{"$error":"#DIV/0!"},{"$error":"#DIV/0!"},{"$f":"IF('Path Considerations'!$T$19=\"MPP\",'Sound Absorption Calculation'!BX10,'Sound Absorption Calculation'!BL10)","v":{"$error":"#N/A"}},{"$f":"'Multiple Absorption'!ML10","v":false},{"$f":"IF('Path Considerations'!$M$11=\"Single\",BY10,BZ10)","v":false}]
[null,null,null,null,null,null,null,null,null,null,null,null,null,null,null,null,null,null,null,null,null,null,null,16,100.53096491487338,{"$error":"#N/A"},{"$error":"#N/A"},{"$error":"#N/A"},{"$error":"#N/A"},{"$error":"#DIV/0!"},{"$error":"#DIV/0!"},{"$error":"#DIV/0!"},{"$error":"#N/A"},{"$error":"#N/A"},{"$error":"#N/A"},null,null,{"$error":"#DIV/0!"},{"$error":"#DIV/0!"},{"$error":"#DIV/0!"},{"$error":"#DIV/0!"},{"$error":"#DIV/0!"},{"$error":"#DIV/0!"},{"$error":"#DIV/0!"},{"$error":"#DIV/0!"},{"$error":"#DIV/0!"},{"$error":"#DIV/0!"},{"$f":"IF('Path Considerations'!$T$19=\"MPP\",'Sound Absorption Calculation'!AU11,'Sound Absorption Calculation'!AI11)","v":{"$error":"#N/A"}},{"$f":"'Multiple Absorption'!GB11","v":false},{"$f":"IF('Path Considerations'!$M$5=\"Single\",AV11,AW11)","v":{"$error":"#N/A"}},null,null,16,100.53096491487338,{"$error":"#N/A"},{"$error":"#N/A"},{"$error":"#N/A"},{"$error":"#N/A"},{"$error":"#DIV/0!"},{"$error":"#DIV/0!"},{"$error":"#DIV/0!"},{"$error":"#N/A"},{"$error":"#N/A"},{"$error":"#N/A"},null,null,{"$error":"#DIV/0!"},{"$error":"#DIV/0!"},{"$error":"#DIV/0!"},{"$error":"#DIV/0!"},{"$error":"#DIV/0!"},{"$error":"#DIV/0!"},{"$error":"#DIV/0!"},{"$error":"#DIV/0!"},{"$error":"#DIV/0!"},{"$error":"#DIV/0!"},{"$f":"IF('Path Considerations'!$T$19=\"MPP\",'Sound Absorption Calculation'!BX11,'Sound Absorption Calculation'!BL11)","v":{"$error":"#N/A"}},{"$f":"'Multiple Absorption'!ML11","v":false},{"$f":"IF('Path Considerations'!$M$11=\"Single\",BY11,BZ11)","v":false}]
[null,null,null,null,null,null,null,null,null,null,null,null,null,null,"Ref: Enginnering Noise Control by David A Bies 4th Edition. Page: 317,318",null,null,null,null,null,null,null,null,20,125.66370614359172,{"$error":"#N/A"},{"$error":"#N/A"},{"$error":"#N/A"},{"$error":"#N/A"},{"$error":"#DIV/0!"},{"$error":"#DIV/0!"},{"$error":"#DIV/0!"},{"$error":"#N/A"},{"$error":"#N/A"},{"$error":"#N/A"},null,null,{"$error":"#DIV/0!"},{"$error":"#DIV/0!"},{"$error":"#DIV/0!"},{"$error":"#DIV/0!"},{"$error":"#DIV/0!"},{"$error":"#DIV/0!"},{"$error":"#DIV/0!"},{"$error":"#DIV/0!"},{"$error":"#DIV/0!"},{"$error":"#DIV/0!"},{"$f":"IF('Path Considerations'!$T$19=\"MPP\",'Sound Absorption Calculation'!AU12,'Sound Absorption Calculation'!AI12)","v":{"$error":"#N/A"}},{"$f":"'Multiple Absorption'!GB12","v":false},{"$f":"IF('Path Considerations'!$M$5=\"Single\",AV12,AW12)","v":{"$error":"#N/A"}},null,null,20,125.66370614359172,{"$error":"#N/A"},{"$error":"#N/A"},{"$error":"#N/A"},{"$error":"#N/A"},{"$error":"#DIV/0!"},{"$error":"#DIV/0!"},{"$error":"#DIV/0!"},{"$error":"#N/A"},{"$error":"#N/A"},{"$error":"#N/A"},null,null,{"$error":"#DIV/0!"},{"$error":"#DIV/0!"},{"$error":"#DIV/0!"},{"$error":"#DIV/0!"},{"$error":"#DIV/0!"},{"$error":"#DIV/0!"},{"$error":"#DIV/0!"},{"$error":"#DIV/0!"},{"$error":"#DIV/0!"},{"$error":"#DIV/0!"},{"$f":"IF('Path Considerations'!$T$19=\"MPP\",'Sound Absorption Calculation'!BX12,'Sound Absorption Calculation'!BL12)","v":{"$error":"#N/A"}},{"$f":"'Multiple Absorption'!ML12","v":false},{"$f":"IF('Path Considerations'!$M$11=\"Single\",BY12,BZ12)","v":false}]
[null,null,null,null,null,null,null,null,null,null,null,null,null,null,null,null,null,null,null,null,null,null,null,25,157.07963267948966,{"$error":"#N/A"},{"$error":"#N/A"},{"$error":"#N/A"},{"$error":"#N/A"},{"$error":"#DIV/0!"},{"$error":"#DIV/0!"},{"$error":"#DIV/0!"},{"$error":"#N/A"},{"$error":"#N/A"},{"$error":"#N/A"},null,null,{"$error":"#DIV/0!"},{"$error":"#DIV/0!"},{"$error":"#DIV/0!"},{"$error":"#DIV/0!"},{"$error":"#DIV/0!"},{"$error":"#DIV/0!"},{"$error":"#DIV/0!"},{"$error":"#DIV/0!"},{"$error":"#DIV/0!"},{"$error":"#DIV/0!"},{"$f":"IF('Path Considerations'!$T$19=\"MPP\",'Sound Absorption Calculation'!AU13,'Sound Absorption Calculation'!AI13)","v":{"$error":"#N/A"}},{"$f":"'Multiple Absorption'!GB13","v":false},{"$f":"IF('Path Considerations'!$M$5=\"Single\",AV13,AW13)","v":{"$error":"#N/A"}},null,null,25,157.07963267948966,{"$error":"#N/A"},{"$error":"#N/A"},{"$error":"#N/A"},{"$error":"#N/A"},{"$error":"#DIV/0!"},{"$error":"#DIV/0!"},{"$error":"#DIV/0!"},{"$error":"#N/A"},{"$error":"#N/A"},{"$error":"#N/A"},null,null,{"$error":"#DIV/0!"},{"$error":"#DIV/0!"},{"$error":"#DIV/0!"},{"$error":"#DIV/0!"},{"$error":"#DIV/0!"},{"$error":"#DIV/0!"},{"$error":"#DIV/0!"},{"$error":"#DIV/0!"},{"$error":"#DIV/0!"},{"$error":"#DIV/0!"},{"$f":"IF('Path Considerations'!$T$19=\"MPP\",'Sound Absorption Calculation'!BX13,'Sound Absorption Calculation'!BL13)","v":{"$error":"#N/A"}},{"$f":"'Multiple Absorption'!ML13","v":false},{"$f":"IF('Path Considerations'!$M$11=\"Single\",BY13,BZ13)","v":false}]
[null,null,null,null,null,null,null,null,null,null,null,null,null,null,null,null,null,null,null,null,null,null,null,31.5,197.92033717615698,{"$error":"#N/A"},{"$error":"#N/A"},{"$error":"#N/A"},{"$error":"#N/A"},{"$error":"#DIV/0!"},{"$error":"#DIV/0!"},{"$error":"#DIV/0!"},{"$error":"#N/A"},{"$error":"#N/A"},{"$error":"#N/A"},null,null,{"$error":"#DIV/0!"},{"$error":"#DIV/0!"},{"$error":"#DIV/0!"},{"$error":"#DIV/0!"},{"$error":"#DIV/0!"},{"$error":"#DIV/0!"},{"$error":"#DIV/0!"},{"$error":"#DIV/0!"},{"$error":"#DIV/0!"},{"$error":"#DIV/0!"},{"$f":"IF('Path Considerations'!$T$19=\"MPP\",'Sound Absorption Calculation'!AU14,'Sound Absorption Calculation'!AI14)","v":{"$error":"#N/A"}},{"$f":"'Multiple Absorption'!GB14","v":false},{"$f":"IF('Path Considerations'!$M$5=\"Single\",AV14,AW14)","v":{"$error":"#N/A"}},null,null,31.5,197.92033717615698,{"$error":"#N/A"},{"$error":"#N/A"},{"$error":"#N/A"},{"$error":"#N/A"},{"$error":"#DIV/0!"},{"$error":"#DIV/0!"},{"$error":"#DIV/0!"},{"$error":"#N/A"},{"$error":"#N/A"},{"$error":"#N/A"},null,null,{"$error":"#DIV/0!"},{"$error":"#DIV/0!"},{"$error":"#DIV/0!"},{"$error":"#DIV/0!"},{"$error":"#DIV/0!"},{"$error":"#DIV/0!"},{"$error":"#DIV/0!"},{"$error":"#DIV/0!"},{"$error":"#DIV/0!"},{"$error":"#DIV/0!"},{"$f":"IF('Path Considerations'!$T$19=\"MPP\",'Sound Absorption Calculation'!BX14,'Sound Absorption Calculation'!BL14)","v":{"$error":"#N/A"}},{"$f":"'Multiple Absorption'!ML14","v":false},{"$f":"IF('Path Considerations'!$M$11=\"Single\",BY14,BZ14)","v":false}]
[null,null,null,null,null,null,null,null,null,null,null,null,null,null,null,null,null,null,null,null,null,null,null,40,251.32741228718345,{"$error":"#N/A"},{"$error":"#N/A"},{"$error":"#N/A"},{"$error":"#N/A"},{"$error":"#DIV/0!"},{"$error":"#DIV/0!"},{"$error":"#DIV/0!"},{"$error":"#N/A"},{"$error":"#N/A"},{"$error":"#N/A"},null,null,{"$error":"#DIV/0!"},{"$error":"#DIV/0!"},{"$error":"#DIV/0!"},{"$error":"#DIV/0!"},{"$error":"#DIV/0!"},{"$error":"#DIV/0!"},{"$error":"#DIV/0!"},{"$error":"#DIV/0!"},{"$error":"#DIV/0!"},{"$error":"#DIV/0!"},{"$f":"IF('Path Considerations'!$T$19=\"MPP\",'Sound Absorption Calculation'!AU15,'Sound Absorption Calculation'!AI15)","v":{"$error":"#N/A"}},{"$f":"'Multiple Absorption'!GB15","v":false},{"$f":"IF('Path Considerations'!$M$5=\"Single\",AV15,AW15)","v":{"$error":"#N/A"}},null,null,40,251.32741228718345,{"$error":"#N/A"},{"$error":"#N/A"},{"$error":"#N/A"},{"$error":"#N/A"},{"$error":"#DIV/0!"},{"$error":"#DIV/0!"},{"$error":"#DIV/0!"},{"$error":"#N/A"},{"$error":"#N/A"},{"$error":"#N/A"},null,null,{"$error":"#DIV/0!"},{"$error":"#DIV/0!"},{"$error":"#DIV/0!"},{"$error":"#DIV/0!"},{"$error":"#DIV/0!"},{"$error":"#DIV/0!"},{"$error":"#DIV/0!"},{"$error":"#DIV/0!"},{"$error":"#DIV/0!"},{"$error":"#DIV/0!"},{"$f":"IF('Path Considerations'!$T$19=\"MPP\",'Sound Absorption Calculation'!BX15,'Sound Absorption Calculation'!BL15)","v":{"$error":"#N/A"}},{"$f":"'Multiple Absorption'!ML15","v":false},{"$f":"IF('Path Considerations'!$M$11=\"Single\",BY15,BZ15)","v":false}]
[null,null,null,null,null,null,null,null,null,null,null,null,null,null,null,null,null,null,null,null,null,null,null,50,314.15926535897933,{"$error":"#N/A"},{"$error":"#N/A"},{"$error":"#N/A"},{"$error":"#N/A"},{"$error":"#DIV/0!"},{"$error":"#DIV/0!"},{"$error":"#DIV/0!"},{"$error":"#N/A"},{"$error":"#N/A"},{"$error":"#N/A"},null,null,{"$error":"#DIV/0!"},{"$error":"#DIV/0!"},{"$error":"#DIV/0!"},{"$error":"#DIV/0!"},{"$error":"#DIV/0!"},{"$error":"#DIV/0!"},{"$error":"#DIV/0!"},{"$error":"#DIV/0!"},{"$error":"#DIV/0!"},{"$error":"#DIV/0!"},{"$f":"IF('Path Considerations'!$T$19=\"MPP\",'Sound Absorption Calculation'!AU16,'Sound Absorption Calculation'!AI16)","v":{"$error":"#N/A"}},{"$f":"'Multiple Absorption'!GB16","v":false},{"$f":"IF('Path Considerations'!$M$5=\"Single\",AV16,AW16)","v":{"$error":"#N/A"}},null,null,50,314.15926535897933,{"$error":"#N/A"},{"$error":"#N/A"},{"$error":"#N/A"},{"$error":"#N/A"},{"$error":"#DIV/0!"},{"$error":"#DIV/0!"},{"$error":"#DIV/0!"},{"$error":"#N/A"},{"$error":"#N/A"},{"$error":"#N/A"},null,null,{"$error":"#DIV/0!"},{"$error":"#DIV/0!"},{"$error":"#DIV/0!"},{"$error":"#DIV/0!"},{"$error":"#DIV/0!"},{"$error":"#DIV/0!"},{"$error":"#DIV/0!"},{"$error":"#DIV/0!"},{"$error":"#DIV/0!"},{"$error":"#DIV/0!"},{"$f":"IF('Path Considerations'!$T$19=\"MPP\",'Sound Absorption Calculation'!BX16,'Sound Absorption Calculation'!BL16)","v":{"$error":"#N/A"}},{"$f":"'Multiple Absorption'!ML16","v":false},{"$f":"IF('Path Considerations'!$M$11=\"Single\",BY16,BZ16)","v":false}]
["Source User Selected Model"," C1"," C2"," C3"," C4"," C5"," C6"," C7"," C8",null,null,null,"Absorption Material","Flow Resistivity (rayls/m)",null,null,null,null,null,null,null,null,null,63,395.84067435231395,{"$error":"#N/A"},{"$error":"#N/A"},{"$error":"#N/A"},{"$error":"#N/A"},{"$error":"#DIV/0!"},{"$error":"#DIV/0!"},{"$error":"#DIV/0!"},{"$error":"#N/A"},{"$error":"#N/A"},{"$error":"#N/A"},null,null,{"$error":"#DIV/0!"},{"$error":"#DIV/0!"},{"$error":"#DIV/0!"},{"$error":"#DIV/0!"},{"$error":"#DIV/0!"},{"$error":"#DIV/0!"},{"$error":"#DIV/0!"},{"$error":"#DIV/0!"},{"$error":"#DIV/0!"},{"$error":"#DIV/0!"},{"$f":"IF('Path Considerations'!$T$19=\"MPP\",'Sound Absorption Calculation'!AU17,'Sound Absorption Calculation'!AI17)","v":{"$error":"#N/A"}},{"$f":"'Multiple Absorption'!GB17","v":false},{"$f":"IF('Path Considerations'!$M$5=\"Single\",AV17,AW17)","v":{"$error":"#N/A"}},null,null,63,395.84067435231395,{"$error":"#N/A"},{"$error":"#N/A"},{"$error":"#N/A"},{"$error":"#N/A"},{"$error":"#DIV/0!"},{"$error":"#DIV/0!"},{"$error":"#DIV/0!"},{"$error":"#N/A"},{"$error":"#N/A"},{"$error":"#N/A"},null,null,{"$error":"#DIV/0!"},{"$error":"#DIV/0!"},{"$error":"#DIV/0!"},{"$error":"#DIV/0!"},{"$error":"#DIV/0!"},{"$error":"#DIV/0!"},{"$error":"#DIV/0!"},{"$error":"#DIV/0!"},{"$error":"#DIV/0!"},{"$error":"#DIV/0!"},{"$f":"IF('Path Considerations'!$T$19=\"MPP\",'Sound Absorption Calculation'!BX17,'Sound Absorption Calculation'!BL17)","v":{"$error":"#N/A"}},{"$f":"'Multiple Absorption'!ML17","v":false},{"$f":"IF('Path Considerations'!$M$11=\"Single\",BY17,BZ17)","v":false}]
[{"$f":"'Path Considerations'!S8","v":0},{"$f":"VLOOKUP('Path Considerations'!S8,A3:I6,2,FALSE)","v":{"$error":"#N/A"}},{"$f":"VLOOKUP('Path Considerations'!S8,A3:I6,3,FALSE)","v":{"$error":"#N/A"}},{"$f":"VLOOKUP('Path Considerations'!S8,A3:I6,4,FALSE)","v":{"$error":"#N/A"}},{"$f":"VLOOKUP('Path Considerations'!S8,A3:I6,5,FALSE)","v":{"$error":"#N/A"}},{"$f":"VLOOKUP('Path Considerations'!S8,A3:I6,6,FALSE)","v":{"$error":"#N/A"}},{"$f":"VLOOKUP('Path Considerations'!S8,A3:I6,7,FALSE)","v":{"$error":"#N/A"}},{"$f":"VLOOKUP('Path Considerations'!S8,A3:I6,8,FALSE)","v":{"$error":"#N/A"}},{"$f":"VLOOKUP('Path Considerations'!S8,A3:I6,9,FALSE)","v":{"$error":"#N/A"}},null,null,null,"Glasswool (Fibrous) - CVG",2475,null,null,null,null,null,null,null,null,null,80,502.6548245743669,{"$error":"#N/A"},{"$error":"#N/A"},{"$error":"#N/A"},{"$error":"#N/A"},{"$error":"#DIV/0!"},{"$error":"#DIV/0!"},{"$error":"#DIV/0!"},{"$error":"#N/A"},{"$error":"#N/A"},{"$error":"#N/A"},null,null,{"$error":"#DIV/0!"},{"$error":"#DIV/0!"},{"$error":"#DIV/0!"},{"$error":"#DIV/0!"},{"$error":"#DIV/0!"},{"$error":"#DIV/0!"},{"$error":"#DIV/0!"},{"$error":"#DIV/0!"},{"$error":"#DIV/0!"},{"$error":"#DIV/0!"},{"$f":"IF('Path Considerations'!$T$19=\"MPP\",'Sound Absorption Calculation'!AU18,'Sound Absorption Calculation'!AI18)","v":{"$error":"#N/A"}},{"$f":"'Multiple Absorption'!GB18","v":false},{"$f":"IF('Path Considerations'!$M$5=\"Single\",AV18,AW18)","v":{"$error":"#N/A"}},null,null,80,502.6548245743669,{"$error":"#N/A"},{"$error":"#N/A"},{"$error":"#N/A"},{"$error":"#N/A"},{"$error":"#DIV/0!"},{"$error":"#DIV/0!"},{"$error":"#DIV/0!"},{"$error":"#N/A"},{"$error":"#N/A"},{"$error":"#N/A"},null,null,{"$error":"#DIV/0!"},{"$error":"#DIV/0!"},{"$error":"#DIV/0!"},{"$error":"#DIV/0!"},{"$error":"#DIV/0!"},{"$error":"#DIV/0!"},{"$error":"#DIV/0!"},{"$error":"#DIV/0!"},{"$error":"#DIV/0!"},{"$error":"#DIV/0!"},{"$f":"IF('Path Considerations'!$T$19=\"MPP\",'Sound Absorption Calculation'!BX18,'Sound Absorption Calculation'!BL18)","v":{"$error":"#N/A"}},{"$f":"'Multiple Absorption'!ML18","v":false},{"$f":"IF('Path Considerations'!$M$11=\"Single\",BY18,BZ18)","v":false}]
["Material flow resistivity (R)",{"$f":"'Path Considerations'!S4","v":{"$error":"#N/A"}},null,null,null,null,null,null,null,null,null,null,"Glasswool (Fibrous) - Harley",1347,null,null,null,null,null,null,null,null,null,100,628.31853071795865,{"$error":"#N/A"},{"$error":"#N/A"},{"$error":"#N/A"},{"$error":"#N/A"},{"$error":"#DIV/0!"},{"$error":"#DIV/0!"},{"$error":"#DIV/0!"},{"$error":"#N/A"},{"$error":"#N/A"},{"$error":"#N/A"},null,null,{"$error":"#DIV/0!"},{"$error":"#DIV/0!"},{"$error":"#DIV/0!"},{"$error":"#DIV/0!"},{"$error":"#DIV/0!"},{"$error":"#DIV/0!"},{"$error":"#DIV/0!"},{"$error":"#DIV/0!"},{"$error":"#DIV/0!"},{"$error":"#DIV/0!"},{"$f":"IF('Path Considerations'!$T$19=\"MPP\",'Sound Absorption Calculation'!AU19,'Sound Absorption Calculation'!AI19)","v":{"$error":"#N/A"}},{"$f":"'Multiple Absorption'!GB19","v":false},{"$f":"IF('Path Considerations'!$M$5=\"Single\",AV19,AW19)","v":{"$error":"#N/A"}},null,null,100,628.31853071795865,{"$error":"#N/A"},{"$error":"#N/A"},{"$error":"#N/A"},{"$error":"#N/A"},{"$error":"#DIV/0!"},{"$error":"#DIV/0!"},{"$error":"#DIV/0!"},{"$error":"#N/A"},{"$error":"#N/A"},{"$error":"#N/A"},null,null,{"$error":"#DIV/0!"},{"$error":"#DIV/0!"},{"$error":"#DIV/0!"},{"$error":"#DIV/0!"},{"$error":"#DIV/0!"},{"$error":"#DIV/0!"},{"$error":"#DIV/0!"},{"$error":"#DIV/0!"},{"$error":"#DIV/0!"},{"$error":"#DIV/0!"},{"$f":"IF('Path Considerations'!$T$19=\"MPP\",'Sound Absorption Calculation'!BX19,'Sound Absorption Calculation'!BL19)","v":{"$error":"#N/A"}},{"$f":"'Multiple Absorption'!ML19","v":false},{"$f":"IF('Path Considerations'!$M$11=\"Single\",BY19,BZ19)","v":false}]
["Absorption material specimen thickness  (in m)",{"$f":"'Path Considerations'!S5","v":0},null,null,null,null,null,null,null,null,null,null,"Polyurethane (Foam) - LAB",2097,null,null,null,null,null,null,null,null,null,125,785.39816339744823,{"$error":"#N/A"},{"$error":"#N/A"},{"$error":"#N/A"},{"$error":"#N/A"},{"$error":"#DIV/0!"},{"$error":"#DIV/0!"},{"$error":"#DIV/0!"},{"$error":"#N/A"},{"$error":"#N/A"},{"$error":"#N/A"},null,null,{"$error":"#DIV/0!"},{"$error":"#DIV/0!"},{"$error":"#DIV/0!"},{"$error":"#DIV/0!"},{"$error":"#DIV/0!"},{"$error":"#DIV/0!"},{"$error":"#DIV/0!"},{"$error":"#DIV/0!"},{"$error":"#DIV/0!"},{"$error":"#DIV/0!"},{"$f":"IF('Path Considerations'!$T$19=\"MPP\",'Sound Absorption Calculation'!AU20,'Sound Absorption Calculation'!AI20)","v":{"$error":"#N/A"}},{"$f":"'Multiple Absorption'!GB20","v":false},{"$f":"IF('Path Considerations'!$M$5=\"Single\",AV20,AW20)","v":{"$error":"#N/A"}},null,null,125,785.39816339744823,{"$error":"#N/A"},{"$error":"#N/A"},{"$error":"#N/A"},{"$error":"#N/A"},{"$error":"#DIV/0!"},{"$error":"#DIV/0!"},{"$error":"#DIV/0!"},{"$error":"#N/A"},{"$error":"#N/A"},{"$error":"#N/A"},null,null,{"$error":"#DIV/0!"},{"$error":"#DIV/0!"},{"$error":"#DIV/0!"},{"$error":"#DIV/0!"},{"$error":"#DIV/0!"},{"$error":"#DIV/0!"},{"$error":"#DIV/0!"},{"$error":"#DIV/0!"},{"$error":"#DIV/0!"},{"$error":"#DIV/0!"},{"$f":"IF('Path Considerations'!$T$19=\"MPP\",'Sound Absorption Calculation'!BX20,'Sound Absorption Calculation'!BL20)","v":{"$error":"#N/A"}},{"$f":"'Multiple Absorption'!ML20","v":false},{"$f":"IF('Path Considerations'!$M$11=\"Single\",BY20,BZ20)","v":false}]
["Mass Density (ρ)",{"$f":"'Path Considerations'!S6","v":0},null,null,null,null,null,null,null,null,null,null,"Glassfiber (Fibrous) - CVG",57594,null,null,null,null,null,null,null,null,null,160,1005.3096491487338,{"$error":"#N/A"},{"$error":"#N/A"},{"$error":"#N/A"},{"$error":"#N/A"},{"$error":"#DIV/0!"},{"$error":"#DIV/0!"},{"$error":"#DIV/0!"},{"$error":"#N/A"},{"$error":"#N/A"},{"$error":"#N/A"},null,null,{"$error":"#DIV/0!"},{"$error":"#DIV/0!"},{"$error":"#DIV/0!"},{"$error":"#DIV/0!"},{"$error":"#DIV/0!"},{"$error":"#DIV/0!"},{"$error":"#DIV/0!"},{"$error":"#DIV/0!"},{"$error":"#DIV/0!"},{"$error":"#DIV/0!"},{"$f":"IF('Path Considerations'!$T$19=\"MPP\",'Sound Absorption Calculation'!AU21,'Sound Absorption Calculation'!AI21)","v":{"$error":"#N/A"}},{"$f":"'Multiple Absorption'!GB21","v":false},{"$f":"IF('Path Considerations'!$M$5=\"Single\",AV21,AW21)","v":{"$error":"#N/A"}},null,null,160,1005.3096491487338,{"$error":"#N/A"},{"$error":"#N/A"},{"$error":"#N/A"},{"$error":"#N/A"},{"$error":"#DIV/0!"},{"$error":"#DIV/0!"},{"$error":"#DIV/0!"},{"$error":"#N/A"},{"$error":"#N/A"},{"$error":"#N/A"},null,null,{"$error":"#DIV/0!"},{"$error":"#DIV/0!"},{"$error":"#DIV/0!"},{"$error":"#DIV/0!"},{"$error":"#DIV/0!"},{"$error":"#DIV/0!"},{"$error":"#DIV/0!"},{"$error":"#DIV/0!"},{"$error":"#DIV/0!"},{"$error":"#DIV/0!"},{"$f":"IF('Path Considerations'!$T$19=\"MPP\",'Sound Absorption Calculation'!BX21,'Sound Absorption Calculation'!BL21)","v":{"$error":"#N/A"}},{"$f":"'Multiple Absorption'!ML21","v":false},{"$f":"IF('Path Considerations'!$M$11=\"Single\",BY21,BZ21)","v":false}]
["Speed of Sound (c)",{"$f":"'Path Considerations'!S7","v":0},null,null,null,null,null,null,null,null,null,null,"Polyester (Foam) - CVG",11904,null,null,null,null,null,null,null,null,null,200,1256.6370614359173,{"$error":"#N/A"},{"$error":"#N/A"},{"$error":"#N/A"},{"$error":"#N/A"},{"$error":"#DIV/0!"},{"$error":"#DIV/0!"},{"$error":"#DIV/0!"},{"$error":"#N/A"},{"$error":"#N/A"},{"$error":"#N/A"},null,null,{"$error":"#DIV/0!"},{"$error":"#DIV/0!"},{"$error":"#DIV/0!"},{"$error":"#DIV/0!"},{"$error":"#DIV/0!"},{"$error":"#DIV/0!"},{"$error":"#DIV/0!"},{"$error":"#DIV/0!"},{"$error":"#DIV/0!"},{"$error":"#DIV/0!"},{"$f":"IF('Path Considerations'!$T$19=\"MPP\",'Sound Absorption Calculation'!AU22,'Sound Absorption Calculation'!AI22)","v":{"$error":"#N/A"}},{"$f":"'Multiple Absorption'!GB22","v":false},{"$f":"IF('Path Considerations'!$M$5=\"Single\",AV22,AW22)","v":{"$error":"#N/A"}},null,null,200,1256.6370614359173,{"$error":"#N/A"},{"$error":"#N/A"},{"$error":"#N/A"},{"$error":"#N/A"},{"$error":"#DIV/0!"},{"$error":"#DIV/0!"},{"$error":"#DIV/0!"},{"$error":"#N/A"},{"$error":"#N/A"},{"$error":"#N/A"},null,null,{"$error":"#DIV/0!"},{"$error":"#DIV/0!"},{"$error":"#DIV/0!"},{"$error":"#DIV/0!"},{"$error":"#DIV/0!"},{"$error":"#DIV/0!"},{"$error":"#DIV/0!"},{"$error":"#DIV/0!"},{"$error":"#DIV/0!"},{"$error":"#DIV/0!"},{"$f":"IF('Path Considerations'!$T$19=\"MPP\",'Sound Absorption Calculation'!BX22,'Sound Absorption Calculation'!BL22)","v":{"$error":"#N/A"}},{"$f":"'Multiple Absorption'!ML22","v":false},{"$f":"IF('Path Considerations'!$M$11=\"Single\",BY22,BZ22)","v":false}]
[null,null,null,null,null,null,null,null,null,null,null,null,"Polyester (Foam) - LAB",18828,null,null,null,null,null,null,null,null,null,250,1570.7963267948965,{"$error":"#N/A"},{"$error":"#N/A"},{"$error":"#N/A"},{"$error":"#N/A"},{"$error":"#DIV/0!"},{"$error":"#DIV/0!"},{"$error":"#DIV/0!"},{"$error":"#N/A"},{"$error":"#N/A"},{"$error":"#N/A"},null,null,{"$error":"#DIV/0!"},{"$error":"#DIV/0!"},{"$error":"#DIV/0!"},{"$error":"#DIV/0!"},{"$error":"#DIV/0!"},{"$error":"#DIV/0!"},{"$error":"#DIV/0!"},{"$error":"#DIV/0!"},{"$error":"#DIV/0!"},{"$error":"#DIV/0!"},{"$f":"IF('Path Considerations'!$T$19=\"MPP\",'Sound Absorption Calculation'!AU23,'Sound Absorption Calculation'!AI23)","v":{"$error":"#N/A"}},{"$f":"'Multiple Absorption'!GB23","v":false},{"$f":"IF('Path Considerations'!$M$5=\"Single\",AV23,AW23)","v":{"$error":"#N/A"}},null,null,250,1570.7963267948965,{"$error":"#N/A"},{"$error":"#N/A"},{"$error":"#N/A"},{"$error":"#N/A"},{"$error":"#DIV/0!"},{"$error":"#DIV/0!"},{"$error":"#DIV/0!"},{"$error":"#N/A"},{"$error":"#N/A"},{"$error":"#N/A"},null,null,{"$error":"#DIV/0!"},{"$error":"#DIV/0!"},{"$error":"#DIV/0!"},{"$error":"#DIV/0!"},{"$error":"#DIV/0!"},{"$error":"#DIV/0!"},{"$error":"#DIV/0!"},{"$error":"#DIV/0!"},{"$error":"#DIV/0!"},{"$error":"#DIV/0!"},{"$f":"IF('Path Considerations'!$T$19=\"MPP\",'Sound Absorption Calculation'!BX23,'Sound Absorption Calculation'!BL23)","v":{"$error":"#N/A"}},{"$f":"'Multiple Absorption'!ML23","v":false},{"$f":"IF('Path Considerations'!$M$11=\"Single\",BY23,BZ23)","v":false}]
["Receiver User Selected Model"," C1"," C2"," C3"," C4"," C5"," C6"," C7"," C8",null,null,null,"Melamine (Foam) - CVG",7745,null,null,null,null,null,null,null,null,null,315,1979.2033717615698,{"$error":"#N/A"},{"$error":"#N/A"},{"$error":"#N/A"},{"$error":"#N/A"},{"$error":"#DIV/0!"},{"$error":"#DIV/0!"},{"$error":"#DIV/0!"},{"$error":"#N/A"},{"$error":"#N/A"},{"$error":"#N/A"},null,null,{"$error":"#DIV/0!"},{"$error":"#DIV/0!"},{"$error":"#DIV/0!"},{"$error":"#DIV/0!"},{"$error":"#DIV/0!"},{"$error":"#DIV/0!"},{"$error":"#DIV/0!"},{"$error":"#DIV/0!"},{"$error":"#DIV/0!"},{"$error":"#DIV/0!"},{"$f":"IF('Path Considerations'!$T$19=\"MPP\",'Sound Absorption Calculation'!AU24,'Sound Absorption Calculation'!AI24)","v":{"$error":"#N/A"}},{"$f":"'Multiple Absorption'!GB24","v":false},{"$f":"IF('Path Considerations'!$M$5=\"Single\",AV24,AW24)","v":{"$error":"#N/A"}},null,null,315,1979.2033717615698,{"$error":"#N/A"},{"$error":"#N/A"},{"$error":"#N/A"},{"$error":"#N/A"},{"$error":"#DIV/0!"},{"$error":"#DIV/0!"},{"$error":"#DIV/0!"},{"$error":"#N/A"},{"$error":"#N/A"},{"$error":"#N/A"},null,null,{"$error":"#DIV/0!"},{"$error":"#DIV/0!"},{"$error":"#DIV/0!"},{"$error":"#DIV/0!"},{"$error":"#DIV/0!"},{"$error":"#DIV/0!"},{"$error":"#DIV/0!"},{"$error":"#DIV/0!"},{"$error":"#DIV/0!"},{"$error":"#DIV/0!"},{"$f":"IF('Path Considerations'!$T$19=\"MPP\",'Sound Absorption Calculation'!BX24,'Sound Absorption Calculation'!BL24)","v":{"$error":"#N/A"}},{"$f":"'Multiple Absorption'!ML24","v":false},{"$f":"IF('Path Considerations'!$M$11=\"Single\",BY24,BZ24)","v":false}]
[{"$f":"'Path Considerations'!S14","v":0},{"$f":"VLOOKUP('Path Considerations'!S14,A3:I6,2,FALSE)","v":{"$error":"#N/A"}},{"$f":"VLOOKUP('Path Considerations'!S14,A3:I6,3,FALSE)","v":{"$error":"#N/A"}},{"$f":"VLOOKUP('Path Considerations'!S14,A3:I6,4,FALSE)","v":{"$error":"#N/A"}},{"$f":"VLOOKUP('Path Considerations'!S14,A3:I6,5,FALSE)","v":{"$error":"#N/A"}},{"$f":"VLOOKUP('Path Considerations'!S14,A3:I6,6,FALSE)","v":{"$error":"#N/A"}},{"$f":"VLOOKUP('Path Considerations'!S14,A3:I6,7,FALSE)","v":{"$error":"#N/A"}},{"$f":"VLOOKUP('Path Considerations'!S14,A3:I6,8,FALSE)","v":{"$error":"#N/A"}},{"$f":"VLOOKUP('Path Considerations'!S14,A3:I6,9,FALSE)","v":{"$error":"#N/A"}},null,null,null,"Polymide (Foam) - LAB",10495,null,null,null,null,null,null,null,null,null,400,2513.2741228718346,{"$error":"#N/A"},{"$error":"#N/A"},{"$error":"#N/A"},{"$error":"#N/A"},{"$error":"#DIV/0!"},{"$error":"#DIV/0!"},{"$error":"#DIV/0!"},{"$error":"#N/A"},{"$error":"#N/A"},{"$error":"#N/A"},null,null,{"$error":"#DIV/0!"},{"$error":"#DIV/0!"},{"$error":"#DIV/0!"},{"$error":"#DIV/0!"},{"$error":"#DIV/0!"},{"$error":"#DIV/0!"},{"$error":"#DIV/0!"},{"$error":"#DIV/0!"},{"$error":"#DIV/0!"},{"$error":"#DIV/0!"},{"$f":"IF('Path Considerations'!$T$19=\"MPP\",'Sound Absorption Calculation'!AU25,'Sound Absorption Calculation'!AI25)","v":{"$error":"#N/A"}},{"$f":"'Multiple Absorption'!GB25","v":false},{"$f":"IF('Path Considerations'!$M$5=\"Single\",AV25,AW25)","v":{"$error":"#N/A"}},null,null,400,2513.2741228718346,{"$error":"#N/A"},{"$error":"#N/A"},{"$error":"#N/A"},{"$error":"#N/A"},{"$error":"#DIV/0!"},{"$error":"#DIV/0!"},{"$error":"#DIV/0!"},{"$error":"#N/A"},{"$error":"#N/A"},{"$error":"#N/A"},null,null,{"$error":"#DIV/0!"},{"$error":"#DIV/0!"},{"$error":"#DIV/0!"},{"$error":"#DIV/0!"},{"$error":"#DIV/0!"},{"$error":"#DIV/0!"},{"$error":"#DIV/0!"},{"$error":"#DIV/0!"},{"$error":"#DIV/0!"},{"$error":"#DIV/0!"},{"$f":"IF('Path Considerations'!$T$19=\"MPP\",'Sound Absorption Calculation'!BX25,'Sound Absorption Calculation'!BL25)","v":{"$error":"#N/A"}},{"$f":"'Multiple Absorption'!ML25","v":false},{"$f":"IF('Path Considerations'!$M$11=\"Single\",BY25,BZ25)","v":false}]
["Material flow resistivity (R)",{"$f":"'Path Considerations'!S10","v":{"$error":"#N/A"}},null,null,null,null,null,null,null,null,null,null,"Miscellaneous Foam - LAB",4857,null,null,null,null,null,null,null,null,null,500,3141.5926535897929,{"$error":"#N/A"},{"$error":"#N/A"},{"$error":"#N/A"},{"$error":"#N/A"},{"$error":"#DIV/0!"},{"$error":"#DIV/0!"},{"$error":"#DIV/0!"},{"$error":"#N/A"},{"$error":"#N/A"},{"$error":"#N/A"},null,null,{"$error":"#DIV/0!"},{"$error":"#DIV/0!"},{"$error":"#DIV/0!"},{"$error":"#DIV/0!"},{"$error":"#DIV/0!"},{"$error":"#DIV/0!"},{"$error":"#DIV/0!"},{"$error":"#DIV/0!"},{"$error":"#DIV/0!"},{"$error":"#DIV/0!"},{"$f":"IF('Path Considerations'!$T$19=\"MPP\",'Sound Absorption Calculation'!AU26,'Sound Absorption Calculation'!AI26)","v":{"$error":"#N/A"}},{"$f":"'Multiple Absorption'!GB26","v":false},{"$f":"IF('Path Considerations'!$M$5=\"Single\",AV26,AW26)","v":{"$error":"#N/A"}},null,null,500,3141.5926535897929,{"$error":"#N/A"},{"$error":"#N/A"},{"$error":"#N/A"},{"$error":"#N/A"},{"$error":"#DIV/0!"},{"$error":"#DIV/0!"},{"$error":"#DIV/0!"},{"$error":"#N/A"},{"$error":"#N/A"},{"$error":"#N/A"},null,null,{"$error":"#DIV/0!"},{"$error":"#DIV/0!"},{"$error":"#DIV/0!"},{"$error":"#DIV/0!"},{"$error":"#DIV/0!"},{"$error":"#DIV/0!"},{"$error":"#DIV/0!"},{"$error":"#DIV/0!"},{"$error":"#DIV/0!"},{"$error":"#DIV/0!"},{"$f":"IF('Path Considerations'!$T$19=\"MPP\",'Sound Absorption Calculation'!BX26,'Sound Absorption Calculation'!BL26)","v":{"$error":"#N/A"}},{"$f":"'Multiple Absorption'!ML26","v":false},{"$f":"IF('Path Considerations'!$M$11=\"Single\",BY26,BZ26)","v":false}]
["Absorption material specimen thickness  (in m)",{"$f":"'Path Considerations'!S11","v":0},null,null,null,null,null,null,null,null,null,null,null,null,null,null,null,null,null,null,null,null,null,630,3958.4067435231395,{"$error":"#N/A"},{"$error":"#N/A"},{"$error":"#N/A"},{"$error":"#N/A"},{"$error":"#DIV/0!"},{"$error":"#DIV/0!"},{"$error":"#DIV/0!"},{"$error":"#N/A"},{"$error":"#N/A"},{"$error":"#N/A"},null,null,{"$error":"#DIV/0!"},{"$error":"#DIV/0!"},{"$error":"#DIV/0!"},{"$error":"#DIV/0!"},{"$error":"#DIV/0!"},{"$error":"#DIV/0!"},{"$error":"#DIV/0!"},{"$error":"#DIV/0!"},{"$error":"#DIV/0!"},{"$error":"#DIV/0!"},{"$f":"IF('Path Considerations'!$T$19=\"MPP\",'Sound Absorption Calculation'!AU27,'Sound Absorption Calculation'!AI27)","v":{"$error":"#N/A"}},{"$f":"'Multiple Absorption'!GB27","v":false},{"$f":"IF('Path Considerations'!$M$5=\"Single\",AV27,AW27)","v":{"$error":"#N/A"}},null,null,630,3958.4067435231395,{"$error":"#N/A"},{"$error":"#N/A"},{"$error":"#N/A"},{"$error":"#N/A"},{"$error":"#DIV/0!"},{"$error":"#DIV/0!"},{"$error":"#DIV/0!"},{"$error":"#N/A"},{"$error":"#N/A"},{"$error":"#N/A"},null,null,{"$error":"#DIV/0!"},{"$error":"#DIV/0!"},{"$error":"#DIV/0!"},{"$error":"#DIV/0!"},{"$error":"#DIV/0!"},{"$error":"#DIV/0!"},{"$error":"#DIV/0!"},{"$error":"#DIV/0!"},{"$error":"#DIV/0!"},{"$error":"#DIV/0!"},{"$f":"IF('Path Considerations'!$T$19=\"MPP\",'Sound Absorption Calculation'!BX27,'Sound Absorption Calculation'!BL27)","v":{"$error":"#N/A"}},{"$f":"'Multiple Absorption'!ML27","v":false},{"$f":"IF('Path Considerations'!$M$11=\"Single\",BY27,BZ27)","v":false}]
["Mass Density (ρ)",{"$f":"'Path Considerations'!S12","v":0},null,null,null,null,null,null,null,null,null,null,null,null,null,null,null,null,null,null,null,null,null,800,5026.5482457436692,{"$error":"#N/A"},{"$error":"#N/A"},{"$error":"#N/A"},{"$error":"#N/A"},{"$error":"#DIV/0!"},{"$error":"#DIV/0!"},{"$error":"#DIV/0!"},{"$error":"#N/A"},{"$error":"#N/A"},{"$error":"#N/A"},null,null,{"$error":"#DIV/0!"},{"$error":"#DIV/0!"},{"$error":"#DIV/0!"},{"$error":"#DIV/0!"},{"$error":"#DIV/0!"},{"$error":"#DIV/0!"},{"$error":"#DIV/0!"},{"$error":"#DIV/0!"},{"$error":"#DIV/0!"},{"$error":"#DIV/0!"},{"$f":"IF('Path Considerations'!$T$19=\"MPP\",'Sound Absorption Calculation'!AU28,'Sound Absorption Calculation'!AI28)","v":{"$error":"#N/A"}},{"$f":"'Multiple Absorption'!GB28","v":false},{"$f":"IF('Path Considerations'!$M$5=\"Single\",AV28,AW28)","v":{"$error":"#N/A"}},null,null,800,5026.5482457436692,{"$error":"#N/A"},{"$error":"#N/A"},{"$error":"#N/A"},{"$error":"#N/A"},{"$error":"#DIV/0!"},{"$error":"#DIV/0!"},{"$error":"#DIV/0!"},{"$error":"#N/A"},{"$error":"#N/A"},{"$error":"#N/A"},null,null,{"$error":"#DIV/0!"},{"$error":"#DIV/0!"},{"$error":"#DIV/0!"},{"$error":"#DIV/0!"},{"$error":"#DIV/0!"},{"$error":"#DIV/0!"},{"$error":"#DIV/0!"},{"$error":"#DIV/0!"},{"$error":"#DIV/0!"},{"$error":"#DIV/0!"},{"$f":"IF('Path Considerations'!$T$19=\"MPP\",'Sound Absorption Calculation'!BX28,'Sound Absorption Calculation'!BL28)","v":{"$error":"#N/A"}},{"$f":"'Multiple Absorption'!ML28","v":false},{"$f":"IF('Path Considerations'!$M$11=\"Single\",BY28,BZ28)","v":false}]
["Speed of Sound (c)",{"$f":"'Path Considerations'!S13","v":0},null,null,null,null,null,null,null,null,null,null,null,null,null,null,null,null,null,null,null,null,null,1000,6283.1853071795858,{"$error":"#N/A"},{"$error":"#N/A"},{"$error":"#N/A"},{"$error":"#N/A"},{"$error":"#DIV/0!"},{"$error":"#DIV/0!"},{"$error":"#DIV/0!"},{"$error":"#N/A"},{"$error":"#N/A"},{"$error":"#N/A"},null,null,{"$error":"#DIV/0!"},{"$error":"#DIV/0!"},{"$error":"#DIV/0!"},{"$error":"#DIV/0!"},{"$error":"#DIV/0!"},{"$error":"#DIV/0!"},{"$error":"#DIV/0!"},{"$error":"#DIV/0!"},{"$error":"#DIV/0!"},{"$error":"#DIV/0!"},{"$f":"IF('Path Considerations'!$T$19=\"MPP\",'Sound Absorption Calculation'!AU29,'Sound Absorption Calculation'!AI29)","v":{"$error":"#N/A"}},{"$f":"'Multiple Absorption'!GB29","v":false},{"$f":"IF('Path Considerations'!$M$5=\"Single\",AV29,AW29)","v":{"$error":"#N/A"}},null,null,1000,6283.1853071795858,{"$error":"#N/A"},{"$error":"#N/A"},{"$error":"#N/A"},{"$error":"#N/A"},{"$error":"#DIV/0!"},{"$error":"#DIV/0!"},{"$error":"#DIV/0!"},{"$error":"#N/A"},{"$error":"#N/A"},{"$error":"#N/A"},null,null,{"$error":"#DIV/0!"},{"$error":"#DIV/0!"},{"$error":"#DIV/0!"},{"$error":"#DIV/0!"},{"$error":"#DIV/0!"},{"$error":"#DIV/0!"},{"$error":"#DIV/0!"},{"$error":"#DIV/0!"},{"$error":"#DIV/0!"},{"$error":"#DIV/0!"},{"$f":"IF('Path Considerations'!$T$19=\"MPP\",'Sound Absorption Calculation'!BX29,'Sound Absorption Calculation'!BL29)","v":{"$error":"#N/A"}},{"$f":"'Multiple Absorption'!ML29","v":false},{"$f":"IF('Path Considerations'!$M$11=\"Single\",BY29,BZ29)","v":false}]
[null,null,null,null,null,null,null,null,null,null,null,null,null,null,null,null,null,null,null,null,null,null,null,1250,7853.981633974483,{"$error":"#N/A"},{"$error":"#N/A"},{"$error":"#N/A"},{"$error":"#N/A"},{"$error":"#DIV/0!"},{"$error":"#DIV/0!"},{"$error":"#DIV/0!"},{"$error":"#N/A"},{"$error":"#N/A"},{"$error":"#N/A"},null,null,{"$error":"#DIV/0!"},{"$error":"#DIV/0!"},{"$error":"#DIV/0!"},{"$error":"#DIV/0!"},{"$error":"#DIV/0!"},{"$error":"#DIV/0!"},{"$error":"#DIV/0!"},{"$error":"#DIV/0!"},{"$error":"#DIV/0!"},{"$error":"#DIV/0!"},{"$f":"IF('Path Considerations'!$T$19=\"MPP\",'Sound Absorption Calculation'!AU30,'Sound Absorption Calculation'!AI30)","v":{"$error":"#N/A"}},{"$f":"'Multiple Absorption'!GB30","v":false},{"$f":"IF('Path Considerations'!$M$5=\"Single\",AV30,AW30)","v":{"$error":"#N/A"}},null,null,1250,7853.981633974483,{"$error":"#N/A"},{"$error":"#N/A"},{"$error":"#N/A"},{"$error":"#N/A"},{"$error":"#DIV/0!"},{"$error":"#DIV/0!"},{"$error":"#DIV/0!"},{"$error":"#N/A"},{"$error":"#N/A"},{"$error":"#N/A"},null,null,{"$error":"#DIV/0!"},{"$error":"#DIV/0!"},{"$error":"#DIV/0!"},{"$error":"#DIV/0!"},{"$error":"#DIV/0!"},{"$error":"#DIV/0!"},{"$error":"#DIV/0!"},{"$error":"#DIV/0!"},{"$error":"#DIV/0!"},{"$error":"#DIV/0!"},{"$f":"IF('Path Considerations'!$T$19=\"MPP\",'Sound Absorption Calculation'!BX30,'Sound Absorption Calculation'!BL30)","v":{"$error":"#N/A"}},{"$f":"'Multiple Absorption'!ML30","v":false},{"$f":"IF('Path Considerations'!$M$11=\"Single\",BY30,BZ30)","v":false}]
[null,null,null,null,null,null,null,null,null,null,null,null,null,null,null,null,null,null,null,null,null,null,null,1600,10053.096491487338,{"$error":"#N/A"},{"$error":"#N/A"},{"$error":"#N/A"},{"$error":"#N/A"},{"$error":"#DIV/0!"},{"$error":"#DIV/0!"},{"$error":"#DIV/0!"},{"$error":"#N/A"},{"$error":"#N/A"},{"$error":"#N/A"},null,null,{"$error":"#DIV/0!"},{"$error":"#DIV/0!"},{"$error":"#DIV/0!"},{"$error":"#DIV/0!"},{"$error":"#DIV/0!"},{"$error":"#DIV/0!"},{"$error":"#DIV/0!"},{"$error":"#DIV/0!"},{"$error":"#DIV/0!"},{"$error":"#DIV/0!"},{"$f":"IF('Path Considerations'!$T$19=\"MPP\",'Sound Absorption Calculation'!AU31,'Sound Absorption Calculation'!AI31)","v":{"$error":"#N/A"}},{"$f":"'Multiple Absorption'!GB31","v":false},{"$f":"IF('Path Considerations'!$M$5=\"Single\",AV31,AW31)","v":{"$error":"#N/A"}},null,null,1600,10053.096491487338,{"$error":"#N/A"},{"$error":"#N/A"},{"$error":"#N/A"},{"$error":"#N/A"},{"$error":"#DIV/0!"},{"$error":"#DIV/0!"},{"$error":"#DIV/0!"},{"$error":"#N/A"},{"$error":"#N/A"},{"$error":"#N/A"},null,null,{"$error":"#DIV/0!"},{"$error":"#DIV/0!"},{"$error":"#DIV/0!"},{"$error":"#DIV/0!"},{"$error":"#DIV/0!"},{"$error":"#DIV/0!"},{"$error":"#DIV/0!"},{"$error":"#DIV/0!"},{"$error":"#DIV/0!"},{"$error":"#DIV/0!"},{"$f":"IF('Path Considerations'!$T$19=\"MPP\",'Sound Absorption Calculation'!BX31,'Sound Absorption Calculation'!BL31)","v":{"$error":"#N/A"}},{"$f":"'Multiple Absorption'!ML31","v":false},{"$f":"IF('Path Considerations'!$M$11=\"Single\",BY31,BZ31)","v":false}]
[null,null,null,null,null,null,null,null,null,null,null,null,null,null,null,null,null,null,null,null,null,null,null,2000,12566.370614359172,{"$error":"#N/A"},{"$error":"#N/A"},{"$error":"#N/A"},{"$error":"#N/A"},{"$error":"#DIV/0!"},{"$error":"#DIV/0!"},{"$error":"#DIV/0!"},{"$error":"#N/A"},{"$error":"#N/A"},{"$error":"#N/A"},null,null,{"$error":"#DIV/0!"},{"$error":"#DIV/0!"},{"$error":"#DIV/0!"},{"$error":"#DIV/0!"},{"$error":"#DIV/0!"},{"$error":"#DIV/0!"},{"$error":"#DIV/0!"},{"$error":"#DIV/0!"},{"$error":"#DIV/0!"},{"$error":"#DIV/0!"},{"$f":"IF('Path Considerations'!$T$19=\"MPP\",'Sound Absorption Calculation'!AU32,'Sound Absorption Calculation'!AI32)","v":{"$error":"#N/A"}},{"$f":"'Multiple Absorption'!GB32","v":false},{"$f":"IF('Path Considerations'!$M$5=\"Single\",AV32,AW32)","v":{"$error":"#N/A"}},null,null,2000,12566.370614359172,{"$error":"#N/A"},{"$error":"#N/A"},{"$error":"#N/A"},{"$error":"#N/A"},{"$error":"#DIV/0!"},{"$error":"#DIV/0!"},{"$error":"#DIV/0!"},{"$error":"#N/A"},{"$error":"#N/A"},{"$error":"#N/A"},null,null,{"$error":"#DIV/0!"},{"$error":"#DIV/0!"},{"$error":"#DIV/0!"},{"$error":"#DIV/0!"},{"$error":"#DIV/0!"},{"$error":"#DIV/0!"},{"$error":"#DIV/0!"},{"$error":"#DIV/0!"},{"$error":"#DIV/0!"},{"$error":"#DIV/0!"},{"$f":"IF('Path Considerations'!$T$19=\"MPP\",'Sound Absorption Calculation'!BX32,'Sound Absorption Calculation'!BL32)","v":{"$error":"#N/A"}},{"$f":"'Multiple Absorption'!ML32","v":false},{"$f":"IF('Path Considerations'!$M$11=\"Single\",BY32,BZ32)","v":false}]
["Source MPP",null,null,null,null,null,null,null,null,null,null,null,null,null,null,null,null,null,null,null,null,null,null,2500,15707.963267948966,{"$error":"#N/A"},{"$error":"#N/A"},{"$error":"#N/A"},{"$error":"#N/A"},{"$error":"#DIV/0!"},{"$error":"#DIV/0!"},{"$error":"#DIV/0!"},{"$error":"#N/A"},{"$error":"#N/A"},{"$error":"#N/A"},null,null,{"$error":"#DIV/0!"},{"$error":"#DIV/0!"},{"$error":"#DIV/0!"},{"$error":"#DIV/0!"},{"$error":"#DIV/0!"},{"$error":"#DIV/0!"},{"$error":"#DIV/0!"},{"$error":"#DIV/0!"},{"$error":"#DIV/0!"},{"$error":"#DIV/0!"},{"$f":"IF('Path Considerations'!$T$19=\"MPP\",'Sound Absorption Calculation'!AU33,'Sound Absorption Calculation'!AI33)","v":{"$error":"#N/A"}},{"$f":"'Multiple Absorption'!GB33","v":false},{"$f":"IF('Path Considerations'!$M$5=\"Single\",AV33,AW33)","v":{"$error":"#N/A"}},null,null,2500,15707.963267948966,{"$error":"#N/A"},{"$error":"#N/A"},{"$error":"#N/A"},{"$error":"#N/A"},{"$error":"#DIV/0!"},{"$error":"#DIV/0!"},{"$error":"#DIV/0!"},{"$error":"#N/A"},{"$error":"#N/A"},{"$error":"#N/A"},null,null,{"$error":"#DIV/0!"},{"$error":"#DIV/0!"},{"$error":"#DIV/0!"},{"$error":"#DIV/0!"},{"$error":"#DIV/0!"},{"$error":"#DIV/0!"},{"$error":"#DIV/0!"},{"$error":"#DIV/0!"},{"$error":"#DIV/0!"},{"$error":"#DIV/0!"},{"$f":"IF('Path Considerations'!$T$19=\"MPP\",'Sound Absorption Calculation'!BX33,'Sound Absorption Calculation'!BL33)","v":{"$error":"#N/A"}},{"$f":"'Multiple Absorption'!ML33","v":false},{"$f":"IF('Path Considerations'!$M$11=\"Single\",BY33,BZ33)","v":false}]
["Viscosity of medium (η)",{"$f":"'Path Considerations'!U4","v":0},null,null,null,null,null,null,null,null,null,null,null,null,null,null,null,null,null,null,null,null,null,3150,19792.033717615697,{"$error":"#N/A"},{"$error":"#N/A"},{"$error":"#N/A"},{"$error":"#N/A"},{"$error":"#DIV/0!"},{"$error":"#DIV/0!"},{"$error":"#DIV/0!"},{"$error":"#N/A"},{"$error":"#N/A"},{"$error":"#N/A"},null,null,{"$error":"#DIV/0!"},{"$error":"#DIV/0!"},{"$error":"#DIV/0!"},{"$error":"#DIV/0!"},{"$error":"#DIV/0!"},{"$error":"#DIV/0!"},{"$error":"#DIV/0!"},{"$error":"#DIV/0!"},{"$error":"#DIV/0!"},{"$error":"#DIV/0!"},{"$f":"IF('Path Considerations'!$T$19=\"MPP\",'Sound Absorption Calculation'!AU34,'Sound Absorption Calculation'!AI34)","v":{"$error":"#N/A"}},{"$f":"'Multiple Absorption'!GB34","v":false},{"$f":"IF('Path Considerations'!$M$5=\"Single\",AV34,AW34)","v":{"$error":"#N/A"}},null,null,3150,19792.033717615697,{"$error":"#N/A"},{"$error":"#N/A"},{"$error":"#N/A"},{"$error":"#N/A"},{"$error":"#DIV/0!"},{"$error":"#DIV/0!"},{"$error":"#DIV/0!"},{"$error":"#N/A"},{"$error":"#N/A"},{"$error":"#N/A"},null,null,{"$error":"#DIV/0!"},{"$error":"#DIV/0!"},{"$error":"#DIV/0!"},{"$error":"#DIV/0!"},{"$error":"#DIV/0!"},{"$error":"#DIV/0!"},{"$error":"#DIV/0!"},{"$error":"#DIV/0!"},{"$error":"#DIV/0!"},{"$error":"#DIV/0!"},{"$f":"IF('Path Considerations'!$T$19=\"MPP\",'Sound Absorption Calculation'!BX34,'Sound Absorption Calculation'!BL34)","v":{"$error":"#N/A"}},{"$f":"'Multiple Absorption'!ML34","v":false},{"$f":"IF('Path Considerations'!$M$11=\"Single\",BY34,BZ34)","v":false}]
["Perforation Hole Diameter (d)",{"$f":"'Path Considerations'!U5","v":0},null,null,null,null,null,null,null,null,null,null,null,null,null,null,null,null,null,null,null,null,null,4000,25132.741228718343,{"$error":"#N/A"},{"$error":"#N/A"},{"$error":"#N/A"},{"$error":"#N/A"},{"$error":"#DIV/0!"},{"$error":"#DIV/0!"},{"$error":"#DIV/0!"},{"$error":"#N/A"},{"$error":"#N/A"},{"$error":"#N/A"},null,null,{"$error":"#DIV/0!"},{"$error":"#DIV/0!"},{"$error":"#DIV/0!"},{"$error":"#DIV/0!"},{"$error":"#DIV/0!"},{"$error":"#DIV/0!"},{"$error":"#DIV/0!"},{"$error":"#DIV/0!"},{"$error":"#DIV/0!"},{"$error":"#DIV/0!"},{"$f":"IF('Path Considerations'!$T$19=\"MPP\",'Sound Absorption Calculation'!AU35,'Sound Absorption Calculation'!AI35)","v":{"$error":"#N/A"}},{"$f":"'Multiple Absorption'!GB35","v":false},{"$f":"IF('Path Considerations'!$M$5=\"Single\",AV35,AW35)","v":{"$error":"#N/A"}},null,null,4000,25132.741228718343,{"$error":"#N/A"},{"$error":"#N/A"},{"$error":"#N/A"},{"$error":"#N/A"},{"$error":"#DIV/0!"},{"$error":"#DIV/0!"},{"$error":"#DIV/0!"},{"$error":"#N/A"},{"$error":"#N/A"},{"$error":"#N/A"},null,null,{"$error":"#DIV/0!"},{"$error":"#DIV/0!"},{"$error":"#DIV/0!"},{"$error":"#DIV/0!"},{"$error":"#DIV/0!"},{"$error":"#DIV/0!"},{"$error":"#DIV/0!"},{"$error":"#DIV/0!"},{"$error":"#DIV/0!"},{"$error":"#DIV/0!"},{"$f":"IF('Path Considerations'!$T$19=\"MPP\",'Sound Absorption Calculation'!BX35,'Sound Absorption Calculation'!BL35)","v":{"$error":"#N/A"}},{"$f":"'Multiple Absorption'!ML35","v":false},{"$f":"IF('Path Considerations'!$M$11=\"Single\",BY35,BZ35)","v":false}]
["Thickness (t)",{"$f":"'Path Considerations'!U6","v":0},null,null,null,null,null,null,null,null,null,null,null,null,null,null,null,null,null,null,null,null,null,5000,31415.926535897932,{"$error":"#N/A"},{"$error":"#N/A"},{"$error":"#N/A"},{"$error":"#N/A"},{"$error":"#DIV/0!"},{"$error":"#DIV/0!"},{"$error":"#DIV/0!"},{"$error":"#N/A"},{"$error":"#N/A"},{"$error":"#N/A"},null,null,{"$error":"#DIV/0!"},{"$error":"#DIV/0!"},{"$error":"#DIV/0!"},{"$error":"#DIV/0!"},{"$error":"#DIV/0!"},{"$error":"#DIV/0!"},{"$error":"#DIV/0!"},{"$error":"#DIV/0!"},{"$error":"#DIV/0!"},{"$error":"#DIV/0!"},{"$f":"IF('Path Considerations'!$T$19=\"MPP\",'Sound Absorption Calculation'!AU36,'Sound Absorption Calculation'!AI36)","v":{"$error":"#N/A"}},{"$f":"'Multiple Absorption'!GB36","v":false},{"$f":"IF('Path Considerations'!$M$5=\"Single\",AV36,AW36)","v":{"$error":"#N/A"}},null,null,5000,31415.926535897932,{"$error":"#N/A"},{"$error":"#N/A"},{"$error":"#N/A"},{"$error":"#N/A"},{"$error":"#DIV/0!"},{"$error":"#DIV/0!"},{"$error":"#DIV/0!"},{"$error":"#N/A"},{"$error":"#N/A"},{"$error":"#N/A"},null,null,{"$error":"#DIV/0!"},{"$error":"#DIV/0!"},{"$error":"#DIV/0!"},{"$error":"#DIV/0!"},{"$error":"#DIV/0!"},{"$error":"#DIV/0!"},{"$error":"#DIV/0!"},{"$error":"#DIV/0!"},{"$error":"#DIV/0!"},{"$error":"#DIV/0!"},{"$f":"IF('Path Considerations'!$T$19=\"MPP\",'Sound Absorption Calculation'!BX36,'Sound Absorption Calculation'!BL36)","v":{"$error":"#N/A"}},{"$f":"'Multiple Absorption'!ML36","v":false},{"$f":"IF('Path Considerations'!$M$11=\"Single\",BY36,BZ36)","v":false}]
["Porosity (σ)",{"$f":"'Path Considerations'!U7","v":0},null,null,null,null,null,null,null,null,null,null,null,null,null,null,null,null,null,null,null,null,null,6300,39584.067435231394,{"$error":"#N/A"},{"$error":"#N/A"},{"$error":"#N/A"},{"$error":"#N/A"},{"$error":"#DIV/0!"},{"$error":"#DIV/0!"},{"$error":"#DIV/0!"},{"$error":"#N/A"},{"$error":"#N/A"},{"$error":"#N/A"},null,null,{"$error":"#DIV/0!"},{"$error":"#DIV/0!"},{"$error":"#DIV/0!"},{"$error":"#DIV/0!"},{"$error":"#DIV/0!"},{"$error":"#DIV/0!"},{"$error":"#DIV/0!"},{"$error":"#DIV/0!"},{"$error":"#DIV/0!"},{"$error":"#DIV/0!"},{"$f":"IF('Path Considerations'!$T$19=\"MPP\",'Sound Absorption Calculation'!AU37,'Sound Absorption Calculation'!AI37)","v":{"$error":"#N/A"}},{"$f":"'Multiple Absorption'!GB37","v":false},{"$f":"IF('Path Considerations'!$M$5=\"Single\",AV37,AW37)","v":{"$error":"#N/A"}},null,null,6300,39584.067435231394,{"$error":"#N/A"},{"$error":"#N/A"},{"$error":"#N/A"},{"$error":"#N/A"},{"$error":"#DIV/0!"},{"$error":"#DIV/0!"},{"$error":"#DIV/0!"},{"$error":"#N/A"},{"$error":"#N/A"},{"$error":"#N/A"},null,null,{"$error":"#DIV/0!"},{"$error":"#DIV/0!"},{"$error":"#DIV/0!"},{"$error":"#DIV/0!"},{"$error":"#DIV/0!"},{"$error":"#DIV/0!"},{"$error":"#DIV/0!"},{"$error":"#DIV/0!"},{"$error":"#DIV/0!"},{"$error":"#DIV/0!"},{"$f":"IF('Path Considerations'!$T$19=\"MPP\",'Sound Absorption Calculation'!BX37,'Sound Absorption Calculation'!BL37)","v":{"$error":"#N/A"}},{"$f":"'Multiple Absorption'!ML37","v":false},{"$f":"IF('Path Considerations'!$M$11=\"Single\",BY37,BZ37)","v":false}]
["Cavity Depth (D)",{"$f":"'Path Considerations'!U8","v":0},null,null,null,null,null,null,null,null,null,null,null,null,null,null,null,null,null,null,null,null,null,8000,50265.482457436687,{"$error":"#N/A"},{"$error":"#N/A"},{"$error":"#N/A"},{"$error":"#N/A"},{"$error":"#DIV/0!"},{"$error":"#DIV/0!"},{"$error":"#DIV/0!"},{"$error":"#N/A"},{"$error":"#N/A"},{"$error":"#N/A"},null,null,{"$error":"#DIV/0!"},{"$error":"#DIV/0!"},{"$error":"#DIV/0!"},{"$error":"#DIV/0!"},{"$error":"#DIV/0!"},{"$error":"#DIV/0!"},{"$error":"#DIV/0!"},{"$error":"#DIV/0!"},{"$error":"#DIV/0!"},{"$error":"#DIV/0!"},{"$f":"IF('Path Considerations'!$T$19=\"MPP\",'Sound Absorption Calculation'!AU38,'Sound Absorption Calculation'!AI38)","v":{"$error":"#N/A"}},{"$f":"'Multiple Absorption'!GB38","v":false},{"$f":"IF('Path Considerations'!$M$5=\"Single\",AV38,AW38)","v":{"$error":"#N/A"}},null,null,8000,50265.482457436687,{"$error":"#N/A"},{"$error":"#N/A"},{"$error":"#N/A"},{"$error":"#N/A"},{"$error":"#DIV/0!"},{"$error":"#DIV/0!"},{"$error":"#DIV/0!"},{"$error":"#N/A"},{"$error":"#N/A"},{"$error":"#N/A"},null,null,{"$error":"#DIV/0!"},{"$error":"#DIV/0!"},{"$error":"#DIV/0!"},{"$error":"#DIV/0!"},{"$error":"#DIV/0!"},{"$error":"#DIV/0!"},{"$error":"#DIV/0!"},{"$error":"#DIV/0!"},{"$error":"#DIV/0!"},{"$error":"#DIV/0!"},{"$f":"IF('Path Considerations'!$T$19=\"MPP\",'Sound Absorption Calculation'!BX38,'Sound Absorption Calculation'!BL38)","v":{"$error":"#N/A"}},{"$f":"'Multiple Absorption'!ML38","v":false},{"$f":"IF('Path Considerations'!$M$11=\"Single\",BY38,BZ38)","v":false}]
[null,null,null,null,null,null,null,null,null,null,null,null,null,null,null,null,null,null,null,null,null,null,null,10000,62831.853071795864,{"$error":"#N/A"},{"$error":"#N/A"},{"$error":"#N/A"},{"$error":"#N/A"},{"$error":"#DIV/0!"},{"$error":"#DIV/0!"},{"$error":"#DIV/0!"},{"$error":"#N/A"},{"$error":"#N/A"},{"$error":"#N/A"},null,null,{"$error":"#DIV/0!"},{"$error":"#DIV/0!"},{"$error":"#DIV/0!"},{"$error":"#DIV/0!"},{"$error":"#DIV/0!"},{"$error":"#DIV/0!"},{"$error":"#DIV/0!"},{"$error":"#DIV/0!"},{"$error":"#DIV/0!"},{"$error":"#DIV/0!"},{"$f":"IF('Path Considerations'!$T$19=\"MPP\",'Sound Absorption Calculation'!AU39,'Sound Absorption Calculation'!AI39)","v":{"$error":"#N/A"}},{"$f":"'Multiple Absorption'!GB39","v":false},{"$f":"IF('Path Considerations'!$M$5=\"Single\",AV39,AW39)","v":{"$error":"#N/A"}},null,null,10000,62831.853071795864,{"$error":"#N/A"},{"$error":"#N/A"},{"$error":"#N/A"},{"$error":"#N/A"},{"$error":"#DIV/0!"},{"$error":"#DIV/0!"},{"$error":"#DIV/0!"},{"$error":"#N/A"},{"$error":"#N/A"},{"$error":"#N/A"},null,null,{"$error":"#DIV/0!"},{"$error":"#DIV/0!"},{"$error":"#DIV/0!"},{"$error":"#DIV/0!"},{"$error":"#DIV/0!"},{"$error":"#DIV/0!"},{"$error":"#DIV/0!"},{"$error":"#DIV/0!"},{"$error":"#DIV/0!"},{"$error":"#DIV/0!"},{"$f":"IF('Path Considerations'!$T$19=\"MPP\",'Sound Absorption Calculation'!BX39,'Sound Absorption Calculation'!BL39)","v":{"$error":"#N/A"}},{"$f":"'Multiple Absorption'!ML39","v":false},{"$f":"IF('Path Considerations'!$M$11=\"Single\",BY39,BZ39)","v":false}]
[]
["Receiver MPP"]
["Viscosity of medium (η)",{"$f":"'Path Considerations'!U10","v":0}]
["Perforation Hole Diameter (d)",{"$f":"'Path Considerations'!U11","v":0}]
["Thickness (t)",{"$f":"'Path Considerations'!U12","v":0}]
["Porosity (σ)",{"$f":"'Path Considerations'!U13","v":0}]
["Cavity Depth (D)",{"$f":"'Path Considerations'!U14","v":0}]

{"sheet":"Multiple Absorption","index":8,"n_rows":161,"n_cols":387,"rows_kept":161,"cut":false,"hidden":false,"merged":[[11,14,11,19],[15,0,15,8],[0,1,0,8],[0,14,0,19],[0,170,0,175],[0,37,0,46],[0,49,0,58],[0,61,0,70],[0,73,0,82],[0,85,0,94],[1,22,7,22],[1,96,7,96],[0,123,0,132],[0,25,0,34],[0,99,0,108],[0,227,0,236],[0,239,0,248],[0,177,0,184],[7,1,7,8],[0,111,0,120],[0,135,0,144],[0,147,0,156],[0,159,0,168],[1,169,7,169],[1,176,7,176],[0,313,0,322],[0,325,0,334],[0,336,0,341],[0,343,0,350],[1,188,7,188],[1,262,7,262],[1,335,7,335],[1,342,7,342],[0,251,0,260],[0,265,0,274],[0,277,0,286],[0,289,0,298],[0,301,0,310],[0,191,0,200],[0,203,0,212],[0,215,0,224],[0,351,0,356],[0,357,0,362],[0,375,0,380],[0,381,0,386],[0,363,0,368],[0,369,0,374]]}
[null,"Values of the constants C1-C8 for various materials",null,null,null,null,null,null,null,null,null,null,null,null,"Octave band centre frequency (Hz)",null,null,null,null,null,null,null,null,null,null,"Foam/Fibre Absorption Coefficient-1",null,null,null,null,null,null,null,null,null,null,null,"Foam/Fibre Absorption Coefficient-2",null,null,null,null,null,null,null,null,null,null,null,"Foam/Fibre Absorption Coefficient-3",null,null,null,null,null,null,null,null,null,null,null,"Foam/Fibre Absorption Coefficient-4",null,null,null,null,null,null,null,null,null,null,null,"Foam/Fibre Absorption Coefficient-5",null,null,null,null,null,null,null,null,null,null,null,"Foam/Fibre Absorption Coefficient-6",null,null,null,null,null,null,null,null,null,null,null,null,null,"MPP Absorption Coefficient-1",null,null,null,null,null,null,null,null,null,null,null,"MPP Absorption Coefficient-2",null,null,null,null,null,null,null,null,null,null,null,"MPP Absorption Coefficient-3",null,null,null,null,null,null,null,null,null,null,null,"MPP Absorption Coefficient-4",null,null,null,null,null,null,null,null,null,null,null,"MPP Absorption Coefficient-5",null,null,null,null,null,null,null,null,null,null,null,"MPP Absorption Coefficient-6",null,null,null,null,null,null,null,null,null,null,"Foam/Fibre Absorption Coefficient",null,null,null,null,null,null,"MPP Absorption Coefficient",null,null,null,null,null,null,null,null,null,null,null,null,null,"Foam/Fibre Absorption Coefficient-1",null,null,null,null,null,null,null,null,null,null,null,"Foam/Fibre Absorption Coefficient-2",null,null,null,null,null,null,null,null,null,null,null,"Foam/Fibre Absorption Coefficient-3",null,null,null,null,null,null,null,null,null,null,null,"Foam/Fibre Absorption Coefficient-4",null,null,null,null,null,null,null,null,null,null,null,"Foam/Fibre Absorption Coefficient-5",null,null,null,null,null,null,null,null,null,null,null,"Foam/Fibre Absorption Coefficient-6",null,null,null,null,null,null,null,null,null,null,null,null,null,"MPP Absorption Coefficient-1",null,null,null,null,null,null,null,null,null,null,null,"MPP Absorption Coefficient-2",null,null,null,null,null,null,null,null,null,null,null,"MPP Absorption Coefficient-3",null,null,null,null,null,null,null,null,null,null,null,"MPP Absorption Coefficient-4",null,null,null,null,null,null,null,null,null,null,null,"MPP Absorption Coefficient-5",null,null,null,null,null,null,null,null,null,null,null,"MPP Absorption Coefficient-6",null,null,null,null,null,null,null,null,null,null,"Foam/Fibre Absorption Coefficient",null,null,null,null,null,null,"MPP Absorption Coefficient",null,null,null,null,null,null,null,"Source",null,null,null,null,null,"Receiver",null,null,null,null,null,"Source",null,null,null,null,null,"Receiver",null,null,null,null,null,"Source",null,null,null,null,null,"Receiver"]
["Material Type Reference"," C1"," C2"," C3"," C4"," C5"," C6"," C7"," C8",null,null,null,"Enclsoure Material","Density (kg/m3)",125,250,500,1000,2000,4000,null,null,"SOURCE","f (Hz)","ω (rad/sec)","X","Zm (Real)","Zm (Imag)","Zm","km (Real)","km (Imag)","km","Z","R","α1","f (Hz)","ω (rad/sec)","X","Zm (Real)","Zm (Imag)","Zm","km (Real)","km (Imag)","km","Z","R","α2","f (Hz)","ω (rad/sec)","X","Zm (Real)","Zm (Imag)","Zm","km (Real)","km (Imag)","km","Z","R","α3","f (Hz)","ω (rad/sec)","X","Zm (Real)","Zm (Imag)","Zm","km (Real)","km (Imag)","km","Z","R","α4","f (Hz)","ω (rad/sec)","X","Zm (Real)","Zm (Imag)","Zm","km (Real)","km (Imag)","km","Z","R","α5","f (Hz)","ω (rad/sec)","X","Zm (Real)","Zm (Imag)","Zm","km (Real)","km (Imag)","km","Z","R","α6",null,"SOURCE","f (Hz)","ω (rad/sec)","Perforation Constant (β)","Transfer Impedence (Ztr) [Real]","Transfer Impedence (Ztr) [Imag]","Ztr","Z [Real]","Z [Imag]","Z","α [Num]","α [Den]","α1","f (Hz)","ω (rad/sec)","Perforation Constant (β)","Transfer Impedence (Ztr) [Real]","Transfer Impedence (Ztr) [Imag]","Ztr","Z [Real]","Z [Imag]","Z","α [Num]","α [Den]","α2","f (Hz)","ω (rad/sec)","Perforation Constant (β)","Transfer Impedence (Ztr) [Real]","Transfer Impedence (Ztr) [Imag]","Ztr","Z [Real]","Z [Imag]","Z","α [Num]","α [Den]","α3","f (Hz)","ω (rad/sec)","Perforation Constant (β)","Transfer Impedence (Ztr) [Real]","Transfer Impedence (Ztr) [Imag]","Ztr","Z [Real]","Z [Imag]","Z","α [Num]","α [Den]","α4","f (Hz)","ω (rad/sec)","Perforation Constant (β)","Transfer Impedence (Ztr) [Real]","Transfer Impedence (Ztr) [Imag]","Ztr","Z [Real]","Z [Imag]","Z","α [Num]","α [Den]","α5","f (Hz)","ω (rad/sec)","Perforation Constant (β)","Transfer Impedence (Ztr) [Real]","Transfer Impedence (Ztr) [Imag]","Ztr","Z [Real]","Z [Imag]","Z","α [Num]","α [Den]","α6","SOURCE","α1","α2","α3","α4","α5","α6","SOURCE","α1","α2","α3","α4","α5","α6","Final α","Senc",null,null,null,"RECEIVER","f (Hz)","ω (rad/sec)","X","Zm (Real)","Zm (Imag)","Zm","km (Real)","km (Imag)","km","Z","R","α1","f (Hz)","ω (rad/sec)","X","Zm (Real)","Zm (Imag)","Zm","km (Real)","km (Imag)","km","Z","R","α2","f (Hz)","ω (rad/sec)","X","Zm (Real)","Zm (Imag)","Zm","km (Real)","km (Imag)","km","Z","R","α3","f (Hz)","ω (rad/sec)","X","Zm (Real)","Zm (Imag)","Zm","km (Real)","km (Imag)","km","Z","R","α4","f (Hz)","ω (rad/sec)","X","Zm (Real)","Zm (Imag)","Zm","km (Real)","km (Imag)","km","Z","R","α5","f (Hz)","ω (rad/sec)","X","Zm (Real)","Zm (Imag)","Zm","km (Real)","km (Imag)","km","Z","R","α6",null,"RECEIVER","f (Hz)","ω (rad/sec)","Perforation Constant (β)","Transfer Impedence (Ztr) [Real]","Transfer Impedence (Ztr) [Imag]","Ztr","Z [Real]","Z [Imag]","Z","α [Num]","α [Den]","α1","f (Hz)","ω (rad/sec)","Perforation Constant (β)","Transfer Impedence (Ztr) [Real]","Transfer Impedence (Ztr) [Imag]","Ztr","Z [Real]","Z [Imag]","Z","α [Num]","α [Den]","α2","f (Hz)","ω (rad/sec)","Perforation Constant (β)","Transfer Impedence (Ztr) [Real]","Transfer Impedence (Ztr) [Imag]","Ztr","Z [Real]","Z [Imag]","Z","α [Num]","α [Den]","α3","f (Hz)","ω (rad/sec)","Perforation Constant (β)","Transfer Impedence (Ztr) [Real]","Transfer Impedence (Ztr) [Imag]","Ztr","Z [Real]","Z [Imag]","Z","α [Num]","α [Den]","α4","f (Hz)","ω (rad/sec)","Perforation Constant (β)","Transfer Impedence (Ztr) [Real]","Transfer Impedence (Ztr) [Imag]","Ztr","Z [Real]","Z [Imag]","Z","α [Num]","α [Den]","α5","f (Hz)","ω (rad/sec)","Perforation Constant (β)","Transfer Impedence (Ztr) [Real]","Transfer Impedence (Ztr) [Imag]","Ztr","Z [Real]","Z [Imag]","Z","α [Num]","α [Den]","α6","RECEIVER","α1","α2","α3","α4","α5","α6","RECEIVER","α1","α2","α3","α4","α5","α6","Final α","Senc","α1","α2","α3","α4","α5","α6","α1","α2","α3","α4","α5","α6","S1","S2","S3","S4","S5","S6","S1","S2","S3","S4","S5","S6","Final α1","Final α2","Final α3","Final α4","Final α5","Final α6","Final α1","Final α2","Final α3","Final α4","Final α5","Final α6"]
["Rockwool/Fibreglass",5.7099999999999998E-2,0.754,8.6999999999999994E-2,0.73199999999999998,9.7799999999999998E-2,0.7,0.189,0.59499999999999997,null,null,null,"Brick, Hard Floor",null,0.02,0.02,0.03,0.03,0.04,0.04,null,null,null,2.5,{"$f":"2*PI()*X3","v":15.707963267948966},{"$f":"$B$22*X3/$B$20","v":{"$error":"#N/A"}},{"$f":"$B$22*$B$23*(1+($B$19*Z3^-$C$19))","v":{"$error":"#N/A"}},{"$f":"-$B$22*$B$23*($D$19*Z3^-$E$19)","v":{"$error":"#N/A"}},{"$f":"COMPLEX(ROUND(AA3,2),ROUND(AB3,2))","v":{"$error":"#N/A"}},{"$f":"(Y3/$B$23)*(1+($F$19*Z3^-$G$19))","v":{"$error":"#DIV/0!"}},{"$f":"(-Y3/$B$23)*($H$19*Z3^-$I$19)","v":{"$error":"#DIV/0!"}},{"$f":"COMPLEX(ROUND(AD3,2),ROUND(AE3,2))","v":{"$error":"#DIV/0!"}},{"$f":"COMPLEX(ROUND(IMREAL(IMPRODUCT(COMPLEX(0,-1),AC3,_xlfn.IMCOT(IMPRODUCT(AF3,$B$21)))),2),ROUND(IMAGINARY(IMPRODUCT(COMPLEX(0,-1),AC3,_xlfn.IMCOT(IMPRODUCT(AF3,$B$21)))),2))","v":{"$error":"#N/A"}},{"$f":"COMPLEX(ROUND(IMREAL(IMDIV(IMSUB(AG3,COMPLEX(($B$22*$B$23),0)),IMSUM(AG3,COMPLEX(($B$22*$B$23),0)))),2),ROUND(IMAGINARY(IMDIV(IMSUB(AG3,COMPLEX(($B$22*$B$23),0)),IMSUM(AG3,COMPLEX(($B$22*$B$23),0)))),2))","v":{"$error":"#N/A"}},{"$f":"1-(IMABS(AH3)^2)","v":{"$error":"#N/A"}},2.5,{"$f":"2*PI()*AJ3","v":15.707963267948966},{"$f":"$B$22*AJ3/$B$28","v":{"$error":"#N/A"}},{"$f":"$B$22*$B$23*(1+($B$27*AL3^-$C$27))","v":{"$error":"#N/A"}},{"$f":"-$B$22*$B$23*($D$27*AL3^-$E$27)","v":{"$error":"#N/A"}},{"$f":"COMPLEX(ROUND(AM3,2),ROUND(AN3,2))","v":{"$error":"#N/A"}},{"$f":"(AK3/$B$23)*(1+($F$27*AL3^-$G$27))","v":{"$error":"#DIV/0!"}},{"$f":"(-AK3/$B$23)*($H$27*AL3^-$I$27)","v":{"$error":"#DIV/0!"}},{"$f":"COMPLEX(ROUND(AP3,2),ROUND(AQ3,2))","v":{"$error":"#DIV/0!"}},{"$f":"COMPLEX(ROUND(IMREAL(IMPRODUCT(COMPLEX(0,-1),AO3,_xlfn.IMCOT(IMPRODUCT(AR3,$B$29)))),2),ROUND(IMAGINARY(IMPRODUCT(COMPLEX(0,-1),AO3,_xlfn.IMCOT(IMPRODUCT(AR3,$B$29)))),2))","v":{"$error":"#N/A"}},{"$f":"COMPLEX(ROUND(IMREAL(IMDIV(IMSUB(AS3,COMPLEX(($B$22*$B$23),0)),IMSUM(AS3,COMPLEX(($B$22*$B$23),0)))),2),ROUND(IMAGINARY(IMDIV(IMSUB(AS3,COMPLEX(($B$22*$B$23),0)),IMSUM(AS3,COMPLEX(($B$22*$B$23),0)))),2))","v":{"$error":"#N/A"}},{"$f":"1-(IMABS(AT3)^2)","v":{"$error":"#N/A"}},2.5,{"$f":"2*PI()*AV3","v":15.707963267948966},{"$f":"$B$22*AV3/$B$33","v":{"$error":"#N/A"}},{"$f":"$B$22*$B$23*(1+($B$32*AX3^-$C$32))","v":{"$error":"#N/A"}},{"$f":"-$B$22*$B$23*($D$32*AX3^-$E$32)","v":{"$error":"#N/A"}},{"$f":"COMPLEX(ROUND(AY3,2),ROUND(AZ3,2))","v":{"$error":"#N/A"}},{"$f":"(AW3/$B$23)*(1+($F$32*AX3^-$G$32))","v":{"$error":"#DIV/0!"}},{"$f":"(-AW3/$B$23)*($H$32*AX3^-$I$32)","v":{"$error":"#DIV/0!"}},{"$f":"COMPLEX(ROUND(BB3,2),ROUND(BC3,2))","v":{"$error":"#DIV/0!"}},{"$f":"COMPLEX(ROUND(IMREAL(IMPRODUCT(COMPLEX(0,-1),BA3,_xlfn.IMCOT(IMPRODUCT(BD3,$B$34)))),2),ROUND(IMAGINARY(IMPRODUCT(COMPLEX(0,-1),BA3,_xlfn.IMCOT(IMPRODUCT(BD3,$B$34)))),2))","v":{"$error":"#N/A"}},{"$f":"COMPLEX(ROUND(IMREAL(IMDIV(IMSUB(BE3,COMPLEX(($B$22*$B$23),0)),IMSUM(BE3,COMPLEX(($B$22*$B$23),0)))),2),ROUND(IMAGINARY(IMDIV(IMSUB(BE3,COMPLEX(($B$22*$B$23),0)),IMSUM(BE3,COMPLEX(($B$22*$B$23),0)))),2))","v":{"$error":"#N/A"}},{"$f":"1-(IMABS(BF3)^2)","v":{"$error":"#N/A"}},2.5,{"$f":"2*PI()*BH3","v":15.707963267948966},{"$f":"$B$22*BH3/$B$38","v":{"$error":"#N/A"}},{"$f":"$B$22*$B$23*(1+($B$37*BJ3^-$C$37))","v":{"$error":"#N/A"}},{"$f":"-$B$22*$B$23*($D$37*BJ3^-$E$37)","v":{"$error":"#N/A"}},{"$f":"COMPLEX(ROUND(BK3,2),ROUND(BL3,2))","v":{"$error":"#N/A"}},{"$f":"(BI3/$B$23)*(1+($F$37*BJ3^-$G$37))","v":{"$error":"#DIV/0!"}},{"$f":"(-BI3/$B$23)*($H$37*BJ3^-$I$37)","v":{"$error":"#DIV/0!"}},{"$f":"COMPLEX(ROUND(BN3,2),ROUND(BO3,2))","v":{"$error":"#DIV/0!"}},{"$f":"COMPLEX(ROUND(IMREAL(IMPRODUCT(COMPLEX(0,-1),BM3,_xlfn.IMCOT(IMPRODUCT(BP3,$B$39)))),2),ROUND(IMAGINARY(IMPRODUCT(COMPLEX(0,-1),BM3,_xlfn.IMCOT(IMPRODUCT(BP3,$B$39)))),2))","v":{"$error":"#N/A"}},{"$f":"COMPLEX(ROUND(IMREAL(IMDIV(IMSUB(BQ3,COMPLEX(($B$22*$B$23),0)),IMSUM(BQ3,COMPLEX(($B$22*$B$23),0)))),2),ROUND(IMAGINARY(IMDIV(IMSUB(BQ3,COMPLEX(($B$22*$B$23),0)),IMSUM(BQ3,COMPLEX(($B$22*$B$23),0)))),2))","v":{"$error":"#N/A"}},{"$f":"1-(IMABS(BR3)^2)","v":{"$error":"#N/A"}},2.5,{"$f":"2*PI()*BT3","v":15.707963267948966},{"$f":"$B$22*BT3/$B$43","v":{"$error":"#N/A"}},{"$f":"$B$22*$B$23*(1+($B$42*BV3^-$C$42))","v":{"$error":"#N/A"}},{"$f":"-$B$22*$B$23*($D$42*BV3^-$E$42)","v":{"$error":"#N/A"}},{"$f":"COMPLEX(ROUND(BW3,2),ROUND(BX3,2))","v":{"$error":"#N/A"}},{"$f":"(BU3/$B$23)*(1+($F$42*BV3^-$G$42))","v":{"$error":"#DIV/0!"}},{"$f":"(-BU3/$B$23)*($H$42*BV3^-$I$42)","v":{"$error":"#DIV/0!"}},{"$f":"COMPLEX(ROUND(BZ3,2),ROUND(CA3,2))","v":{"$error":"#DIV/0!"}},{"$f":"COMPLEX(ROUND(IMREAL(IMPRODUCT(COMPLEX(0,-1),BY3,_xlfn.IMCOT(IMPRODUCT(CB3,$B$44)))),2),ROUND(IMAGINARY(IMPRODUCT(COMPLEX(0,-1),BY3,_xlfn.IMCOT(IMPRODUCT(CB3,$B$44)))),2))","v":{"$error":"#N/A"}},{"$f":"COMPLEX(ROUND(IMREAL(IMDIV(IMSUB(CC3,COMPLEX(($B$22*$B$23),0)),IMSUM(CC3,COMPLEX(($B$22*$B$23),0)))),2),ROUND(IMAGINARY(IMDIV(IMSUB(CC3,COMPLEX(($B$22*$B$23),0)),IMSUM(CC3,COMPLEX(($B$22*$B$23),0)))),2))","v":{"$error":"#N/A"}},{"$f":"1-(IMABS(CD3)^2)","v":{"$error":"#N/A"}},2.5,{"$f":"2*PI()*CF3","v":15.707963267948966},{"$f":"$B$22*CF3/$B$48","v":{"$error":"#N/A"}},{"$f":"$B$22*$B$23*(1+($B$47*CH3^-$C$47))","v":{"$error":"#N/A"}},{"$f":"-$B$22*$B$23*($D$47*CH3^-$E$47)","v":{"$error":"#N/A"}},{"$f":"COMPLEX(ROUND(CI3,2),ROUND(CJ3,2))","v":{"$error":"#N/A"}},{"$f":"(CG3/$B$23)*(1+($F$47*CH3^-$G$47))","v":{"$error":"#DIV/0!"}},{"$f":"(-CG3/$B$23)*($H$47*CH3^-$I$47)","v":{"$error":"#DIV/0!"}},{"$f":"COMPLEX(ROUND(CL3,2),ROUND(CM3,2))","v":{"$error":"#DIV/0!"}},{"$f":"COMPLEX(ROUND(IMREAL(IMPRODUCT(COMPLEX(0,-1),CK3,_xlfn.IMCOT(IMPRODUCT(CN3,$B$49)))),2),ROUND(IMAGINARY(IMPRODUCT(COMPLEX(0,-1),CK3,_xlfn.IMCOT(IMPRODUCT(CN3,$B$49)))),2))","v":{"$error":"#N/A"}},{"$f":"COMPLEX(ROUND(IMREAL(IMDIV(IMSUB(CO3,COMPLEX(($B$22*$B$23),0)),IMSUM(CO3,COMPLEX(($B$22*$B$23),0)))),2),ROUND(IMAGINARY(IMDIV(IMSUB(CO3,COMPLEX(($B$22*$B$23),0)),IMSUM(CO3,COMPLEX(($B$22*$B$23),0)))),2))","v":{"$error":"#N/A"}},{"$f":"1-(IMABS(CP3)^2)","v":{"$error":"#N/A"}},null,null,2.5,{"$f":"2*PI()*CT3","v":15.707963267948966},{"$f":"$B$88*SQRT((Y3*$B$22)/(4*$B$87))","v":{"$error":"#DIV/0!"}},{"$f":"((32*$B$87*$B$89)/($B$90*$B$22*$B$23*$B$88^2))*((1+(CV3^2/32))^0.5+((SQRT(2)*CV3*$B$88)/(8*$B$89)))","v":{"$error":"#DIV/0!"}},{"$f":"(Y3*$B$89/($B$90*$B$23))*(1+(1/SQRT(9+(CV3^2/2)))+(0.85*$B$88/$B$89))","v":{"$error":"#DIV/0!"}},{"$f":"COMPLEX(ROUND(CW3,3),ROUND(CX3,3))","v":{"$error":"#DIV/0!"}},{"$f":"CW3","v":{"$error":"#DIV/0!"}},{"$f":"CX3-(_xlfn.COT(Y3*$B$91/$B$23))","v":{"$error":"#DIV/0!"}},{"$f":"COMPLEX(ROUND(CZ3,3),ROUND(DA3,3))","v":{"$error":"#DIV/0!"}},{"$f":"4*CZ3","v":{"$error":"#DIV/0!"}},{"$f":"((1+CZ3)^2+(DA3^2))","v":{"$error":"#DIV/0!"}},{"$f":"DC3/DD3","v":{"$error":"#DIV/0!"}},2.5,{"$f":"2*PI()*DF3","v":15.707963267948966},{"$f":"$B$94*SQRT((AK3*$B$22)/(4*$B$87))","v":{"$error":"#DIV/0!"}},{"$f":"((32*$B$87*$B$95)/($B$96*$B$22*$B$23*$B$94^2))*((1+(DH3^2/32))^0.5+((SQRT(2)*DH3*$B$94)/(8*$B$95)))","v":{"$error":"#DIV/0!"}},{"$f":"(AK3*$B$95/($B$96*$B$23))*(1+(1/SQRT(9+(DH3^2/2)))+(0.85*$B$94/$B$95))","v":{"$error":"#DIV/0!"}},{"$f":"COMPLEX(ROUND(DI3,3),ROUND(DJ3,3))","v":{"$error":"#DIV/0!"}},{"$f":"DI3","v":{"$error":"#DIV/0!"}},{"$f":"DJ3-(_xlfn.COT(AK3*$B$97/$B$23))","v":{"$error":"#DIV/0!"}},{"$f":"COMPLEX(ROUND(DL3,3),ROUND(DM3,3))","v":{"$error":"#DIV/0!"}},{"$f":"4*DL3","v":{"$error":"#DIV/0!"}},{"$f":"((1+DL3)^2+(DM3^2))","v":{"$error":"#DIV/0!"}},{"$f":"DO3/DP3","v":{"$error":"#DIV/0!"}},2.5,{"$f":"2*PI()*DR3","v":15.707963267948966},{"$f":"$B$100*SQRT((AW3*$B$22)/(4*$B$87))","v":{"$error":"#DIV/0!"}},{"$f":"((32*$B$87*$B$101)/($B$102*$B$22*$B$23*$B$100^2))*((1+(DT3^2/32))^0.5+((SQRT(2)*DT3*$B$100)/(8*$B$101)))","v":{"$error":"#DIV/0!"}},{"$f":"(AW3*$B$101/($B$102*$B$23))*(1+(1/SQRT(9+(DT3^2/2)))+(0.85*$B$100/$B$101))","v":{"$error":"#DIV/0!"}},{"$f":"COMPLEX(ROUND(DU3,3),ROUND(DV3,3))","v":{"$error":"#DIV/0!"}},{"$f":"DU3","v":{"$error":"#DIV/0!"}},{"$f":"DV3-(_xlfn.COT(AW3*$B$103/$B$23))","v":{"$error":"#DIV/0!"}},{"$f":"COMPLEX(ROUND(DX3,3),ROUND(DY3,3))","v":{"$error":"#DIV/0!"}},{"$f":"4*DX3","v":{"$error":"#DIV/0!"}},{"$f":"((1+DX3)^2+(DY3^2))","v":{"$error":"#DIV/0!"}},{"$f":"EA3/EB3","v":{"$error":"#DIV/0!"}},2.5,{"$f":"2*PI()*ED3","v":15.707963267948966},{"$f":"$B$106*SQRT((BI3*$B$22)/(4*$B$87))","v":{"$error":"#DIV/0!"}},{"$f":"((32*$B$87*$B$107)/($B$108*$B$22*$B$23*$B$106^2))*((1+(DT3^2/32))^0.5+((SQRT(2)*DT3*$B$106)/(8*$B$107)))","v":{"$error":"#DIV/0!"}},{"$f":"(BI3*$B$107/($B$108*$B$23))*(1+(1/SQRT(9+(EF3^2/2)))+(0.85*$B$106/$B$107))","v":{"$error":"#DIV/0!"}},{"$f":"COMPLEX(ROUND(EG3,3),ROUND(EH3,3))","v":{"$error":"#DIV/0!"}},{"$f":"EG3","v":{"$error":"#DIV/0!"}},{"$f":"EH3-(_xlfn.COT(BI3*$B$109/$B$23))","v":{"$error":"#DIV/0!"}},{"$f":"COMPLEX(ROUND(EJ3,3),ROUND(EK3,3))","v":{"$error":"#DIV/0!"}},{"$f":"4*EJ3","v":{"$error":"#DIV/0!"}},{"$f":"((1+EJ3)^2+(EK3^2))","v":{"$error":"#DIV/0!"}},{"$f":"EM3/EN3","v":{"$error":"#DIV/0!"}},2.5,{"$f":"2*PI()*EP3","v":15.707963267948966},{"$f":"$B$112*SQRT((BU3*$B$22)/(4*$B$87))","v":{"$error":"#DIV/0!"}},{"$f":"((32*$B$87*$B$113)/($B$114*$B$22*$B$23*$B$112^2))*((1+(DT3^2/32))^0.5+((SQRT(2)*DT3*$B$112)/(8*$B$113)))","v":{"$error":"#DIV/0!"}},{"$f":"(BU3*$B$113/($B$114*$B$23))*(1+(1/SQRT(9+(ER3^2/2)))+(0.85*$B$112/$B$113))","v":{"$error":"#DIV/0!"}},{"$f":"COMPLEX(ROUND(ES3,3),ROUND(ET3,3))","v":{"$error":"#DIV/0!"}},{"$f":"ES3","v":{"$error":"#DIV/0!"}},{"$f":"ET3-(_xlfn.COT(BU3*$B$115/$B$23))","v":{"$error":"#DIV/0!"}},{"$f":"COMPLEX(ROUND(EV3,3),ROUND(EW3,3))","v":{"$error":"#DIV/0!"}},{"$f":"4*EV3","v":{"$error":"#DIV/0!"}},{"$f":"((1+EV3)^2+(EW3^2))","v":{"$error":"#DIV/0!"}},{"$f":"EY3/EZ3","v":{"$error":"#DIV/0!"}},2.5,{"$f":"2*PI()*FB3","v":15.707963267948966},{"$f":"$B$118*SQRT((CG3*$B$22)/(4*$B$87))","v":{"$error":"#DIV/0!"}},{"$f":"((32*$B$87*$B$119)/($B$120*$B$22*$B$23*$B$118^2))*((1+(DT3^2/32))^0.5+((SQRT(2)*DT3*$B$118)/(8*$B$119)))","v":{"$error":"#DIV/0!"}},{"$f":"(CG3*$B$119/($B$120*$B$23))*(1+(1/SQRT(9+(FD3^2/2)))+(0.85*$B$118/$B$119))","v":{"$error":"#DIV/0!"}},{"$f":"COMPLEX(ROUND(FE3,3),ROUND(FF3,3))","v":{"$error":"#DIV/0!"}},{"$f":"FE3","v":{"$error":"#DIV/0!"}},{"$f":"FF3-(_xlfn.COT(CG3*$B$121/$B$23))","v":{"$error":"#DIV/0!"}},{"$f":"COMPLEX(ROUND(FH3,3),ROUND(FI3,3))","v":{"$error":"#DIV/0!"}},{"$f":"4*FH3","v":{"$error":"#DIV/0!"}},{"$f":"((1+FH3)^2+(FI3^2))","v":{"$error":"#DIV/0!"}},{"$f":"FK3/FL3","v":{"$error":"#DIV/0!"}},null,{"$f":"AI3","v":{"$error":"#N/A"}},{"$f":"AU3","v":{"$error":"#N/A"}},{"$f":"BG3","v":{"$error":"#N/A"}},{"$f":"BS3","v":{"$error":"#N/A"}},{"$f":"CE3","v":{"$error":"#N/A"}},{"$f":"CQ3","v":{"$error":"#N/A"}},null,{"$f":"DE3","v":{"$error":"#DIV/0!"}},{"$f":"DQ3","v":{"$error":"#DIV/0!"}},{"$f":"EC3","v":{"$error":"#DIV/0!"}},{"$f":"EO3","v":{"$error":"#DIV/0!"}},{"$f":"FA3","v":{"$error":"#DIV/0!"}},{"$f":"FM3","v":{"$error":"#DIV/0!"}},{"$f":"IF($I$15=1,NL3,IF($I$15=2,NM3,IF($I$15=3,NN3,IF($I$15=4,NO3,IF($I$15=5,NP3,IF($I$15=6,NQ3))))))","v":false},{"$f":"'Path Considerations'!J8","v":0},null,null,null,null,2.5,{"$f":"2*PI()*GH3","v":15.707963267948966},{"$f":"$B$56*GH3/$B$54","v":{"$error":"#N/A"}},{"$f":"$B$56*$B$57*(1+($B$53*GJ3^-$C$53))","v":{"$error":"#N/A"}},{"$f":"-$B$56*$B$57*($D$53*GJ3^-$E$53)","v":{"$error":"#N/A"}},{"$f":"COMPLEX(ROUND(GK3,2),ROUND(GL3,2))","v":{"$error":"#N/A"}},{"$f":"(GI3/$B$57)*(1+($F$53*GJ3^-$G$53))","v":{"$error":"#DIV/0!"}},{"$f":"(-GI3/$B$57)*($H$53*GJ3^-$I$53)","v":{"$error":"#DIV/0!"}},{"$f":"COMPLEX(ROUND(GN3,2),ROUND(GO3,2))","v":{"$error":"#DIV/0!"}},{"$f":"COMPLEX(ROUND(IMREAL(IMPRODUCT(COMPLEX(0,-1),GM3,_xlfn.IMCOT(IMPRODUCT(GP3,$B$55)))),2),ROUND(IMAGINARY(IMPRODUCT(COMPLEX(0,-1),GM3,_xlfn.IMCOT(IMPRODUCT(GP3,$B$55)))),2))","v":{"$error":"#N/A"}},{"$f":"COMPLEX(ROUND(IMREAL(IMDIV(IMSUB(GQ3,COMPLEX(($B$56*$B$57),0)),IMSUM(GQ3,COMPLEX(($B$56*$B$57),0)))),2),ROUND(IMAGINARY(IMDIV(IMSUB(GQ3,COMPLEX(($B$56*$B$57),0)),IMSUM(GQ3,COMPLEX(($B$56*$B$57),0)))),2))","v":{"$error":"#N/A"}},{"$f":"1-(IMABS(GR3)^2)","v":{"$error":"#N/A"}},2.5,{"$f":"2*PI()*GT3","v":15.707963267948966},{"$f":"$B$56*GT3/$B$61","v":{"$error":"#N/A"}},{"$f":"$B$56*$B$57*(1+($B$60*GV3^-$C$60))","v":{"$error":"#N/A"}},{"$f":"-$B$56*$B$57*($D$60*GV3^-$E$60)","v":{"$error":"#N/A"}},{"$f":"COMPLEX(ROUND(GW3,2),ROUND(GX3,2))","v":{"$error":"#N/A"}},{"$f":"(GU3/$B$57)*(1+($F$60*GV3^-$G$60))","v":{"$error":"#DIV/0!"}},{"$f":"(-GU3/$B$57)*($H$60*GV3^-$I$60)","v":{"$error":"#DIV/0!"}},{"$f":"COMPLEX(ROUND(GZ3,2),ROUND(HA3,2))","v":{"$error":"#DIV/0!"}},{"$f":"COMPLEX(ROUND(IMREAL(IMPRODUCT(COMPLEX(0,-1),GY3,_xlfn.IMCOT(IMPRODUCT(HB3,$B$62)))),2),ROUND(IMAGINARY(IMPRODUCT(COMPLEX(0,-1),GY3,_xlfn.IMCOT(IMPRODUCT(HB3,$B$62)))),2))","v":{"$error":"#N/A"}},{"$f":"COMPLEX(ROUND(IMREAL(IMDIV(IMSUB(HC3,COMPLEX(($B$56*$B$57),0)),IMSUM(HC3,COMPLEX(($B$56*$B$57),0)))),2),ROUND(IMAGINARY(IMDIV(IMSUB(HC3,COMPLEX(($B$56*$B$57),0)),IMSUM(HC3,COMPLEX(($B$56*$B$57),0)))),2))","v":{"$error":"#N/A"}},{"$f":"1-(IMABS(HD3)^2)","v":{"$error":"#N/A"}},2.5,{"$f":"2*PI()*HF3","v":15.707963267948966},{"$f":"$B$56*HF3/$B$66","v":{"$error":"#N/A"}},{"$f":"$B$56*$B$57*(1+($B$65*HH3^-$C$65))","v":{"$error":"#N/A"}},{"$f":"-$B$56*$B$57*($D$65*HH3^-$E$65)","v":{"$error":"#N/A"}},{"$f":"COMPLEX(ROUND(HI3,2),ROUND(HJ3,2))","v":{"$error":"#N/A"}},{"$f":"(HG3/$B$57)*(1+($F$65*HH3^-$G$65))","v":{"$error":"#DIV/0!"}},{"$f":"(-HG3/$B$57)*($H$65*HH3^-$I$65)","v":{"$error":"#DIV/0!"}},{"$f":"COMPLEX(ROUND(HL3,2),ROUND(HM3,2))","v":{"$error":"#DIV/0!"}},{"$f":"COMPLEX(ROUND(IMREAL(IMPRODUCT(COMPLEX(0,-1),HK3,_xlfn.IMCOT(IMPRODUCT(HN3,$B$67)))),2),ROUND(IMAGINARY(IMPRODUCT(COMPLEX(0,-1),HK3,_xlfn.IMCOT(IMPRODUCT(HN3,$B$67)))),2))","v":{"$error":"#N/A"}},{"$f":"COMPLEX(ROUND(IMREAL(IMDIV(IMSUB(HO3,COMPLEX(($B$56*$B$57),0)),IMSUM(HO3,COMPLEX(($B$56*$B$57),0)))),2),ROUND(IMAGINARY(IMDIV(IMSUB(HO3,COMPLEX(($B$56*$B$57),0)),IMSUM(HO3,COMPLEX(($B$56*$B$57),0)))),2))","v":{"$error":"#N/A"}},{"$f":"1-(IMABS(HP3)^2)","v":{"$error":"#N/A"}},2.5,{"$f":"2*PI()*HR3","v":15.707963267948966},{"$f":"$B$56*HR3/$B$71","v":{"$error":"#N/A"}},{"$f":"$B$56*$B$57*(1+($B$70*HT3^-$C$70))","v":{"$error":"#N/A"}},{"$f":"-$B$56*$B$57*($D$70*HT3^-$E$70)","v":{"$error":"#N/A"}},{"$f":"COMPLEX(ROUND(HU3,2),ROUND(HV3,2))","v":{"$error":"#N/A"}},{"$f":"(HS3/$B$57)*(1+($F$70*HT3^-$G$70))","v":{"$error":"#DIV/0!"}},{"$f":"(-HS3/$B$57)*($H$70*HT3^-$I$70)","v":{"$error":"#DIV/0!"}},{"$f":"COMPLEX(ROUND(HX3,2),ROUND(HY3,2))","v":{"$error":"#DIV/0!"}},{"$f":"COMPLEX(ROUND(IMREAL(IMPRODUCT(COMPLEX(0,-1),HW3,_xlfn.IMCOT(IMPRODUCT(HZ3,$B$72)))),2),ROUND(IMAGINARY(IMPRODUCT(COMPLEX(0,-1),HW3,_xlfn.IMCOT(IMPRODUCT(HZ3,$B$72)))),2))","v":{"$error":"#N/A"}},{"$f":"COMPLEX(ROUND(IMREAL(IMDIV(IMSUB(IA3,COMPLEX(($B$56*$B$57),0)),IMSUM(IA3,COMPLEX(($B$56*$B$57),0)))),2),ROUND(IMAGINARY(IMDIV(IMSUB(IA3,COMPLEX(($B$56*$B$57),0)),IMSUM(IA3,COMPLEX(($B$56*$B$57),0)))),2))","v":{"$error":"#N/A"}},{"$f":"1-(IMABS(IB3)^2)","v":{"$error":"#N/A"}},2.5,{"$f":"2*PI()*ID3","v":15.707963267948966},{"$f":"$B$56*ID3/$B$76","v":{"$error":"#N/A"}},{"$f":"$B$56*$B$57*(1+($B$75*IF3^-$C$75))","v":{"$error":"#N/A"}},{"$f":"-$B$56*$B$57*($D$75*IF3^-$E$75)","v":{"$error":"#N/A"}},{"$f":"COMPLEX(ROUND(IG3,2),ROUND(IH3,2))","v":{"$error":"#N/A"}},{"$f":"(IE3/$B$57)*(1+($F$75*IF3^-$G$75))","v":{"$error":"#DIV/0!"}},{"$f":"(-IE3/$B$57)*($H$75*IF3^-$I$75)","v":{"$error":"#DIV/0!"}},{"$f":"COMPLEX(ROUND(IJ3,2),ROUND(IK3,2))","v":{"$error":"#DIV/0!"}},{"$f":"COMPLEX(ROUND(IMREAL(IMPRODUCT(COMPLEX(0,-1),II3,_xlfn.IMCOT(IMPRODUCT(IL3,$B$77)))),2),ROUND(IMAGINARY(IMPRODUCT(COMPLEX(0,-1),II3,_xlfn.IMCOT(IMPRODUCT(IL3,$B$77)))),2))","v":{"$error":"#N/A"}},{"$f":"COMPLEX(ROUND(IMREAL(IMDIV(IMSUB(IM3,COMPLEX(($B$56*$B$57),0)),IMSUM(IM3,COMPLEX(($B$56*$B$57),0)))),2),ROUND(IMAGINARY(IMDIV(IMSUB(IM3,COMPLEX(($B$56*$B$57),0)),IMSUM(IM3,COMPLEX(($B$56*$B$57),0)))),2))","v":{"$error":"#N/A"}},{"$f":"1-(IMABS(IN3)^2)","v":{"$error":"#N/A"}},2.5,{"$f":"2*PI()*IP3","v":15.707963267948966},{"$f":"$B$56*IP3/$B$81","v":{"$error":"#N/A"}},{"$f":"$B$56*$B$57*(1+($B$80*IR3^-$C$80))","v":{"$error":"#N/A"}},{"$f":"-$B$56*$B$57*($D$80*IR3^-$E$80)","v":{"$error":"#N/A"}},{"$f":"COMPLEX(ROUND(IS3,2),ROUND(IT3,2))","v":{"$error":"#N/A"}},{"$f":"(IQ3/$B$57)*(1+($F$80*IR3^-$G$80))","v":{"$error":"#DIV/0!"}},{"$f":"(-IQ3/$B$57)*($H$80*IR3^-$I$80)","v":{"$error":"#DIV/0!"}},{"$f":"COMPLEX(ROUND(IV3,2),ROUND(IW3,2))","v":{"$error":"#DIV/0!"}},{"$f":"COMPLEX(ROUND(IMREAL(IMPRODUCT(COMPLEX(0,-1),IU3,_xlfn.IMCOT(IMPRODUCT(IX3,$B$82)))),2),ROUND(IMAGINARY(IMPRODUCT(COMPLEX(0,-1),IU3,_xlfn.IMCOT(IMPRODUCT(IX3,$B$82)))),2))","v":{"$error":"#N/A"}},{"$f":"COMPLEX(ROUND(IMREAL(IMDIV(IMSUB(IY3,COMPLEX(($B$56*$B$57),0)),IMSUM(IY3,COMPLEX(($B$56*$B$57),0)))),2),ROUND(IMAGINARY(IMDIV(IMSUB(IY3,COMPLEX(($B$56*$B$57),0)),IMSUM(IY3,COMPLEX(($B$56*$B$57),0)))),2))","v":{"$error":"#N/A"}},{"$f":"1-(IMABS(IZ3)^2)","v":{"$error":"#N/A"}},null,null,2.5,{"$f":"2*PI()*JD3","v":15.707963267948966},{"$f":"$B$128*SQRT((GI3*$B$56)/(4*$B$127))","v":{"$error":"#DIV/0!"}},{"$f":"((32*$B$127*$B$129)/($B$130*$B$56*$B$57*$B$128^2))*((1+(JF3^2/32))^0.5+((SQRT(2)*JF3*$B$128)/(8*$B$129)))","v":{"$error":"#DIV/0!"}},{"$f":"(GI3*$B$129/($B$130*$B$57))*(1+(1/SQRT(9+(JF3^2/2)))+(0.85*$B$128/$B$129))","v":{"$error":"#DIV/0!"}},{"$f":"COMPLEX(ROUND(JG3,3),ROUND(JH3,3))","v":{"$error":"#DIV/0!"}},{"$f":"JG3","v":{"$error":"#DIV/0!"}},{"$f":"JH3-(_xlfn.COT(GI3*$B$131/$B$57))","v":{"$error":"#DIV/0!"}},{"$f":"COMPLEX(ROUND(JJ3,3),ROUND(JK3,3))","v":{"$error":"#DIV/0!"}},{"$f":"4*JJ3","v":{"$error":"#DIV/0!"}},{"$f":"((1+JJ3)^2+(JK3^2))","v":{"$error":"#DIV/0!"}},{"$f":"JM3/JN3","v":{"$error":"#DIV/0!"}},2.5,{"$f":"2*PI()*JP3","v":15.707963267948966},{"$f":"$B$134*SQRT((GU3*$B$56)/(4*$B$127))","v":{"$error":"#DIV/0!"}},{"$f":"((32*$B$127*$B$135)/($B$136*$B$56*$B$57*$B$134^2))*((1+(JR3^2/32))^0.5+((SQRT(2)*JR3*$B$134)/(8*$B$135)))","v":{"$error":"#DIV/0!"}},{"$f":"(GU3*$B$135/($B$136*$B$57))*(1+(1/SQRT(9+(JR3^2/2)))+(0.85*$B$134/$B$135))","v":{"$error":"#DIV/0!"}},{"$f":"COMPLEX(ROUND(JS3,3),ROUND(JT3,3))","v":{"$error":"#DIV/0!"}},{"$f":"JS3","v":{"$error":"#DIV/0!"}},{"$f":"JT3-(_xlfn.COT(GU3*$B$137/$B$57))","v":{"$error":"#DIV/0!"}},{"$f":"COMPLEX(ROUND(JV3,3),ROUND(JW3,3))","v":{"$error":"#DIV/0!"}},{"$f":"4*JV3","v":{"$error":"#DIV/0!"}},{"$f":"((1+JV3)^2+(JW3^2))","v":{"$error":"#DIV/0!"}},{"$f":"JY3/JZ3","v":{"$error":"#DIV/0!"}},2.5,{"$f":"2*PI()*KB3","v":15.707963267948966},{"$f":"$B$140*SQRT((HG3*$B$56)/(4*$B$127))","v":{"$error":"#DIV/0!"}},{"$f":"((32*$B$127*$B$141)/($B$142*$B$56*$B$57*$B$140^2))*((1+(KD3^2/32))^0.5+((SQRT(2)*KD3*$B$140)/(8*$B$141)))","v":{"$error":"#DIV/0!"}},{"$f":"(HG3*$B$141/($B$142*$B$57))*(1+(1/SQRT(9+(KD3^2/2)))+(0.85*$B$140/$B$141))","v":{"$error":"#DIV/0!"}},{"$f":"COMPLEX(ROUND(KE3,3),ROUND(KF3,3))","v":{"$error":"#DIV/0!"}},{"$f":"KE3","v":{"$error":"#DIV/0!"}},{"$f":"KF3-(_xlfn.COT(HG3*$B$143/$B$57))","v":{"$error":"#DIV/0!"}},{"$f":"COMPLEX(ROUND(KH3,3),ROUND(KI3,3))","v":{"$error":"#DIV/0!"}},{"$f":"4*KH3","v":{"$error":"#DIV/0!"}},{"$f":"((1+KH3)^2+(KI3^2))","v":{"$error":"#DIV/0!"}},{"$f":"KK3/KL3","v":{"$error":"#DIV/0!"}},2.5,{"$f":"2*PI()*KN3","v":15.707963267948966},{"$f":"$B$146*SQRT((HS3*$B$56)/(4*$B$127))","v":{"$error":"#DIV/0!"}},{"$f":"((32*$B$127*$B$147)/($B$148*$B$56*$B$57*$B$146^2))*((1+(KD3^2/32))^0.5+((SQRT(2)*KD3*$B$146)/(8*$B$147)))","v":{"$error":"#DIV/0!"}},{"$f":"(HS3*$B$147/($B$148*$B$57))*(1+(1/SQRT(9+(KP3^2/2)))+(0.85*$B$146/$B$147))","v":{"$error":"#DIV/0!"}},{"$f":"COMPLEX(ROUND(KQ3,3),ROUND(KR3,3))","v":{"$error":"#DIV/0!"}},{"$f":"KQ3","v":{"$error":"#DIV/0!"}},{"$f":"KR3-(_xlfn.COT(HS3*$B$149/$B$57))","v":{"$error":"#DIV/0!"}},{"$f":"COMPLEX(ROUND(KT3,3),ROUND(KU3,3))","v":{"$error":"#DIV/0!"}},{"$f":"4*KT3","v":{"$error":"#DIV/0!"}},{"$f":"((1+KT3)^2+(KU3^2))","v":{"$error":"#DIV/0!"}},{"$f":"KW3/KX3","v":{"$error":"#DIV/0!"}},2.5,{"$f":"2*PI()*KZ3","v":15.707963267948966},{"$f":"$B$152*SQRT((IE3*$B$56)/(4*$B$127))","v":{"$error":"#DIV/0!"}},{"$f":"((32*$B$127*$B$153)/($B$154*$B$56*$B$57*$B$152^2))*((1+(KD3^2/32))^0.5+((SQRT(2)*KD3*$B$152)/(8*$B$153)))","v":{"$error":"#DIV/0!"}},{"$f":"(IE3*$B$153/($B$154*$B$57))*(1+(1/SQRT(9+(LB3^2/2)))+(0.85*$B$152/$B$153))","v":{"$error":"#DIV/0!"}},{"$f":"COMPLEX(ROUND(LC3,3),ROUND(LD3,3))","v":{"$error":"#DIV/0!"}},{"$f":"LC3","v":{"$error":"#DIV/0!"}},{"$f":"LD3-(_xlfn.COT(IE3*$B$155/$B$57))","v":{"$error":"#DIV/0!"}},{"$f":"COMPLEX(ROUND(LF3,3),ROUND(LG3,3))","v":{"$error":"#DIV/0!"}},{"$f":"4*LF3","v":{"$error":"#DIV/0!"}},{"$f":"((1+LF3)^2+(LG3^2))","v":{"$error":"#DIV/0!"}},{"$f":"LI3/LJ3","v":{"$error":"#DIV/0!"}},2.5,{"$f":"2*PI()*LL3","v":15.707963267948966},{"$f":"$B$158*SQRT((IQ3*$B$56)/(4*$B$127))","v":{"$error":"#DIV/0!"}},{"$f":"((32*$B$127*$B$159)/($B$160*$B$56*$B$57*$B$158^2))*((1+(KD3^2/32))^0.5+((SQRT(2)*KD3*$B$158)/(8*$B$159)))","v":{"$error":"#DIV/0!"}},{"$f":"(IQ3*$B$159/($B$160*$B$57))*(1+(1/SQRT(9+(LN3^2/2)))+(0.85*$B$158/$B$159))","v":{"$error":"#DIV/0!"}},{"$f":"COMPLEX(ROUND(LO3,3),ROUND(LP3,3))","v":{"$error":"#DIV/0!"}},{"$f":"LO3","v":{"$error":"#DIV/0!"}},{"$f":"LP3-(_xlfn.COT(IQ3*$B$161/$B$57))","v":{"$error":"#DIV/0!"}},{"$f":"COMPLEX(ROUND(LR3,3),ROUND(LS3,3))","v":{"$error":"#DIV/0!"}},{"$f":"4*LR3","v":{"$error":"#DIV/0!"}},{"$f":"((1+LR3)^2+(LS3^2))","v":{"$error":"#DIV/0!"}},{"$f":"LU3/LV3","v":{"$error":"#DIV/0!"}},null,{"$f":"GS3","v":{"$error":"#N/A"}},{"$f":"HE3","v":{"$error":"#N/A"}},{"$f":"HQ3","v":{"$error":"#N/A"}},{"$f":"IC3","v":{"$error":"#N/A"}},{"$f":"IO3","v":{"$error":"#N/A"}},{"$f":"JA3","v":{"$error":"#N/A"}},null,{"$f":"JO3","v":{"$error":"#DIV/0!"}},{"$f":"KA3","v":{"$error":"#DIV/0!"}},{"$f":"KM3","v":{"$error":"#DIV/0!"}},{"$f":"KY3","v":{"$error":"#DIV/0!"}},{"$f":"LK3","v":{"$error":"#DIV/0!"}},{"$f":"LW3","v":{"$error":"#DIV/0!"}},{"$f":"IF($I$50=1,NR3,IF($I$50=2,NS3,IF($I$50=3,NT3,IF($I$50=4,NU3,IF($I$50=5,NV3,IF($I$50=6,NW3))))))","v":false},{"$f":"'Path Considerations'!J14","v":0},{"$f":"IF($B$15=\"Foam/Fibre\",FO3,FV3)","v":{"$error":"#DIV/0!"}},{"$f":"IF($C$15=\"Foam/Fibre\",FP3,FW3)","v":{"$error":"#DIV/0!"}},{"$f":"IF($D$15=\"Foam/Fibre\",FQ3,FX3)","v":{"$error":"#DIV/0!"}},{"$f":"IF($E$15=\"Foam/Fibre\",FR3,FY3)","v":{"$error":"#DIV/0!"}},{"$f":"IF($F$15=\"Foam/Fibre\",FS3,FZ3)","v":{"$error":"#DIV/0!"}},{"$f":"IF($G$15=\"Foam/Fibre\",FT3,GA3)","v":{"$error":"#DIV/0!"}},{"$f":"IF($B$50=\"Foam/Fibre\",LY3,MF3)","v":{"$error":"#DIV/0!"}},{"$f":"IF($C$50=\"Foam/Fibre\",LZ3,MG3)","v":{"$error":"#DIV/0!"}},{"$f":"IF($D$50=\"Foam/Fibre\",MA3,MH3)","v":{"$error":"#DIV/0!"}},{"$f":"IF($E$50=\"Foam/Fibre\",MB3,MI3)","v":{"$error":"#DIV/0!"}},{"$f":"IF($F$50=\"Foam/Fibre\",MC3,MJ3)","v":{"$error":"#DIV/0!"}},{"$f":"IF($G$50=\"Foam/Fibre\",MD3,MK3)","v":{"$error":"#DIV/0!"}},{"$f":"IF($B$15=\"Foam/Fibre\",$N$33,$N$34)","v":0},{"$f":"IF($C$15=\"Foam/Fibre\",$O$33,$O$34)","v":0},{"$f":"IF($D$15=\"Foam/Fibre\",$P$33,$P$34)","v":0},{"$f":"IF($E$15=\"Foam/Fibre\",$Q$33,$Q$34)","v":0},{"$f":"IF($F$15=\"Foam/Fibre\",$R$33,$R$34)","v":0},{"$f":"IF($G$15=\"Foam/Fibre\",$S$33,$S$34)","v":0},{"$f":"IF($B$50=\"Foam/Fibre\",$N$35,$N$36)","v":0},{"$f":"IF($C$50=\"Foam/Fibre\",$O$35,$O$36)","v":0},{"$f":"IF($D$50=\"Foam/Fibre\",$P$35,$P$36)","v":0},{"$f":"IF($E$50=\"Foam/Fibre\",$Q$35,$Q$36)","v":0},{"$f":"IF($F$50=\"Foam/Fibre\",$R$35,$R$36)","v":0},{"$f":"IF($G$50=\"Foam/Fibre\",$S$35,$S$36)","v":0},{"$f":"(MN3*MZ3)/GC3","v":{"$error":"#DIV/0!"}},{"$f":"((MN3*MZ3)+(MO3*NA3))/GC3","v":{"$error":"#DIV/0!"}},{"$f":"((MN3*MZ3)+(MO3*NA3)+(MP3*NB3))/GC3","v":{"$error":"#DIV/0!"}},{"$f":"((MN3*MZ3)+(MO3*NA3)+(MP3*NB3)+(MQ3*NC3))/GC3","v":{"$error":"#DIV/0!"}},{"$f":"((MN3*MZ3)+(MO3*NA3)+(MP3*NB3)+(MQ3*NC3)+(MR3*ND3))/GC3","v":{"$error":"#DIV/0!"}},{"$f":"((MN3*MZ3)+(MO3*NA3)+(MP3*NB3)+(MQ3*NC3)+(MR3*ND3)+(MS3*NE3))/GC3","v":{"$error":"#DIV/0!"}},{"$f":"(MT3*NF3)/MM3","v":{"$error":"#DIV/0!"}},{"$f":"((MT3*NF3)+(MU3*NG3))/MM3","v":{"$error":"#DIV/0!"}},{"$f":"((MT3*NF3)+(MU3*NG3)+(MV3*NH3))/MM3","v":{"$error":"#DIV/0!"}},{"$f":"((MT3*NF3)+(MU3*NG3)+(MV3*NH3)+(MW3*NI3))/MM3","v":{"$error":"#DIV/0!"}},{"$f":"((MT3*NF3)+(MU3*NG3)+(MV3*NH3)+(MW3*NI3)+(MX3*NJ3))/MM3","v":{"$error":"#DIV/0!"}},{"$f":"((MT3*NF3)+(MU3*NG3)+(MV3*NH3)+(MW3*NI3)+(MX3*NJ3)+(MY3*NK3))/MM3","v":{"$error":"#DIV/0!"}}]
["Polyester",7.8E-2,0.623,7.3999999999999996E-2,0.66,0.159,0.57099999999999995,0.121,0.53,null,null,null,"Plaster, Gypsum or Lime",null,1.2999999999999999E-2,1.4999999999999999E-2,0.02,0.03,0.04,0.05,null,null,null,3.15,{"$f":"2*PI()*X4","v":19.792033717615695},{"$error":"#N/A"},{"$error":"#N/A"},{"$error":"#N/A"},{"$f":"COMPLEX(ROUND(AA4,2),ROUND(AB4,2))","v":{"$error":"#N/A"}},{"$error":"#DIV/0!"},{"$error":"#DIV/0!"},{"$f":"COMPLEX(ROUND(AD4,2),ROUND(AE4,2))","v":{"$error":"#DIV/0!"}},{"$f":"COMPLEX(ROUND(IMREAL(IMPRODUCT(COMPLEX(0,-1),AC4,_xlfn.IMCOT(IMPRODUCT(AF4,$B$21)))),2),ROUND(IMAGINARY(IMPRODUCT(COMPLEX(0,-1),AC4,_xlfn.IMCOT(IMPRODUCT(AF4,$B$21)))),2))","v":{"$error":"#N/A"}},{"$f":"COMPLEX(ROUND(IMREAL(IMDIV(IMSUB(AG4,COMPLEX(($B$22*$B$23),0)),IMSUM(AG4,COMPLEX(($B$22*$B$23),0)))),2),ROUND(IMAGINARY(IMDIV(IMSUB(AG4,COMPLEX(($B$22*$B$23),0)),IMSUM(AG4,COMPLEX(($B$22*$B$23),0)))),2))","v":{"$error":"#N/A"}},{"$f":"1-(IMABS(AH4)^2)","v":{"$error":"#N/A"}},3.15,{"$f":"2*PI()*AJ4","v":19.792033717615695},{"$f":"$B$22*AJ4/$B$28","v":{"$error":"#N/A"}},{"$f":"$B$22*$B$23*(1+($B$27*AL4^-$C$27))","v":{"$error":"#N/A"}},{"$f":"-$B$22*$B$23*($D$27*AL4^-$E$27)","v":{"$error":"#N/A"}},{"$f":"COMPLEX(ROUND(AM4,2),ROUND(AN4,2))","v":{"$error":"#N/A"}},{"$f":"(AK4/$B$23)*(1+($F$27*AL4^-$G$27))","v":{"$error":"#DIV/0!"}},{"$f":"(-AK4/$B$23)*($H$27*AL4^-$I$27)","v":{"$error":"#DIV/0!"}},{"$f":"COMPLEX(ROUND(AP4,2),ROUND(AQ4,2))","v":{"$error":"#DIV/0!"}},{"$f":"COMPLEX(ROUND(IMREAL(IMPRODUCT(COMPLEX(0,-1),AO4,_xlfn.IMCOT(IMPRODUCT(AR4,$B$29)))),2),ROUND(IMAGINARY(IMPRODUCT(COMPLEX(0,-1),AO4,_xlfn.IMCOT(IMPRODUCT(AR4,$B$29)))),2))","v":{"$error":"#N/A"}},{"$error":"#N/A"},{"$f":"1-(IMABS(AT4)^2)","v":{"$error":"#N/A"}},3.15,{"$f":"2*PI()*AV4","v":19.792033717615695},{"$f":"$B$22*AV4/$B$33","v":{"$error":"#N/A"}},{"$f":"$B$22*$B$23*(1+($B$32*AX4^-$C$32))","v":{"$error":"#N/A"}},{"$f":"-$B$22*$B$23*($D$32*AX4^-$E$32)","v":{"$error":"#N/A"}},{"$f":"COMPLEX(ROUND(AY4,2),ROUND(AZ4,2))","v":{"$error":"#N/A"}},{"$f":"(AW4/$B$23)*(1+($F$32*AX4^-$G$32))","v":{"$error":"#DIV/0!"}},{"$f":"(-AW4/$B$23)*($H$32*AX4^-$I$32)","v":{"$error":"#DIV/0!"}},{"$f":"COMPLEX(ROUND(BB4,2),ROUND(BC4,2))","v":{"$error":"#DIV/0!"}},{"$f":"COMPLEX(ROUND(IMREAL(IMPRODUCT(COMPLEX(0,-1),BA4,_xlfn.IMCOT(IMPRODUCT(BD4,$B$34)))),2),ROUND(IMAGINARY(IMPRODUCT(COMPLEX(0,-1),BA4,_xlfn.IMCOT(IMPRODUCT(BD4,$B$34)))),2))","v":{"$error":"#N/A"}},{"$error":"#N/A"},{"$f":"1-(IMABS(BF4)^2)","v":{"$error":"#N/A"}},3.15,{"$f":"2*PI()*BH4","v":19.792033717615695},{"$f":"$B$22*BH4/$B$28","v":{"$error":"#N/A"}},{"$f":"$B$22*$B$23*(1+($B$37*BJ4^-$C$37))","v":{"$error":"#N/A"}},{"$f":"-$B$22*$B$23*($D$37*BJ4^-$E$37)","v":{"$error":"#N/A"}},{"$f":"COMPLEX(ROUND(BK4,2),ROUND(BL4,2))","v":{"$error":"#N/A"}},{"$f":"(BI4/$B$23)*(1+($F$37*BJ4^-$G$37))","v":{"$error":"#DIV/0!"}},{"$f":"(-BI4/$B$23)*($H$37*BJ4^-$I$37)","v":{"$error":"#DIV/0!"}},{"$f":"COMPLEX(ROUND(BN4,2),ROUND(BO4,2))","v":{"$error":"#DIV/0!"}},{"$f":"COMPLEX(ROUND(IMREAL(IMPRODUCT(COMPLEX(0,-1),BM4,_xlfn.IMCOT(IMPRODUCT(BP4,$B$39)))),2),ROUND(IMAGINARY(IMPRODUCT(COMPLEX(0,-1),BM4,_xlfn.IMCOT(IMPRODUCT(BP4,$B$39)))),2))","v":{"$error":"#N/A"}},{"$error":"#N/A"},{"$f":"1-(IMABS(BR4)^2)","v":{"$error":"#N/A"}},3.15,{"$f":"2*PI()*BT4","v":19.792033717615695},{"$f":"$B$22*BT4/$B$28","v":{"$error":"#N/A"}},{"$f":"$B$22*$B$23*(1+($B$42*BV4^-$C$42))","v":{"$error":"#N/A"}},{"$f":"-$B$22*$B$23*($D$42*BV4^-$E$42)","v":{"$error":"#N/A"}},{"$f":"COMPLEX(ROUND(BW4,2),ROUND(BX4,2))","v":{"$error":"#N/A"}},{"$f":"(BU4/$B$23)*(1+($F$42*BV4^-$G$42))","v":{"$error":"#DIV/0!"}},{"$f":"(-BU4/$B$23)*($H$42*BV4^-$I$42)","v":{"$error":"#DIV/0!"}},{"$f":"COMPLEX(ROUND(BZ4,2),ROUND(CA4,2))","v":{"$error":"#DIV/0!"}},{"$f":"COMPLEX(ROUND(IMREAL(IMPRODUCT(COMPLEX(0,-1),BY4,_xlfn.IMCOT(IMPRODUCT(CB4,$B$44)))),2),ROUND(IMAGINARY(IMPRODUCT(COMPLEX(0,-1),BY4,_xlfn.IMCOT(IMPRODUCT(CB4,$B$44)))),2))","v":{"$error":"#N/A"}},{"$error":"#N/A"},{"$f":"1-(IMABS(CD4)^2)","v":{"$error":"#N/A"}},3.15,{"$f":"2*PI()*CF4","v":19.792033717615695},{"$f":"$B$22*CF4/$B$48","v":{"$error":"#N/A"}},{"$f":"$B$22*$B$23*(1+($B$47*CH4^-$C$47))","v":{"$error":"#N/A"}},{"$f":"-$B$22*$B$23*($D$47*CH4^-$E$47)","v":{"$error":"#N/A"}},{"$f":"COMPLEX(ROUND(CI4,2),ROUND(CJ4,2))","v":{"$error":"#N/A"}},{"$f":"(CG4/$B$23)*(1+($F$47*CH4^-$G$47))","v":{"$error":"#DIV/0!"}},{"$f":"(-CG4/$B$23)*($H$47*CH4^-$I$47)","v":{"$error":"#DIV/0!"}},{"$f":"COMPLEX(ROUND(CL4,2),ROUND(CM4,2))","v":{"$error":"#DIV/0!"}},{"$f":"COMPLEX(ROUND(IMREAL(IMPRODUCT(COMPLEX(0,-1),CK4,_xlfn.IMCOT(IMPRODUCT(CN4,$B$49)))),2),ROUND(IMAGINARY(IMPRODUCT(COMPLEX(0,-1),CK4,_xlfn.IMCOT(IMPRODUCT(CN4,$B$49)))),2))","v":{"$error":"#N/A"}},{"$error":"#N/A"},{"$f":"1-(IMABS(CP4)^2)","v":{"$error":"#N/A"}},null,null,3.15,{"$f":"2*PI()*CT4","v":19.792033717615695},{"$f":"$B$88*SQRT((Y4*$B$22)/(4*$B$87))","v":{"$error":"#DIV/0!"}},{"$error":"#DIV/0!"},{"$error":"#DIV/0!"},{"$f":"COMPLEX(ROUND(CW4,3),ROUND(CX4,3))","v":{"$error":"#DIV/0!"}},{"$f":"CW4","v":{"$error":"#DIV/0!"}},{"$error":"#DIV/0!"},{"$f":"COMPLEX(ROUND(CZ4,3),ROUND(DA4,3))","v":{"$error":"#DIV/0!"}},{"$f":"4*CZ4","v":{"$error":"#DIV/0!"}},{"$f":"((1+CZ4)^2+(DA4^2))","v":{"$error":"#DIV/0!"}},{"$f":"DC4/DD4","v":{"$error":"#DIV/0!"}},3.15,{"$f":"2*PI()*DF4","v":19.792033717615695},{"$f":"$B$94*SQRT((AK4*$B$22)/(4*$B$87))","v":{"$error":"#DIV/0!"}},{"$f":"((32*$B$87*$B$95)/($B$96*$B$22*$B$23*$B$94^2))*((1+(DH4^2/32))^0.5+((SQRT(2)*DH4*$B$94)/(8*$B$95)))","v":{"$error":"#DIV/0!"}},{"$f":"(AK4*$B$95/($B$96*$B$23))*(1+(1/SQRT(9+(DH4^2/2)))+(0.85*$B$94/$B$95))","v":{"$error":"#DIV/0!"}},{"$f":"COMPLEX(ROUND(DI4,3),ROUND(DJ4,3))","v":{"$error":"#DIV/0!"}},{"$f":"DI4","v":{"$error":"#DIV/0!"}},{"$f":"DJ4-(_xlfn.COT(AK4*$B$97/$B$23))","v":{"$error":"#DIV/0!"}},{"$f":"COMPLEX(ROUND(DL4,3),ROUND(DM4,3))","v":{"$error":"#DIV/0!"}},{"$f":"4*DL4","v":{"$error":"#DIV/0!"}},{"$f":"((1+DL4)^2+(DM4^2))","v":{"$error":"#DIV/0!"}},{"$f":"DO4/DP4","v":{"$error":"#DIV/0!"}},3.15,{"$f":"2*PI()*DR4","v":19.792033717615695},{"$f":"$B$100*SQRT((AW4*$B$22)/(4*$B$87))","v":{"$error":"#DIV/0!"}},{"$f":"((32*$B$87*$B$101)/($B$102*$B$22*$B$23*$B$100^2))*((1+(DT4^2/32))^0.5+((SQRT(2)*DT4*$B$100)/(8*$B$101)))","v":{"$error":"#DIV/0!"}},{"$f":"(AW4*$B$101/($B$102*$B$23))*(1+(1/SQRT(9+(DT4^2/2)))+(0.85*$B$100/$B$101))","v":{"$error":"#DIV/0!"}},{"$f":"COMPLEX(ROUND(DU4,3),ROUND(DV4,3))","v":{"$error":"#DIV/0!"}},{"$f":"DU4","v":{"$error":"#DIV/0!"}},{"$f":"DV4-(_xlfn.COT(AW4*$B$103/$B$23))","v":{"$error":"#DIV/0!"}},{"$f":"COMPLEX(ROUND(DX4,3),ROUND(DY4,3))","v":{"$error":"#DIV/0!"}},{"$f":"4*DX4","v":{"$error":"#DIV/0!"}},{"$f":"((1+DX4)^2+(DY4^2))","v":{"$error":"#DIV/0!"}},{"$f":"EA4/EB4","v":{"$error":"#DIV/0!"}},3.15,{"$f":"2*PI()*ED4","v":19.792033717615695},{"$f":"$B$106*SQRT((BI4*$B$22)/(4*$B$87))","v":{"$error":"#DIV/0!"}},{"$f":"((32*$B$87*$B$107)/($B$108*$B$22*$B$23*$B$106^2))*((1+(DT4^2/32))^0.5+((SQRT(2)*DT4*$B$106)/(8*$B$107)))","v":{"$error":"#DIV/0!"}},{"$f":"(BI4*$B$107/($B$108*$B$23))*(1+(1/SQRT(9+(EF4^2/2)))+(0.85*$B$106/$B$107))","v":{"$error":"#DIV/0!"}},{"$f":"COMPLEX(ROUND(EG4,3),ROUND(EH4,3))","v":{"$error":"#DIV/0!"}},{"$f":"EG4","v":{"$error":"#DIV/0!"}},{"$f":"EH4-(_xlfn.COT(BI4*$B$109/$B$23))","v":{"$error":"#DIV/0!"}},{"$f":"COMPLEX(ROUND(EJ4,3),ROUND(EK4,3))","v":{"$error":"#DIV/0!"}},{"$f":"4*EJ4","v":{"$error":"#DIV/0!"}},{"$f":"((1+EJ4)^2+(EK4^2))","v":{"$error":"#DIV/0!"}},{"$f":"EM4/EN4","v":{"$error":"#DIV/0!"}},3.15,{"$f":"2*PI()*EP4","v":19.792033717615695},{"$f":"$B$112*SQRT((BU4*$B$22)/(4*$B$87))","v":{"$error":"#DIV/0!"}},{"$f":"((32*$B$87*$B$113)/($B$114*$B$22*$B$23*$B$112^2))*((1+(DT4^2/32))^0.5+((SQRT(2)*DT4*$B$112)/(8*$B$113)))","v":{"$error":"#DIV/0!"}},{"$f":"(BU4*$B$113/($B$114*$B$23))*(1+(1/SQRT(9+(ER4^2/2)))+(0.85*$B$112/$B$113))","v":{"$error":"#DIV/0!"}},{"$f":"COMPLEX(ROUND(ES4,3),ROUND(ET4,3))","v":{"$error":"#DIV/0!"}},{"$f":"ES4","v":{"$error":"#DIV/0!"}},{"$f":"ET4-(_xlfn.COT(BU4*$B$115/$B$23))","v":{"$error":"#DIV/0!"}},{"$f":"COMPLEX(ROUND(EV4,3),ROUND(EW4,3))","v":{"$error":"#DIV/0!"}},{"$f":"4*EV4","v":{"$error":"#DIV/0!"}},{"$f":"((1+EV4)^2+(EW4^2))","v":{"$error":"#DIV/0!"}},{"$f":"EY4/EZ4","v":{"$error":"#DIV/0!"}},3.15,{"$f":"2*PI()*FB4","v":19.792033717615695},{"$f":"$B$118*SQRT((CG4*$B$22)/(4*$B$87))","v":{"$error":"#DIV/0!"}},{"$f":"((32*$B$87*$B$119)/($B$120*$B$22*$B$23*$B$118^2))*((1+(DT4^2/32))^0.5+((SQRT(2)*DT4*$B$118)/(8*$B$119)))","v":{"$error":"#DIV/0!"}},{"$f":"(CG4*$B$119/($B$120*$B$23))*(1+(1/SQRT(9+(FD4^2/2)))+(0.85*$B$118/$B$119))","v":{"$error":"#DIV/0!"}},{"$f":"COMPLEX(ROUND(FE4,3),ROUND(FF4,3))","v":{"$error":"#DIV/0!"}},{"$f":"FE4","v":{"$error":"#DIV/0!"}},{"$f":"FF4-(_xlfn.COT(CG4*$B$91/$B$23))","v":{"$error":"#DIV/0!"}},{"$f":"COMPLEX(ROUND(FH4,3),ROUND(FI4,3))","v":{"$error":"#DIV/0!"}},{"$f":"4*FH4","v":{"$error":"#DIV/0!"}},{"$f":"((1+FH4)^2+(FI4^2))","v":{"$error":"#DIV/0!"}},{"$f":"FK4/FL4","v":{"$error":"#DIV/0!"}},null,{"$f":"AI4","v":{"$error":"#N/A"}},{"$error":"#N/A"},{"$error":"#N/A"},{"$error":"#N/A"},{"$error":"#N/A"},{"$error":"#N/A"},null,{"$error":"#DIV/0!"},{"$error":"#DIV/0!"},{"$error":"#DIV/0!"},{"$error":"#DIV/0!"},{"$error":"#DIV/0!"},{"$error":"#DIV/0!"},false,{"$f":"$GC$3","v":0},null,null,null,null,3.15,{"$f":"2*PI()*GH4","v":19.792033717615695},{"$f":"$B$56*GH4/$B$54","v":{"$error":"#N/A"}},{"$f":"$B$56*$B$57*(1+($B$53*GJ4^-$C$53))","v":{"$error":"#N/A"}},{"$f":"-$B$56*$B$57*($D$53*GJ4^-$E$53)","v":{"$error":"#N/A"}},{"$f":"COMPLEX(ROUND(GK4,2),ROUND(GL4,2))","v":{"$error":"#N/A"}},{"$f":"(GI4/$B$57)*(1+($F$53*GJ4^-$G$53))","v":{"$error":"#DIV/0!"}},{"$f":"(-GI4/$B$57)*($H$53*GJ4^-$I$53)","v":{"$error":"#DIV/0!"}},{"$f":"COMPLEX(ROUND(GN4,2),ROUND(GO4,2))","v":{"$error":"#DIV/0!"}},{"$f":"COMPLEX(ROUND(IMREAL(IMPRODUCT(COMPLEX(0,-1),GM4,_xlfn.IMCOT(IMPRODUCT(GP4,$B$55)))),2),ROUND(IMAGINARY(IMPRODUCT(COMPLEX(0,-1),GM4,_xlfn.IMCOT(IMPRODUCT(GP4,$B$55)))),2))","v":{"$error":"#N/A"}},{"$f":"COMPLEX(ROUND(IMREAL(IMDIV(IMSUB(GQ4,COMPLEX(($B$56*$B$57),0)),IMSUM(GQ4,COMPLEX(($B$56*$B$57),0)))),2),ROUND(IMAGINARY(IMDIV(IMSUB(GQ4,COMPLEX(($B$56*$B$57),0)),IMSUM(GQ4,COMPLEX(($B$56*$B$57),0)))),2))","v":{"$error":"#N/A"}},{"$f":"1-(IMABS(GR4)^2)","v":{"$error":"#N/A"}},3.15,{"$f":"2*PI()*GT4","v":19.792033717615695},{"$f":"$B$56*GT4/$B$61","v":{"$error":"#N/A"}},{"$f":"$B$56*$B$57*(1+($B$60*GV4^-$C$60))","v":{"$error":"#N/A"}},{"$f":"-$B$56*$B$57*($D$60*GV4^-$E$60)","v":{"$error":"#N/A"}},{"$f":"COMPLEX(ROUND(GW4,2),ROUND(GX4,2))","v":{"$error":"#N/A"}},{"$f":"(GU4/$B$57)*(1+($F$60*GV4^-$G$60))","v":{"$error":"#DIV/0!"}},{"$f":"(-GU4/$B$57)*($H$60*GV4^-$I$60)","v":{"$error":"#DIV/0!"}},{"$f":"COMPLEX(ROUND(GZ4,2),ROUND(HA4,2))","v":{"$error":"#DIV/0!"}},{"$f":"COMPLEX(ROUND(IMREAL(IMPRODUCT(COMPLEX(0,-1),GY4,_xlfn.IMCOT(IMPRODUCT(HB4,$B$62)))),2),ROUND(IMAGINARY(IMPRODUCT(COMPLEX(0,-1),GY4,_xlfn.IMCOT(IMPRODUCT(HB4,$B$62)))),2))","v":{"$error":"#N/A"}},{"$f":"COMPLEX(ROUND(IMREAL(IMDIV(IMSUB(HC4,COMPLEX(($B$56*$B$57),0)),IMSUM(HC4,COMPLEX(($B$56*$B$57),0)))),2),ROUND(IMAGINARY(IMDIV(IMSUB(HC4,COMPLEX(($B$56*$B$57),0)),IMSUM(HC4,COMPLEX(($B$56*$B$57),0)))),2))","v":{"$error":"#N/A"}},{"$f":"1-(IMABS(HD4)^2)","v":{"$error":"#N/A"}},3.15,{"$f":"2*PI()*HF4","v":19.792033717615695},{"$f":"$B$56*HF4/$B$66","v":{"$error":"#N/A"}},{"$f":"$B$56*$B$57*(1+($B$65*HH4^-$C$65))","v":{"$error":"#N/A"}},{"$f":"-$B$56*$B$57*($D$65*HH4^-$E$65)","v":{"$error":"#N/A"}},{"$f":"COMPLEX(ROUND(HI4,2),ROUND(HJ4,2))","v":{"$error":"#N/A"}},{"$f":"(HG4/$B$57)*(1+($F$65*HH4^-$G$65))","v":{"$error":"#DIV/0!"}},{"$f":"(-HG4/$B$57)*($H$65*HH4^-$I$65)","v":{"$error":"#DIV/0!"}},{"$f":"COMPLEX(ROUND(HL4,2),ROUND(HM4,2))","v":{"$error":"#DIV/0!"}},{"$f":"COMPLEX(ROUND(IMREAL(IMPRODUCT(COMPLEX(0,-1),HK4,_xlfn.IMCOT(IMPRODUCT(HN4,$B$67)))),2),ROUND(IMAGINARY(IMPRODUCT(COMPLEX(0,-1),HK4,_xlfn.IMCOT(IMPRODUCT(HN4,$B$67)))),2))","v":{"$error":"#N/A"}},{"$f":"COMPLEX(ROUND(IMREAL(IMDIV(IMSUB(HO4,COMPLEX(($B$56*$B$57),0)),IMSUM(HO4,COMPLEX(($B$56*$B$57),0)))),2),ROUND(IMAGINARY(IMDIV(IMSUB(HO4,COMPLEX(($B$56*$B$57),0)),IMSUM(HO4,COMPLEX(($B$56*$B$57),0)))),2))","v":{"$error":"#N/A"}},{"$f":"1-(IMABS(HP4)^2)","v":{"$error":"#N/A"}},3.15,{"$f":"2*PI()*HR4","v":19.792033717615695},{"$f":"$B$56*HR4/$B$71","v":{"$error":"#N/A"}},{"$f":"$B$56*$B$57*(1+($B$70*HT4^-$C$70))","v":{"$error":"#N/A"}},{"$f":"-$B$56*$B$57*($D$70*HT4^-$E$70)","v":{"$error":"#N/A"}},{"$f":"COMPLEX(ROUND(HU4,2),ROUND(HV4,2))","v":{"$error":"#N/A"}},{"$f":"(HS4/$B$57)*(1+($F$70*HT4^-$G$70))","v":{"$error":"#DIV/0!"}},{"$f":"(-HS4/$B$57)*($H$70*HT4^-$I$70)","v":{"$error":"#DIV/0!"}},{"$f":"COMPLEX(ROUND(HX4,2),ROUND(HY4,2))","v":{"$error":"#DIV/0!"}},{"$f":"COMPLEX(ROUND(IMREAL(IMPRODUCT(COMPLEX(0,-1),HW4,_xlfn.IMCOT(IMPRODUCT(HZ4,$B$72)))),2),ROUND(IMAGINARY(IMPRODUCT(COMPLEX(0,-1),HW4,_xlfn.IMCOT(IMPRODUCT(HZ4,$B$72)))),2))","v":{"$error":"#N/A"}},{"$f":"COMPLEX(ROUND(IMREAL(IMDIV(IMSUB(IA4,COMPLEX(($B$56*$B$57),0)),IMSUM(IA4,COMPLEX(($B$56*$B$57),0)))),2),ROUND(IMAGINARY(IMDIV(IMSUB(IA4,COMPLEX(($B$56*$B$57),0)),IMSUM(IA4,COMPLEX(($B$56*$B$57),0)))),2))","v":{"$error":"#N/A"}},{"$f":"1-(IMABS(IB4)^2)","v":{"$error":"#N/A"}},3.15,{"$f":"2*PI()*ID4","v":19.792033717615695},{"$f":"$B$56*ID4/$B$76","v":{"$error":"#N/A"}},{"$f":"$B$56*$B$57*(1+($B$75*IF4^-$C$75))","v":{"$error":"#N/A"}},{"$f":"-$B$56*$B$57*($D$75*IF4^-$E$75)","v":{"$error":"#N/A"}},{"$f":"COMPLEX(ROUND(IG4,2),ROUND(IH4,2))","v":{"$error":"#N/A"}},{"$f":"(IE4/$B$57)*(1+($F$75*IF4^-$G$75))","v":{"$error":"#DIV/0!"}},{"$f":"(-IE4/$B$57)*($H$75*IF4^-$I$75)","v":{"$error":"#DIV/0!"}},{"$f":"COMPLEX(ROUND(IJ4,2),ROUND(IK4,2))","v":{"$error":"#DIV/0!"}},{"$f":"COMPLEX(ROUND(IMREAL(IMPRODUCT(COMPLEX(0,-1),II4,_xlfn.IMCOT(IMPRODUCT(IL4,$B$77)))),2),ROUND(IMAGINARY(IMPRODUCT(COMPLEX(0,-1),II4,_xlfn.IMCOT(IMPRODUCT(IL4,$B$77)))),2))","v":{"$error":"#N/A"}},{"$f":"COMPLEX(ROUND(IMREAL(IMDIV(IMSUB(IM4,COMPLEX(($B$56*$B$57),0)),IMSUM(IM4,COMPLEX(($B$56*$B$57),0)))),2),ROUND(IMAGINARY(IMDIV(IMSUB(IM4,COMPLEX(($B$56*$B$57),0)),IMSUM(IM4,COMPLEX(($B$56*$B$57),0)))),2))","v":{"$error":"#N/A"}},{"$f":"1-(IMABS(IN4)^2)","v":{"$error":"#N/A"}},3.15,{"$f":"2*PI()*IP4","v":19.792033717615695},{"$f":"$B$56*IP4/$B$81","v":{"$error":"#N/A"}},{"$f":"$B$56*$B$57*(1+($B$80*IR4^-$C$80))","v":{"$error":"#N/A"}},{"$f":"-$B$56*$B$57*($D$80*IR4^-$E$80)","v":{"$error":"#N/A"}},{"$f":"COMPLEX(ROUND(IS4,2),ROUND(IT4,2))","v":{"$error":"#N/A"}},{"$f":"(IQ4/$B$57)*(1+($F$80*IR4^-$G$80))","v":{"$error":"#DIV/0!"}},{"$f":"(-IQ4/$B$57)*($H$80*IR4^-$I$80)","v":{"$error":"#DIV/0!"}},{"$f":"COMPLEX(ROUND(IV4,2),ROUND(IW4,2))","v":{"$error":"#DIV/0!"}},{"$f":"COMPLEX(ROUND(IMREAL(IMPRODUCT(COMPLEX(0,-1),IU4,_xlfn.IMCOT(IMPRODUCT(IX4,$B$82)))),2),ROUND(IMAGINARY(IMPRODUCT(COMPLEX(0,-1),IU4,_xlfn.IMCOT(IMPRODUCT(IX4,$B$82)))),2))","v":{"$error":"#N/A"}},{"$f":"COMPLEX(ROUND(IMREAL(IMDIV(IMSUB(IY4,COMPLEX(($B$56*$B$57),0)),IMSUM(IY4,COMPLEX(($B$56*$B$57),0)))),2),ROUND(IMAGINARY(IMDIV(IMSUB(IY4,COMPLEX(($B$56*$B$57),0)),IMSUM(IY4,COMPLEX(($B$56*$B$57),0)))),2))","v":{"$error":"#N/A"}},{"$f":"1-(IMABS(IZ4)^2)","v":{"$error":"#N/A"}},null,null,3.15,{"$f":"2*PI()*JD4","v":19.792033717615695},{"$f":"$B$128*SQRT((GI4*$B$56)/(4*$B$127))","v":{"$error":"#DIV/0!"}},{"$f":"((32*$B$127*$B$129)/($B$130*$B$56*$B$57*$B$128^2))*((1+(JF4^2/32))^0.5+((SQRT(2)*JF4*$B$128)/(8*$B$129)))","v":{"$error":"#DIV/0!"}},{"$f":"(GI4*$B$129/($B$130*$B$57))*(1+(1/SQRT(9+(JF4^2/2)))+(0.85*$B$128/$B$129))","v":{"$error":"#DIV/0!"}},{"$f":"COMPLEX(ROUND(JG4,3),ROUND(JH4,3))","v":{"$error":"#DIV/0!"}},{"$f":"JG4","v":{"$error":"#DIV/0!"}},{"$f":"JH4-(_xlfn.COT(GI4*$B$131/$B$57))","v":{"$error":"#DIV/0!"}},{"$f":"COMPLEX(ROUND(JJ4,3),ROUND(JK4,3))","v":{"$error":"#DIV/0!"}},{"$f":"4*JJ4","v":{"$error":"#DIV/0!"}},{"$f":"((1+JJ4)^2+(JK4^2))","v":{"$error":"#DIV/0!"}},{"$f":"JM4/JN4","v":{"$error":"#DIV/0!"}},3.15,{"$f":"2*PI()*JP4","v":19.792033717615695},{"$f":"$B$134*SQRT((GU4*$B$56)/(4*$B$127))","v":{"$error":"#DIV/0!"}},{"$f":"((32*$B$127*$B$135)/($B$136*$B$56*$B$57*$B$134^2))*((1+(JR4^2/32))^0.5+((SQRT(2)*JR4*$B$134)/(8*$B$135)))","v":{"$error":"#DIV/0!"}},{"$f":"(GU4*$B$135/($B$136*$B$57))*(1+(1/SQRT(9+(JR4^2/2)))+(0.85*$B$134/$B$135))","v":{"$error":"#DIV/0!"}},{"$f":"COMPLEX(ROUND(JS4,3),ROUND(JT4,3))","v":{"$error":"#DIV/0!"}},{"$f":"JS4","v":{"$error":"#DIV/0!"}},{"$f":"JT4-(_xlfn.COT(GU4*$B$137/$B$57))","v":{"$error":"#DIV/0!"}},{"$f":"COMPLEX(ROUND(JV4,3),ROUND(JW4,3))","v":{"$error":"#DIV/0!"}},{"$f":"4*JV4","v":{"$error":"#DIV/0!"}},{"$f":"((1+JV4)^2+(JW4^2))","v":{"$error":"#DIV/0!"}},{"$f":"JY4/JZ4","v":{"$error":"#DIV/0!"}},3.15,{"$f":"2*PI()*KB4","v":19.792033717615695},{"$f":"$B$140*SQRT((HG4*$B$56)/(4*$B$127))","v":{"$error":"#DIV/0!"}},{"$f":"((32*$B$127*$B$141)/($B$142*$B$56*$B$57*$B$140^2))*((1+(KD4^2/32))^0.5+((SQRT(2)*KD4*$B$140)/(8*$B$141)))","v":{"$error":"#DIV/0!"}},{"$f":"(HG4*$B$141/($B$142*$B$57))*(1+(1/SQRT(9+(KD4^2/2)))+(0.85*$B$140/$B$141))","v":{"$error":"#DIV/0!"}},{"$f":"COMPLEX(ROUND(KE4,3),ROUND(KF4,3))","v":{"$error":"#DIV/0!"}},{"$f":"KE4","v":{"$error":"#DIV/0!"}},{"$f":"KF4-(_xlfn.COT(HG4*$B$143/$B$57))","v":{"$error":"#DIV/0!"}},{"$f":"COMPLEX(ROUND(KH4,3),ROUND(KI4,3))","v":{"$error":"#DIV/0!"}},{"$f":"4*KH4","v":{"$error":"#DIV/0!"}},{"$f":"((1+KH4)^2+(KI4^2))","v":{"$error":"#DIV/0!"}},{"$f":"KK4/KL4","v":{"$error":"#DIV/0!"}},3.15,{"$f":"2*PI()*KN4","v":19.792033717615695},{"$f":"$B$146*SQRT((HS4*$B$56)/(4*$B$127))","v":{"$error":"#DIV/0!"}},{"$f":"((32*$B$127*$B$147)/($B$148*$B$56*$B$57*$B$146^2))*((1+(KD4^2/32))^0.5+((SQRT(2)*KD4*$B$146)/(8*$B$147)))","v":{"$error":"#DIV/0!"}},{"$f":"(HS4*$B$147/($B$148*$B$57))*(1+(1/SQRT(9+(KP4^2/2)))+(0.85*$B$146/$B$147))","v":{"$error":"#DIV/0!"}},{"$f":"COMPLEX(ROUND(KQ4,3),ROUND(KR4,3))","v":{"$error":"#DIV/0!"}},{"$f":"KQ4","v":{"$error":"#DIV/0!"}},{"$f":"KR4-(_xlfn.COT(HS4*$B$149/$B$57))","v":{"$error":"#DIV/0!"}},{"$f":"COMPLEX(ROUND(KT4,3),ROUND(KU4,3))","v":{"$error":"#DIV/0!"}},{"$f":"4*KT4","v":{"$error":"#DIV/0!"}},{"$f":"((1+KT4)^2+(KU4^2))","v":{"$error":"#DIV/0!"}},{"$f":"KW4/KX4","v":{"$error":"#DIV/0!"}},3.15,{"$f":"2*PI()*KZ4","v":19.792033717615695},{"$f":"$B$152*SQRT((IE4*$B$56)/(4*$B$127))","v":{"$error":"#DIV/0!"}},{"$f":"((32*$B$127*$B$153)/($B$154*$B$56*$B$57*$B$152^2))*((1+(KD4^2/32))^0.5+((SQRT(2)*KD4*$B$152)/(8*$B$153)))","v":{"$error":"#DIV/0!"}},{"$f":"(IE4*$B$153/($B$154*$B$57))*(1+(1/SQRT(9+(LB4^2/2)))+(0.85*$B$152/$B$153))","v":{"$error":"#DIV/0!"}},{"$f":"COMPLEX(ROUND(LC4,3),ROUND(LD4,3))","v":{"$error":"#DIV/0!"}},{"$f":"LC4","v":{"$error":"#DIV/0!"}},{"$f":"LD4-(_xlfn.COT(IE4*$B$155/$B$57))","v":{"$error":"#DIV/0!"}},{"$f":"COMPLEX(ROUND(LF4,3),ROUND(LG4,3))","v":{"$error":"#DIV/0!"}},{"$f":"4*LF4","v":{"$error":"#DIV/0!"}},{"$f":"((1+LF4)^2+(LG4^2))","v":{"$error":"#DIV/0!"}},{"$f":"LI4/LJ4","v":{"$error":"#DIV/0!"}},3.15,{"$f":"2*PI()*LL4","v":19.792033717615695},{"$f":"$B$158*SQRT((IQ4*$B$56)/(4*$B$127))","v":{"$error":"#DIV/0!"}},{"$f":"((32*$B$127*$B$159)/($B$160*$B$56*$B$57*$B$158^2))*((1+(KD4^2/32))^0.5+((SQRT(2)*KD4*$B$158)/(8*$B$159)))","v":{"$error":"#DIV/0!"}},{"$f":"(IQ4*$B$159/($B$160*$B$57))*(1+(1/SQRT(9+(LN4^2/2)))+(0.85*$B$158/$B$159))","v":{"$error":"#DIV/0!"}},{"$f":"COMPLEX(ROUND(LO4,3),ROUND(LP4,3))","v":{"$error":"#DIV/0!"}},{"$f":"LO4","v":{"$error":"#DIV/0!"}},{"$f":"LP4-(_xlfn.COT(IQ4*$B$161/$B$57))","v":{"$error":"#DIV/0!"}},{"$f":"COMPLEX(ROUND(LR4,3),ROUND(LS4,3))","v":{"$error":"#DIV/0!"}},{"$f":"4*LR4","v":{"$error":"#DIV/0!"}},{"$f":"((1+LR4)^2+(LS4^2))","v":{"$error":"#DIV/0!"}},{"$f":"LU4/LV4","v":{"$error":"#DIV/0!"}},null,{"$f":"GS4","v":{"$error":"#N/A"}},{"$error":"#N/A"},{"$error":"#N/A"},{"$error":"#N/A"},{"$error":"#N/A"},{"$error":"#N/A"},null,{"$error":"#DIV/0!"},{"$error":"#DIV/0!"},{"$error":"#DIV/0!"},{"$error":"#DIV/0!"},{"$error":"#DIV/0!"},{"$error":"#DIV/0!"},{"$f":"IF($I$50=1,NR4,IF($I$50=2,NS4,IF($I$50=3,NT4,IF($I$50=4,NU4,IF($I$50=5,NV4,IF($I$50=6,NW4))))))","v":false},{"$f":"$MM$3","v":0},{"$error":"#DIV/0!"},{"$error":"#DIV/0!"},{"$error":"#DIV/0!"},{"$error":"#DIV/0!"},{"$error":"#DIV/0!"},{"$error":"#DIV/0!"},{"$error":"#DIV/0!"},{"$error":"#DIV/0!"},{"$error":"#DIV/0!"},{"$error":"#DIV/0!"},{"$error":"#DIV/0!"},{"$error":"#DIV/0!"},{"$f":"IF($B$15=\"Foam/Fibre\",$N$33,$N$34)","v":0},{"$f":"IF($C$15=\"Foam/Fibre\",$O$33,$O$34)","v":0},{"$f":"IF($D$15=\"Foam/Fibre\",$P$33,$P$34)","v":0},{"$f":"IF($E$15=\"Foam/Fibre\",$Q$33,$Q$34)","v":0},{"$f":"IF($F$15=\"Foam/Fibre\",$R$33,$R$34)","v":0},{"$f":"IF($G$15=\"Foam/Fibre\",$S$33,$S$34)","v":0},{"$f":"IF($B$50=\"Foam/Fibre\",$N$35,$N$36)","v":0},{"$f":"IF($C$50=\"Foam/Fibre\",$O$35,$O$36)","v":0},{"$f":"IF($D$50=\"Foam/Fibre\",$P$35,$P$36)","v":0},{"$f":"IF($E$50=\"Foam/Fibre\",$Q$35,$Q$36)","v":0},{"$f":"IF($F$50=\"Foam/Fibre\",$R$35,$R$36)","v":0},{"$f":"IF($G$50=\"Foam/Fibre\",$S$35,$S$36)","v":0},{"$f":"MN4*MZ4/GC4","v":{"$error":"#DIV/0!"}},{"$error":"#DIV/0!"},{"$error":"#DIV/0!"},{"$error":"#DIV/0!"},{"$error":"#DIV/0!"},{"$error":"#DIV/0!"},{"$f":"(MT4*NF4)/MM4","v":{"$error":"#DIV/0!"}},{"$f":"((MT4*NF4)+(MU4*NG4))/MM4","v":{"$error":"#DIV/0!"}},{"$f":"((MT4*NF4)+(MU4*NG4)+(MV4*NH4))/MM4","v":{"$error":"#DIV/0!"}},{"$f":"((MT4*NF4)+(MU4*NG4)+(MV4*NH4)+(MW4*NI4))/MM4","v":{"$error":"#DIV/0!"}},{"$f":"((MT4*NF4)+(MU4*NG4)+(MV4*NH4)+(MW4*NI4)+(MX4*NJ4))/MM4","v":{"$error":"#DIV/0!"}},{"$f":"((MT4*NF4)+(MU4*NG4)+(MV4*NH4)+(MW4*NI4)+(MX4*NJ4)+(MY4*NK4))/MM4","v":{"$error":"#DIV/0!"}}]
["Polyurethane foam of low flow resistivity",0.114,0.36899999999999999,9.8500000000000004E-2,0.75800000000000001,0.16800000000000001,0.71499999999999997,0.13600000000000001,0.49099999999999999,null,null,null,"13mm mineral tile direct fixed to floor slab",null,0.1,0.25,0.7,0.85,0.7,0.6,null,null,null,4,{"$f":"2*PI()*X5","v":25.132741228718345},{"$error":"#N/A"},{"$error":"#N/A"},{"$error":"#N/A"},{"$error":"#N/A"},{"$error":"#DIV/0!"},{"$error":"#DIV/0!"},{"$error":"#DIV/0!"},{"$error":"#N/A"},{"$error":"#N/A"},{"$error":"#N/A"},4,{"$f":"2*PI()*AJ5","v":25.132741228718345},{"$error":"#N/A"},{"$error":"#N/A"},{"$error":"#N/A"},{"$error":"#N/A"},{"$error":"#DIV/0!"},{"$error":"#DIV/0!"},{"$error":"#DIV/0!"},{"$error":"#N/A"},{"$error":"#N/A"},{"$error":"#N/A"},4,{"$f":"2*PI()*AV5","v":25.132741228718345},{"$error":"#N/A"},{"$error":"#N/A"},{"$error":"#N/A"},{"$error":"#N/A"},{"$error":"#DIV/0!"},{"$error":"#DIV/0!"},{"$error":"#DIV/0!"},{"$error":"#N/A"},{"$error":"#N/A"},{"$error":"#N/A"},4,{"$f":"2*PI()*BH5","v":25.132741228718345},{"$error":"#N/A"},{"$error":"#N/A"},{"$error":"#N/A"},{"$error":"#N/A"},{"$error":"#DIV/0!"},{"$error":"#DIV/0!"},{"$error":"#DIV/0!"},{"$error":"#N/A"},{"$error":"#N/A"},{"$error":"#N/A"},4,{"$f":"2*PI()*BT5","v":25.132741228718345},{"$error":"#N/A"},{"$error":"#N/A"},{"$error":"#N/A"},{"$error":"#N/A"},{"$error":"#DIV/0!"},{"$error":"#DIV/0!"},{"$error":"#DIV/0!"},{"$error":"#N/A"},{"$error":"#N/A"},{"$error":"#N/A"},4,{"$f":"2*PI()*CF5","v":25.132741228718345},{"$error":"#N/A"},{"$error":"#N/A"},{"$error":"#N/A"},{"$error":"#N/A"},{"$error":"#DIV/0!"},{"$error":"#DIV/0!"},{"$error":"#DIV/0!"},{"$error":"#N/A"},{"$error":"#N/A"},{"$error":"#N/A"},null,null,4,{"$f":"2*PI()*CT5","v":25.132741228718345},{"$error":"#DIV/0!"},{"$error":"#DIV/0!"},{"$error":"#DIV/0!"},{"$error":"#DIV/0!"},{"$error":"#DIV/0!"},{"$error":"#DIV/0!"},{"$error":"#DIV/0!"},{"$error":"#DIV/0!"},{"$error":"#DIV/0!"},{"$error":"#DIV/0!"},4,{"$f":"2*PI()*DF5","v":25.132741228718345},{"$error":"#DIV/0!"},{"$error":"#DIV/0!"},{"$error":"#DIV/0!"},{"$error":"#DIV/0!"},{"$error":"#DIV/0!"},{"$error":"#DIV/0!"},{"$error":"#DIV/0!"},{"$error":"#DIV/0!"},{"$error":"#DIV/0!"},{"$error":"#DIV/0!"},4,{"$f":"2*PI()*DR5","v":25.132741228718345},{"$error":"#DIV/0!"},{"$error":"#DIV/0!"},{"$error":"#DIV/0!"},{"$error":"#DIV/0!"},{"$error":"#DIV/0!"},{"$error":"#DIV/0!"},{"$error":"#DIV/0!"},{"$error":"#DIV/0!"},{"$error":"#DIV/0!"},{"$error":"#DIV/0!"},4,{"$f":"2*PI()*ED5","v":25.132741228718345},{"$error":"#DIV/0!"},{"$error":"#DIV/0!"},{"$error":"#DIV/0!"},{"$error":"#DIV/0!"},{"$error":"#DIV/0!"},{"$error":"#DIV/0!"},{"$error":"#DIV/0!"},{"$error":"#DIV/0!"},{"$error":"#DIV/0!"},{"$error":"#DIV/0!"},4,{"$f":"2*PI()*EP5","v":25.132741228718345},{"$error":"#DIV/0!"},{"$error":"#DIV/0!"},{"$error":"#DIV/0!"},{"$error":"#DIV/0!"},{"$error":"#DIV/0!"},{"$error":"#DIV/0!"},{"$error":"#DIV/0!"},{"$error":"#DIV/0!"},{"$error":"#DIV/0!"},{"$error":"#DIV/0!"},4,{"$f":"2*PI()*FB5","v":25.132741228718345},{"$error":"#DIV/0!"},{"$error":"#DIV/0!"},{"$error":"#DIV/0!"},{"$error":"#DIV/0!"},{"$error":"#DIV/0!"},{"$error":"#DIV/0!"},{"$error":"#DIV/0!"},{"$error":"#DIV/0!"},{"$error":"#DIV/0!"},{"$error":"#DIV/0!"},null,{"$error":"#N/A"},{"$error":"#N/A"},{"$error":"#N/A"},{"$error":"#N/A"},{"$error":"#N/A"},{"$error":"#N/A"},null,{"$error":"#DIV/0!"},{"$error":"#DIV/0!"},{"$error":"#DIV/0!"},{"$error":"#DIV/0!"},{"$error":"#DIV/0!"},{"$error":"#DIV/0!"},false,{"$f":"$GC$3","v":0},null,null,null,null,4,{"$f":"2*PI()*GH5","v":25.132741228718345},{"$error":"#N/A"},{"$error":"#N/A"},{"$error":"#N/A"},{"$error":"#N/A"},{"$error":"#DIV/0!"},{"$error":"#DIV/0!"},{"$error":"#DIV/0!"},{"$error":"#N/A"},{"$error":"#N/A"},{"$error":"#N/A"},4,{"$f":"2*PI()*GT5","v":25.132741228718345},{"$error":"#N/A"},{"$error":"#N/A"},{"$error":"#N/A"},{"$error":"#N/A"},{"$error":"#DIV/0!"},{"$error":"#DIV/0!"},{"$error":"#DIV/0!"},{"$error":"#N/A"},{"$error":"#N/A"},{"$error":"#N/A"},4,{"$f":"2*PI()*HF5","v":25.132741228718345},{"$error":"#N/A"},{"$error":"#N/A"},{"$error":"#N/A"},{"$error":"#N/A"},{"$error":"#DIV/0!"},{"$error":"#DIV/0!"},{"$error":"#DIV/0!"},{"$error":"#N/A"},{"$error":"#N/A"},{"$error":"#N/A"},4,{"$f":"2*PI()*HR5","v":25.132741228718345},{"$error":"#N/A"},{"$error":"#N/A"},{"$error":"#N/A"},{"$error":"#N/A"},{"$error":"#DIV/0!"},{"$error":"#DIV/0!"},{"$error":"#DIV/0!"},{"$error":"#N/A"},{"$error":"#N/A"},{"$error":"#N/A"},4,{"$f":"2*PI()*ID5","v":25.132741228718345},{"$error":"#N/A"},{"$error":"#N/A"},{"$error":"#N/A"},{"$error":"#N/A"},{"$error":"#DIV/0!"},{"$error":"#DIV/0!"},{"$error":"#DIV/0!"},{"$error":"#N/A"},{"$error":"#N/A"},{"$error":"#N/A"},4,{"$f":"2*PI()*IP5","v":25.132741228718345},{"$error":"#N/A"},{"$error":"#N/A"},{"$error":"#N/A"},{"$error":"#N/A"},{"$error":"#DIV/0!"},{"$error":"#DIV/0!"},{"$error":"#DIV/0!"},{"$error":"#N/A"},{"$error":"#N/A"},{"$error":"#N/A"},null,null,4,{"$f":"2*PI()*JD5","v":25.132741228718345},{"$error":"#DIV/0!"},{"$error":"#DIV/0!"},{"$error":"#DIV/0!"},{"$error":"#DIV/0!"},{"$error":"#DIV/0!"},{"$error":"#DIV/0!"},{"$error":"#DIV/0!"},{"$error":"#DIV/0!"},{"$error":"#DIV/0!"},{"$error":"#DIV/0!"},4,{"$f":"2*PI()*JP5","v":25.132741228718345},{"$error":"#DIV/0!"},{"$error":"#DIV/0!"},{"$error":"#DIV/0!"},{"$error":"#DIV/0!"},{"$error":"#DIV/0!"},{"$error":"#DIV/0!"},{"$error":"#DIV/0!"},{"$error":"#DIV/0!"},{"$error":"#DIV/0!"},{"$error":"#DIV/0!"},4,{"$f":"2*PI()*KB5","v":25.132741228718345},{"$error":"#DIV/0!"},{"$error":"#DIV/0!"},{"$error":"#DIV/0!"},{"$error":"#DIV/0!"},{"$error":"#DIV/0!"},{"$error":"#DIV/0!"},{"$error":"#DIV/0!"},{"$error":"#DIV/0!"},{"$error":"#DIV/0!"},{"$error":"#DIV/0!"},4,{"$f":"2*PI()*KN5","v":25.132741228718345},{"$error":"#DIV/0!"},{"$error":"#DIV/0!"},{"$error":"#DIV/0!"},{"$error":"#DIV/0!"},{"$error":"#DIV/0!"},{"$error":"#DIV/0!"},{"$error":"#DIV/0!"},{"$error":"#DIV/0!"},{"$error":"#DIV/0!"},{"$error":"#DIV/0!"},4,{"$f":"2*PI()*KZ5","v":25.132741228718345},{"$error":"#DIV/0!"},{"$error":"#DIV/0!"},{"$error":"#DIV/0!"},{"$error":"#DIV/0!"},{"$error":"#DIV/0!"},{"$error":"#DIV/0!"},{"$error":"#DIV/0!"},{"$error":"#DIV/0!"},{"$error":"#DIV/0!"},{"$error":"#DIV/0!"},4,{"$f":"2*PI()*LL5","v":25.132741228718345},{"$error":"#DIV/0!"},{"$error":"#DIV/0!"},{"$error":"#DIV/0!"},{"$error":"#DIV/0!"},{"$error":"#DIV/0!"},{"$error":"#DIV/0!"},{"$error":"#DIV/0!"},{"$error":"#DIV/0!"},{"$error":"#DIV/0!"},{"$error":"#DIV/0!"},null,{"$error":"#N/A"},{"$error":"#N/A"},{"$error":"#N/A"},{"$error":"#N/A"},{"$error":"#N/A"},{"$error":"#N/A"},null,{"$error":"#DIV/0!"},{"$error":"#DIV/0!"},{"$error":"#DIV/0!"},{"$error":"#DIV/0!"},{"$error":"#DIV/0!"},{"$error":"#DIV/0!"},false,{"$f":"$MM$3","v":0},{"$error":"#DIV/0!"},{"$error":"#DIV/0!"},{"$error":"#DIV/0!"},{"$error":"#DIV/0!"},{"$error":"#DIV/0!"},{"$error":"#DIV/0!"},{"$error":"#DIV/0!"},{"$error":"#DIV/0!"},{"$error":"#DIV/0!"},{"$error":"#DIV/0!"},{"$error":"#DIV/0!"},{"$error":"#DIV/0!"},0,0,0,0,0,0,0,0,0,0,0,0,{"$error":"#DIV/0!"},{"$error":"#DIV/0!"},{"$error":"#DIV/0!"},{"$error":"#DIV/0!"},{"$error":"#DIV/0!"},{"$error":"#DIV/0!"},{"$error":"#DIV/0!"},{"$error":"#DIV/0!"},{"$error":"#DIV/0!"},{"$error":"#DIV/0!"},{"$error":"#DIV/0!"},{"$error":"#DIV/0!"}]
["Porous plastic foams of medium flow resistivity",0.21199999999999999,0.45500000000000002,0.105,0.60699999999999998,0.16300000000000001,0.59199999999999997,0.188,0.54400000000000004,null,null,null,"Glass",null,0.18,0.06,0.04,0.03,0.02,0.02,null,null,null,5,31.415926535897931,{"$error":"#N/A"},{"$error":"#N/A"},{"$error":"#N/A"},{"$error":"#N/A"},{"$error":"#DIV/0!"},{"$error":"#DIV/0!"},{"$error":"#DIV/0!"},{"$error":"#N/A"},{"$error":"#N/A"},{"$error":"#N/A"},5,31.415926535897931,{"$error":"#N/A"},{"$error":"#N/A"},{"$error":"#N/A"},{"$error":"#N/A"},{"$error":"#DIV/0!"},{"$error":"#DIV/0!"},{"$error":"#DIV/0!"},{"$error":"#N/A"},{"$error":"#N/A"},{"$error":"#N/A"},5,31.415926535897931,{"$error":"#N/A"},{"$error":"#N/A"},{"$error":"#N/A"},{"$error":"#N/A"},{"$error":"#DIV/0!"},{"$error":"#DIV/0!"},{"$error":"#DIV/0!"},{"$error":"#N/A"},{"$error":"#N/A"},{"$error":"#N/A"},5,31.415926535897931,{"$error":"#N/A"},{"$error":"#N/A"},{"$error":"#N/A"},{"$error":"#N/A"},{"$error":"#DIV/0!"},{"$error":"#DIV/0!"},{"$error":"#DIV/0!"},{"$error":"#N/A"},{"$error":"#N/A"},{"$error":"#N/A"},5,31.415926535897931,{"$error":"#N/A"},{"$error":"#N/A"},{"$error":"#N/A"},{"$error":"#N/A"},{"$error":"#DIV/0!"},{"$error":"#DIV/0!"},{"$error":"#DIV/0!"},{"$error":"#N/A"},{"$error":"#N/A"},{"$error":"#N/A"},5,31.415926535897931,{"$error":"#N/A"},{"$error":"#N/A"},{"$error":"#N/A"},{"$error":"#N/A"},{"$error":"#DIV/0!"},{"$error":"#DIV/0!"},{"$error":"#DIV/0!"},{"$error":"#N/A"},{"$error":"#N/A"},{"$error":"#N/A"},null,null,5,31.415926535897931,{"$error":"#DIV/0!"},{"$error":"#DIV/0!"},{"$error":"#DIV/0!"},{"$error":"#DIV/0!"},{"$error":"#DIV/0!"},{"$error":"#DIV/0!"},{"$error":"#DIV/0!"},{"$error":"#DIV/0!"},{"$error":"#DIV/0!"},{"$error":"#DIV/0!"},5,31.415926535897931,{"$error":"#DIV/0!"},{"$error":"#DIV/0!"},{"$error":"#DIV/0!"},{"$error":"#DIV/0!"},{"$error":"#DIV/0!"},{"$error":"#DIV/0!"},{"$error":"#DIV/0!"},{"$error":"#DIV/0!"},{"$error":"#DIV/0!"},{"$error":"#DIV/0!"},5,31.415926535897931,{"$error":"#DIV/0!"},{"$error":"#DIV/0!"},{"$error":"#DIV/0!"},{"$error":"#DIV/0!"},{"$error":"#DIV/0!"},{"$error":"#DIV/0!"},{"$error":"#DIV/0!"},{"$error":"#DIV/0!"},{"$error":"#DIV/0!"},{"$error":"#DIV/0!"},5,31.415926535897931,{"$error":"#DIV/0!"},{"$error":"#DIV/0!"},{"$error":"#DIV/0!"},{"$error":"#DIV/0!"},{"$error":"#DIV/0!"},{"$error":"#DIV/0!"},{"$error":"#DIV/0!"},{"$error":"#DIV/0!"},{"$error":"#DIV/0!"},{"$error":"#DIV/0!"},5,31.415926535897931,{"$error":"#DIV/0!"},{"$error":"#DIV/0!"},{"$error":"#DIV/0!"},{"$error":"#DIV/0!"},{"$error":"#DIV/0!"},{"$error":"#DIV/0!"},{"$error":"#DIV/0!"},{"$error":"#DIV/0!"},{"$error":"#DIV/0!"},{"$error":"#DIV/0!"},5,31.415926535897931,{"$error":"#DIV/0!"},{"$error":"#DIV/0!"},{"$error":"#DIV/0!"},{"$error":"#DIV/0!"},{"$error":"#DIV/0!"},{"$error":"#DIV/0!"},{"$error":"#DIV/0!"},{"$error":"#DIV/0!"},{"$error":"#DIV/0!"},{"$error":"#DIV/0!"},null,{"$error":"#N/A"},{"$error":"#N/A"},{"$error":"#N/A"},{"$error":"#N/A"},{"$error":"#N/A"},{"$error":"#N/A"},null,{"$error":"#DIV/0!"},{"$error":"#DIV/0!"},{"$error":"#DIV/0!"},{"$error":"#DIV/0!"},{"$error":"#DIV/0!"},{"$error":"#DIV/0!"},false,0,null,null,null,null,5,31.415926535897931,{"$error":"#N/A"},{"$error":"#N/A"},{"$error":"#N/A"},{"$error":"#N/A"},{"$error":"#DIV/0!"},{"$error":"#DIV/0!"},{"$error":"#DIV/0!"},{"$error":"#N/A"},{"$error":"#N/A"},{"$error":"#N/A"},5,31.415926535897931,{"$error":"#N/A"},{"$error":"#N/A"},{"$error":"#N/A"},{"$error":"#N/A"},{"$error":"#DIV/0!"},{"$error":"#DIV/0!"},{"$error":"#DIV/0!"},{"$error":"#N/A"},{"$error":"#N/A"},{"$error":"#N/A"},5,31.415926535897931,{"$error":"#N/A"},{"$error":"#N/A"},{"$error":"#N/A"},{"$error":"#N/A"},{"$error":"#DIV/0!"},{"$error":"#DIV/0!"},{"$error":"#DIV/0!"},{"$error":"#N/A"},{"$error":"#N/A"},{"$error":"#N/A"},5,31.415926535897931,{"$error":"#N/A"},{"$error":"#N/A"},{"$error":"#N/A"},{"$error":"#N/A"},{"$error":"#DIV/0!"},{"$error":"#DIV/0!"},{"$error":"#DIV/0!"},{"$error":"#N/A"},{"$error":"#N/A"},{"$error":"#N/A"},5,31.415926535897931,{"$error":"#N/A"},{"$error":"#N/A"},{"$error":"#N/A"},{"$error":"#N/A"},{"$error":"#DIV/0!"},{"$error":"#DIV/0!"},{"$error":"#DIV/0!"},{"$error":"#N/A"},{"$error":"#N/A"},{"$error":"#N/A"},5,31.415926535897931,{"$error":"#N/A"},{"$error":"#N/A"},{"$error":"#N/A"},{"$error":"#N/A"},{"$error":"#DIV/0!"},{"$error":"#DIV/0!"},{"$error":"#DIV/0!"},{"$error":"#N/A"},{"$error":"#N/A"},{"$error":"#N/A"},null,null,5,31.415926535897931,{"$error":"#DIV/0!"},{"$error":"#DIV/0!"},{"$error":"#DIV/0!"},{"$error":"#DIV/0!"},{"$error":"#DIV/0!"},{"$error":"#DIV/0!"},{"$error":"#DIV/0!"},{"$error":"#DIV/0!"},{"$error":"#DIV/0!"},{"$error":"#DIV/0!"},5,31.415926535897931,{"$error":"#DIV/0!"},{"$error":"#DIV/0!"},{"$error":"#DIV/0!"},{"$error":"#DIV/0!"},{"$error":"#DIV/0!"},{"$error":"#DIV/0!"},{"$error":"#DIV/0!"},{"$error":"#DIV/0!"},{"$error":"#DIV/0!"},{"$error":"#DIV/0!"},5,31.415926535897931,{"$error":"#DIV/0!"},{"$error":"#DIV/0!"},{"$error":"#DIV/0!"},{"$error":"#DIV/0!"},{"$error":"#DIV/0!"},{"$error":"#DIV/0!"},{"$error":"#DIV/0!"},{"$error":"#DIV/0!"},{"$error":"#DIV/0!"},{"$error":"#DIV/0!"},5,31.415926535897931,{"$error":"#DIV/0!"},{"$error":"#DIV/0!"},{"$error":"#DIV/0!"},{"$error":"#DIV/0!"},{"$error":"#DIV/0!"},{"$error":"#DIV/0!"},{"$error":"#DIV/0!"},{"$error":"#DIV/0!"},{"$error":"#DIV/0!"},{"$error":"#DIV/0!"},5,31.415926535897931,{"$error":"#DIV/0!"},{"$error":"#DIV/0!"},{"$error":"#DIV/0!"},{"$error":"#DIV/0!"},{"$error":"#DIV/0!"},{"$error":"#DIV/0!"},{"$error":"#DIV/0!"},{"$error":"#DIV/0!"},{"$error":"#DIV/0!"},{"$error":"#DIV/0!"},5,31.415926535897931,{"$error":"#DIV/0!"},{"$error":"#DIV/0!"},{"$error":"#DIV/0!"},{"$error":"#DIV/0!"},{"$error":"#DIV/0!"},{"$error":"#DIV/0!"},{"$error":"#DIV/0!"},{"$error":"#DIV/0!"},{"$error":"#DIV/0!"},{"$error":"#DIV/0!"},null,{"$error":"#N/A"},{"$error":"#N/A"},{"$error":"#N/A"},{"$error":"#N/A"},{"$error":"#N/A"},{"$error":"#N/A"},null,{"$error":"#DIV/0!"},{"$error":"#DIV/0!"},{"$error":"#DIV/0!"},{"$error":"#DIV/0!"},{"$error":"#DIV/0!"},{"$error":"#DIV/0!"},false,0,{"$error":"#DIV/0!"},{"$error":"#DIV/0!"},{"$error":"#DIV/0!"},{"$error":"#DIV/0!"},{"$error":"#DIV/0!"},{"$error":"#DIV/0!"},{"$error":"#DIV/0!"},{"$error":"#DIV/0!"},{"$error":"#DIV/0!"},{"$error":"#DIV/0!"},{"$error":"#DIV/0!"},{"$error":"#DIV/0!"},0,0,{"$f":"IF($D$15=\"Foam/Fibre\",$P$33,$P$34)","v":0},0,0,0,0,0,0,0,0,0,{"$error":"#DIV/0!"},{"$error":"#DIV/0!"},{"$error":"#DIV/0!"},{"$error":"#DIV/0!"},{"$error":"#DIV/0!"},{"$error":"#DIV/0!"},{"$error":"#DIV/0!"},{"$error":"#DIV/0!"},{"$error":"#DIV/0!"},{"$error":"#DIV/0!"},{"$error":"#DIV/0!"},{"$error":"#DIV/0!"}]
[null,null,null,null,null,null,null,null,null,null,null,null,"Ordinary Window",null,0.35,0.25,0.18,0.12,7.0000000000000007E-2,0.65,null,null,null,6.3,39.58406743523139,{"$error":"#N/A"},{"$error":"#N/A"},{"$error":"#N/A"},{"$error":"#N/A"},{"$error":"#DIV/0!"},{"$error":"#DIV/0!"},{"$error":"#DIV/0!"},{"$error":"#N/A"},{"$error":"#N/A"},{"$error":"#N/A"},6.3,39.58406743523139,{"$error":"#N/A"},{"$error":"#N/A"},{"$error":"#N/A"},{"$error":"#N/A"},{"$error":"#DIV/0!"},{"$error":"#DIV/0!"},{"$error":"#DIV/0!"},{"$error":"#N/A"},{"$error":"#N/A"},{"$error":"#N/A"},6.3,39.58406743523139,{"$error":"#N/A"},{"$error":"#N/A"},{"$error":"#N/A"},{"$error":"#N/A"},{"$error":"#DIV/0!"},{"$error":"#DIV/0!"},{"$error":"#DIV/0!"},{"$error":"#N/A"},{"$error":"#N/A"},{"$error":"#N/A"},6.3,39.58406743523139,{"$error":"#N/A"},{"$error":"#N/A"},{"$error":"#N/A"},{"$error":"#N/A"},{"$error":"#DIV/0!"},{"$error":"#DIV/0!"},{"$error":"#DIV/0!"},{"$error":"#N/A"},{"$error":"#N/A"},{"$error":"#N/A"},6.3,39.58406743523139,{"$error":"#N/A"},{"$error":"#N/A"},{"$error":"#N/A"},{"$error":"#N/A"},{"$error":"#DIV/0!"},{"$error":"#DIV/0!"},{"$error":"#DIV/0!"},{"$error":"#N/A"},{"$error":"#N/A"},{"$error":"#N/A"},6.3,39.58406743523139,{"$error":"#N/A"},{"$error":"#N/A"},{"$error":"#N/A"},{"$error":"#N/A"},{"$error":"#DIV/0!"},{"$error":"#DIV/0!"},{"$error":"#DIV/0!"},{"$error":"#N/A"},{"$error":"#N/A"},{"$error":"#N/A"},null,null,6.3,39.58406743523139,{"$error":"#DIV/0!"},{"$error":"#DIV/0!"},{"$error":"#DIV/0!"},{"$error":"#DIV/0!"},{"$error":"#DIV/0!"},{"$error":"#DIV/0!"},{"$error":"#DIV/0!"},{"$error":"#DIV/0!"},{"$error":"#DIV/0!"},{"$error":"#DIV/0!"},6.3,39.58406743523139,{"$error":"#DIV/0!"},{"$error":"#DIV/0!"},{"$error":"#DIV/0!"},{"$error":"#DIV/0!"},{"$error":"#DIV/0!"},{"$error":"#DIV/0!"},{"$error":"#DIV/0!"},{"$error":"#DIV/0!"},{"$error":"#DIV/0!"},{"$error":"#DIV/0!"},6.3,39.58406743523139,{"$error":"#DIV/0!"},{"$error":"#DIV/0!"},{"$error":"#DIV/0!"},{"$error":"#DIV/0!"},{"$error":"#DIV/0!"},{"$error":"#DIV/0!"},{"$error":"#DIV/0!"},{"$error":"#DIV/0!"},{"$error":"#DIV/0!"},{"$error":"#DIV/0!"},6.3,39.58406743523139,{"$error":"#DIV/0!"},{"$error":"#DIV/0!"},{"$error":"#DIV/0!"},{"$error":"#DIV/0!"},{"$error":"#DIV/0!"},{"$error":"#DIV/0!"},{"$error":"#DIV/0!"},{"$error":"#DIV/0!"},{"$error":"#DIV/0!"},{"$error":"#DIV/0!"},6.3,39.58406743523139,{"$error":"#DIV/0!"},{"$error":"#DIV/0!"},{"$error":"#DIV/0!"},{"$error":"#DIV/0!"},{"$error":"#DIV/0!"},{"$error":"#DIV/0!"},{"$error":"#DIV/0!"},{"$error":"#DIV/0!"},{"$error":"#DIV/0!"},{"$error":"#DIV/0!"},6.3,39.58406743523139,{"$error":"#DIV/0!"},{"$error":"#DIV/0!"},{"$error":"#DIV/0!"},{"$error":"#DIV/0!"},{"$error":"#DIV/0!"},{"$error":"#DIV/0!"},{"$error":"#DIV/0!"},{"$error":"#DIV/0!"},{"$error":"#DIV/0!"},{"$error":"#DIV/0!"},null,{"$error":"#N/A"},{"$error":"#N/A"},{"$error":"#N/A"},{"$error":"#N/A"},{"$error":"#N/A"},{"$error":"#N/A"},null,{"$error":"#DIV/0!"},{"$error":"#DIV/0!"},{"$error":"#DIV/0!"},{"$error":"#DIV/0!"},{"$error":"#DIV/0!"},{"$error":"#DIV/0!"},false,0,null,null,null,null,6.3,39.58406743523139,{"$error":"#N/A"},{"$error":"#N/A"},{"$error":"#N/A"},{"$error":"#N/A"},{"$error":"#DIV/0!"},{"$error":"#DIV/0!"},{"$error":"#DIV/0!"},{"$error":"#N/A"},{"$error":"#N/A"},{"$error":"#N/A"},6.3,39.58406743523139,{"$error":"#N/A"},{"$error":"#N/A"},{"$error":"#N/A"},{"$error":"#N/A"},{"$error":"#DIV/0!"},{"$error":"#DIV/0!"},{"$error":"#DIV/0!"},{"$error":"#N/A"},{"$error":"#N/A"},{"$error":"#N/A"},6.3,39.58406743523139,{"$error":"#N/A"},{"$error":"#N/A"},{"$error":"#N/A"},{"$error":"#N/A"},{"$error":"#DIV/0!"},{"$error":"#DIV/0!"},{"$error":"#DIV/0!"},{"$error":"#N/A"},{"$error":"#N/A"},{"$error":"#N/A"},6.3,39.58406743523139,{"$error":"#N/A"},{"$error":"#N/A"},{"$error":"#N/A"},{"$error":"#N/A"},{"$error":"#DIV/0!"},{"$error":"#DIV/0!"},{"$error":"#DIV/0!"},{"$error":"#N/A"},{"$error":"#N/A"},{"$error":"#N/A"},6.3,39.58406743523139,{"$error":"#N/A"},{"$error":"#N/A"},{"$error":"#N/A"},{"$error":"#N/A"},{"$error":"#DIV/0!"},{"$error":"#DIV/0!"},{"$error":"#DIV/0!"},{"$error":"#N/A"},{"$error":"#N/A"},{"$error":"#N/A"},6.3,39.58406743523139,{"$error":"#N/A"},{"$error":"#N/A"},{"$error":"#N/A"},{"$error":"#N/A"},{"$error":"#DIV/0!"},{"$error":"#DIV/0!"},{"$error":"#DIV/0!"},{"$error":"#N/A"},{"$error":"#N/A"},{"$error":"#N/A"},null,null,6.3,39.58406743523139,{"$error":"#DIV/0!"},{"$error":"#DIV/0!"},{"$error":"#DIV/0!"},{"$error":"#DIV/0!"},{"$error":"#DIV/0!"},{"$error":"#DIV/0!"},{"$error":"#DIV/0!"},{"$error":"#DIV/0!"},{"$error":"#DIV/0!"},{"$error":"#DIV/0!"},6.3,39.58406743523139,{"$error":"#DIV/0!"},{"$error":"#DIV/0!"},{"$error":"#DIV/0!"},{"$error":"#DIV/0!"},{"$error":"#DIV/0!"},{"$error":"#DIV/0!"},{"$error":"#DIV/0!"},{"$error":"#DIV/0!"},{"$error":"#DIV/0!"},{"$error":"#DIV/0!"},6.3,39.58406743523139,{"$error":"#DIV/0!"},{"$error":"#DIV/0!"},{"$error":"#DIV/0!"},{"$error":"#DIV/0!"},{"$error":"#DIV/0!"},{"$error":"#DIV/0!"},{"$error":"#DIV/0!"},{"$error":"#DIV/0!"},{"$error":"#DIV/0!"},{"$error":"#DIV/0!"},6.3,39.58406743523139,{"$error":"#DIV/0!"},{"$error":"#DIV/0!"},{"$error":"#DIV/0!"},{"$error":"#DIV/0!"},{"$error":"#DIV/0!"},{"$error":"#DIV/0!"},{"$error":"#DIV/0!"},{"$error":"#DIV/0!"},{"$error":"#DIV/0!"},{"$error":"#DIV/0!"},6.3,39.58406743523139,{"$error":"#DIV/0!"},{"$error":"#DIV/0!"},{"$error":"#DIV/0!"},{"$error":"#DIV/0!"},{"$error":"#DIV/0!"},{"$error":"#DIV/0!"},{"$error":"#DIV/0!"},{"$error":"#DIV/0!"},{"$error":"#DIV/0!"},{"$error":"#DIV/0!"},6.3,39.58406743523139,{"$error":"#DIV/0!"},{"$error":"#DIV/0!"},{"$error":"#DIV/0!"},{"$error":"#DIV/0!"},{"$error":"#DIV/0!"},{"$error":"#DIV/0!"},{"$error":"#DIV/0!"},{"$error":"#DIV/0!"},{"$error":"#DIV/0!"},{"$error":"#DIV/0!"},null,{"$error":"#N/A"},{"$error":"#N/A"},{"$error":"#N/A"},{"$error":"#N/A"},{"$error":"#N/A"},{"$error":"#N/A"},null,{"$error":"#DIV/0!"},{"$error":"#DIV/0!"},{"$error":"#DIV/0!"},{"$error":"#DIV/0!"},{"$error":"#DIV/0!"},{"$error":"#DIV/0!"},false,0,{"$error":"#DIV/0!"},{"$error":"#DIV/0!"},{"$error":"#DIV/0!"},{"$error":"#DIV/0!"},{"$error":"#DIV/0!"},{"$error":"#DIV/0!"},{"$error":"#DIV/0!"},{"$error":"#DIV/0!"},{"$error":"#DIV/0!"},{"$error":"#DIV/0!"},{"$error":"#DIV/0!"},{"$error":"#DIV/0!"},0,0,0,0,0,0,0,0,0,0,0,0,{"$error":"#DIV/0!"},{"$error":"#DIV/0!"},{"$error":"#DIV/0!"},{"$error":"#DIV/0!"},{"$error":"#DIV/0!"},{"$error":"#DIV/0!"},{"$error":"#DIV/0!"},{"$error":"#DIV/0!"},{"$error":"#DIV/0!"},{"$error":"#DIV/0!"},{"$error":"#DIV/0!"},{"$error":"#DIV/0!"}]
[null,"Ref: Enginnering Noise Control by David A Bies 4th Edition. Page: 674",null,null,null,null,null,null,null,null,null,null,"Carpet, 5mm thick on hard floor",null,0.02,0.03,0.05,0.1,0.3,0.5,null,null,null,8,50.26548245743669,{"$error":"#N/A"},{"$error":"#N/A"},{"$error":"#N/A"},{"$error":"#N/A"},{"$error":"#DIV/0!"},{"$error":"#DIV/0!"},{"$error":"#DIV/0!"},{"$error":"#N/A"},{"$error":"#N/A"},{"$error":"#N/A"},8,50.26548245743669,{"$error":"#N/A"},{"$error":"#N/A"},{"$error":"#N/A"},{"$error":"#N/A"},{"$error":"#DIV/0!"},{"$error":"#DIV/0!"},{"$error":"#DIV/0!"},{"$error":"#N/A"},{"$error":"#N/A"},{"$error":"#N/A"},8,50.26548245743669,{"$error":"#N/A"},{"$error":"#N/A"},{"$error":"#N/A"},{"$error":"#N/A"},{"$error":"#DIV/0!"},{"$error":"#DIV/0!"},{"$error":"#DIV/0!"},{"$error":"#N/A"},{"$error":"#N/A"},{"$error":"#N/A"},8,50.26548245743669,{"$error":"#N/A"},{"$error":"#N/A"},{"$error":"#N/A"},{"$error":"#N/A"},{"$error":"#DIV/0!"},{"$error":"#DIV/0!"},{"$error":"#DIV/0!"},{"$error":"#N/A"},{"$error":"#N/A"},{"$error":"#N/A"},8,50.26548245743669,{"$error":"#N/A"},{"$error":"#N/A"},{"$error":"#N/A"},{"$error":"#N/A"},{"$error":"#DIV/0!"},{"$error":"#DIV/0!"},{"$error":"#DIV/0!"},{"$error":"#N/A"},{"$error":"#N/A"},{"$error":"#N/A"},8,50.26548245743669,{"$error":"#N/A"},{"$error":"#N/A"},{"$error":"#N/A"},{"$error":"#N/A"},{"$error":"#DIV/0!"},{"$error":"#DIV/0!"},{"$error":"#DIV/0!"},{"$error":"#N/A"},{"$error":"#N/A"},{"$error":"#N/A"},null,null,8,50.26548245743669,{"$error":"#DIV/0!"},{"$error":"#DIV/0!"},{"$error":"#DIV/0!"},{"$error":"#DIV/0!"},{"$error":"#DIV/0!"},{"$error":"#DIV/0!"},{"$error":"#DIV/0!"},{"$error":"#DIV/0!"},{"$error":"#DIV/0!"},{"$error":"#DIV/0!"},8,50.26548245743669,{"$error":"#DIV/0!"},{"$error":"#DIV/0!"},{"$error":"#DIV/0!"},{"$error":"#DIV/0!"},{"$error":"#DIV/0!"},{"$error":"#DIV/0!"},{"$error":"#DIV/0!"},{"$error":"#DIV/0!"},{"$error":"#DIV/0!"},{"$error":"#DIV/0!"},8,50.26548245743669,{"$error":"#DIV/0!"},{"$error":"#DIV/0!"},{"$error":"#DIV/0!"},{"$error":"#DIV/0!"},{"$error":"#DIV/0!"},{"$error":"#DIV/0!"},{"$error":"#DIV/0!"},{"$error":"#DIV/0!"},{"$error":"#DIV/0!"},{"$error":"#DIV/0!"},8,50.26548245743669,{"$error":"#DIV/0!"},{"$error":"#DIV/0!"},{"$error":"#DIV/0!"},{"$error":"#DIV/0!"},{"$error":"#DIV/0!"},{"$error":"#DIV/0!"},{"$error":"#DIV/0!"},{"$error":"#DIV/0!"},{"$error":"#DIV/0!"},{"$error":"#DIV/0!"},8,50.26548245743669,{"$error":"#DIV/0!"},{"$error":"#DIV/0!"},{"$error":"#DIV/0!"},{"$error":"#DIV/0!"},{"$error":"#DIV/0!"},{"$error":"#DIV/0!"},{"$error":"#DIV/0!"},{"$error":"#DIV/0!"},{"$error":"#DIV/0!"},{"$error":"#DIV/0!"},8,50.26548245743669,{"$error":"#DIV/0!"},{"$error":"#DIV/0!"},{"$error":"#DIV/0!"},{"$error":"#DIV/0!"},{"$error":"#DIV/0!"},{"$error":"#DIV/0!"},{"$error":"#DIV/0!"},{"$error":"#DIV/0!"},{"$error":"#DIV/0!"},{"$error":"#DIV/0!"},null,{"$error":"#N/A"},{"$error":"#N/A"},{"$error":"#N/A"},{"$error":"#N/A"},{"$error":"#N/A"},{"$error":"#N/A"},null,{"$error":"#DIV/0!"},{"$error":"#DIV/0!"},{"$error":"#DIV/0!"},{"$error":"#DIV/0!"},{"$error":"#DIV/0!"},{"$error":"#DIV/0!"},false,0,null,null,null,null,8,50.26548245743669,{"$error":"#N/A"},{"$error":"#N/A"},{"$error":"#N/A"},{"$error":"#N/A"},{"$error":"#DIV/0!"},{"$error":"#DIV/0!"},{"$error":"#DIV/0!"},{"$error":"#N/A"},{"$error":"#N/A"},{"$error":"#N/A"},8,50.26548245743669,{"$error":"#N/A"},{"$error":"#N/A"},{"$error":"#N/A"},{"$error":"#N/A"},{"$error":"#DIV/0!"},{"$error":"#DIV/0!"},{"$error":"#DIV/0!"},{"$error":"#N/A"},{"$error":"#N/A"},{"$error":"#N/A"},8,50.26548245743669,{"$error":"#N/A"},{"$error":"#N/A"},{"$error":"#N/A"},{"$error":"#N/A"},{"$error":"#DIV/0!"},{"$error":"#DIV/0!"},{"$error":"#DIV/0!"},{"$error":"#N/A"},{"$error":"#N/A"},{"$error":"#N/A"},8,50.26548245743669,{"$error":"#N/A"},{"$error":"#N/A"},{"$error":"#N/A"},{"$error":"#N/A"},{"$error":"#DIV/0!"},{"$error":"#DIV/0!"},{"$error":"#DIV/0!"},{"$error":"#N/A"},{"$error":"#N/A"},{"$error":"#N/A"},8,50.26548245743669,{"$error":"#N/A"},{"$error":"#N/A"},{"$error":"#N/A"},{"$error":"#N/A"},{"$error":"#DIV/0!"},{"$error":"#DIV/0!"},{"$error":"#DIV/0!"},{"$error":"#N/A"},{"$error":"#N/A"},{"$error":"#N/A"},8,50.26548245743669,{"$error":"#N/A"},{"$error":"#N/A"},{"$error":"#N/A"},{"$error":"#N/A"},{"$error":"#DIV/0!"},{"$error":"#DIV/0!"},{"$error":"#DIV/0!"},{"$error":"#N/A"},{"$error":"#N/A"},{"$error":"#N/A"},null,null,8,50.26548245743669,{"$error":"#DIV/0!"},{"$error":"#DIV/0!"},{"$error":"#DIV/0!"},{"$error":"#DIV/0!"},{"$error":"#DIV/0!"},{"$error":"#DIV/0!"},{"$error":"#DIV/0!"},{"$error":"#DIV/0!"},{"$error":"#DIV/0!"},{"$error":"#DIV/0!"},8,50.26548245743669,{"$error":"#DIV/0!"},{"$error":"#DIV/0!"},{"$error":"#DIV/0!"},{"$error":"#DIV/0!"},{"$error":"#DIV/0!"},{"$error":"#DIV/0!"},{"$error":"#DIV/0!"},{"$error":"#DIV/0!"},{"$error":"#DIV/0!"},{"$error":"#DIV/0!"},8,50.26548245743669,{"$error":"#DIV/0!"},{"$error":"#DIV/0!"},{"$error":"#DIV/0!"},{"$error":"#DIV/0!"},{"$error":"#DIV/0!"},{"$error":"#DIV/0!"},{"$error":"#DIV/0!"},{"$error":"#DIV/0!"},{"$error":"#DIV/0!"},{"$error":"#DIV/0!"},8,50.26548245743669,{"$error":"#DIV/0!"},{"$error":"#DIV/0!"},{"$error":"#DIV/0!"},{"$error":"#DIV/0!"},{"$error":"#DIV/0!"},{"$error":"#DIV/0!"},{"$error":"#DIV/0!"},{"$error":"#DIV/0!"},{"$error":"#DIV/0!"},{"$error":"#DIV/0!"},8,50.26548245743669,{"$error":"#DIV/0!"},{"$error":"#DIV/0!"},{"$error":"#DIV/0!"},{"$error":"#DIV/0!"},{"$error":"#DIV/0!"},{"$error":"#DIV/0!"},{"$error":"#DIV/0!"},{"$error":"#DIV/0!"},{"$error":"#DIV/0!"},{"$error":"#DIV/0!"},8,50.26548245743669,{"$error":"#DIV/0!"},{"$error":"#DIV/0!"},{"$error":"#DIV/0!"},{"$error":"#DIV/0!"},{"$error":"#DIV/0!"},{"$error":"#DIV/0!"},{"$error":"#DIV/0!"},{"$error":"#DIV/0!"},{"$error":"#DIV/0!"},{"$error":"#DIV/0!"},null,{"$error":"#N/A"},{"$error":"#N/A"},{"$error":"#N/A"},{"$error":"#N/A"},{"$error":"#N/A"},{"$error":"#N/A"},null,{"$error":"#DIV/0!"},{"$error":"#DIV/0!"},{"$error":"#DIV/0!"},{"$error":"#DIV/0!"},{"$error":"#DIV/0!"},{"$error":"#DIV/0!"},false,0,{"$error":"#DIV/0!"},{"$error":"#DIV/0!"},{"$error":"#DIV/0!"},{"$error":"#DIV/0!"},{"$error":"#DIV/0!"},{"$error":"#DIV/0!"},{"$error":"#DIV/0!"},{"$error":"#DIV/0!"},{"$error":"#DIV/0!"},{"$error":"#DIV/0!"},{"$error":"#DIV/0!"},{"$error":"#DIV/0!"},0,0,0,0,0,0,0,0,0,0,0,0,{"$error":"#DIV/0!"},{"$error":"#DIV/0!"},{"$error":"#DIV/0!"},{"$error":"#DIV/0!"},{"$error":"#DIV/0!"},{"$error":"#DIV/0!"},{"$error":"#DIV/0!"},{"$error":"#DIV/0!"},{"$error":"#DIV/0!"},{"$error":"#DIV/0!"},{"$error":"#DIV/0!"},{"$error":"#DIV/0!"}]
[null,null,null,null,null,null,null,null,null,null,null,null,"Acoustic Plaster Wall 10mm thick sprayed on  solid wall",null,0.08,0.15,0.3,0.5,0.6,0.7,null,null,null,10,62.831853071795862,{"$error":"#N/A"},{"$error":"#N/A"},{"$error":"#N/A"},{"$error":"#N/A"},{"$error":"#DIV/0!"},{"$error":"#DIV/0!"},{"$error":"#DIV/0!"},{"$error":"#N/A"},{"$error":"#N/A"},{"$error":"#N/A"},10,62.831853071795862,{"$error":"#N/A"},{"$error":"#N/A"},{"$error":"#N/A"},{"$error":"#N/A"},{"$error":"#DIV/0!"},{"$error":"#DIV/0!"},{"$error":"#DIV/0!"},{"$error":"#N/A"},{"$error":"#N/A"},{"$error":"#N/A"},10,62.831853071795862,{"$error":"#N/A"},{"$error":"#N/A"},{"$error":"#N/A"},{"$error":"#N/A"},{"$error":"#DIV/0!"},{"$error":"#DIV/0!"},{"$error":"#DIV/0!"},{"$error":"#N/A"},{"$error":"#N/A"},{"$error":"#N/A"},10,62.831853071795862,{"$error":"#N/A"},{"$error":"#N/A"},{"$error":"#N/A"},{"$error":"#N/A"},{"$error":"#DIV/0!"},{"$error":"#DIV/0!"},{"$error":"#DIV/0!"},{"$error":"#N/A"},{"$error":"#N/A"},{"$error":"#N/A"},10,62.831853071795862,{"$error":"#N/A"},{"$error":"#N/A"},{"$error":"#N/A"},{"$error":"#N/A"},{"$error":"#DIV/0!"},{"$error":"#DIV/0!"},{"$error":"#DIV/0!"},{"$error":"#N/A"},{"$error":"#N/A"},{"$error":"#N/A"},10,62.831853071795862,{"$error":"#N/A"},{"$error":"#N/A"},{"$error":"#N/A"},{"$error":"#N/A"},{"$error":"#DIV/0!"},{"$error":"#DIV/0!"},{"$error":"#DIV/0!"},{"$error":"#N/A"},{"$error":"#N/A"},{"$error":"#N/A"},null,null,10,62.831853071795862,{"$error":"#DIV/0!"},{"$error":"#DIV/0!"},{"$error":"#DIV/0!"},{"$error":"#DIV/0!"},{"$error":"#DIV/0!"},{"$error":"#DIV/0!"},{"$error":"#DIV/0!"},{"$error":"#DIV/0!"},{"$error":"#DIV/0!"},{"$error":"#DIV/0!"},10,62.831853071795862,{"$error":"#DIV/0!"},{"$error":"#DIV/0!"},{"$error":"#DIV/0!"},{"$error":"#DIV/0!"},{"$error":"#DIV/0!"},{"$error":"#DIV/0!"},{"$error":"#DIV/0!"},{"$error":"#DIV/0!"},{"$error":"#DIV/0!"},{"$error":"#DIV/0!"},10,62.831853071795862,{"$error":"#DIV/0!"},{"$error":"#DIV/0!"},{"$error":"#DIV/0!"},{"$error":"#DIV/0!"},{"$error":"#DIV/0!"},{"$error":"#DIV/0!"},{"$error":"#DIV/0!"},{"$error":"#DIV/0!"},{"$error":"#DIV/0!"},{"$error":"#DIV/0!"},10,62.831853071795862,{"$error":"#DIV/0!"},{"$error":"#DIV/0!"},{"$error":"#DIV/0!"},{"$error":"#DIV/0!"},{"$error":"#DIV/0!"},{"$error":"#DIV/0!"},{"$error":"#DIV/0!"},{"$error":"#DIV/0!"},{"$error":"#DIV/0!"},{"$error":"#DIV/0!"},10,62.831853071795862,{"$error":"#DIV/0!"},{"$error":"#DIV/0!"},{"$error":"#DIV/0!"},{"$error":"#DIV/0!"},{"$error":"#DIV/0!"},{"$error":"#DIV/0!"},{"$error":"#DIV/0!"},{"$error":"#DIV/0!"},{"$error":"#DIV/0!"},{"$error":"#DIV/0!"},10,62.831853071795862,{"$error":"#DIV/0!"},{"$error":"#DIV/0!"},{"$error":"#DIV/0!"},{"$error":"#DIV/0!"},{"$error":"#DIV/0!"},{"$error":"#DIV/0!"},{"$error":"#DIV/0!"},{"$error":"#DIV/0!"},{"$error":"#DIV/0!"},{"$error":"#DIV/0!"},null,{"$error":"#N/A"},{"$error":"#N/A"},{"$error":"#N/A"},{"$error":"#N/A"},{"$error":"#N/A"},{"$error":"#N/A"},null,{"$error":"#DIV/0!"},{"$error":"#DIV/0!"},{"$error":"#DIV/0!"},{"$error":"#DIV/0!"},{"$error":"#DIV/0!"},{"$error":"#DIV/0!"},false,0,null,null,null,null,10,62.831853071795862,{"$error":"#N/A"},{"$error":"#N/A"},{"$error":"#N/A"},{"$error":"#N/A"},{"$error":"#DIV/0!"},{"$error":"#DIV/0!"},{"$error":"#DIV/0!"},{"$error":"#N/A"},{"$error":"#N/A"},{"$error":"#N/A"},10,62.831853071795862,{"$error":"#N/A"},{"$error":"#N/A"},{"$error":"#N/A"},{"$error":"#N/A"},{"$error":"#DIV/0!"},{"$error":"#DIV/0!"},{"$error":"#DIV/0!"},{"$error":"#N/A"},{"$error":"#N/A"},{"$error":"#N/A"},10,62.831853071795862,{"$error":"#N/A"},{"$error":"#N/A"},{"$error":"#N/A"},{"$error":"#N/A"},{"$error":"#DIV/0!"},{"$error":"#DIV/0!"},{"$error":"#DIV/0!"},{"$error":"#N/A"},{"$error":"#N/A"},{"$error":"#N/A"},10,62.831853071795862,{"$error":"#N/A"},{"$error":"#N/A"},{"$error":"#N/A"},{"$error":"#N/A"},{"$error":"#DIV/0!"},{"$error":"#DIV/0!"},{"$error":"#DIV/0!"},{"$error":"#N/A"},{"$error":"#N/A"},{"$error":"#N/A"},10,62.831853071795862,{"$error":"#N/A"},{"$error":"#N/A"},{"$error":"#N/A"},{"$error":"#N/A"},{"$error":"#DIV/0!"},{"$error":"#DIV/0!"},{"$error":"#DIV/0!"},{"$error":"#N/A"},{"$error":"#N/A"},{"$error":"#N/A"},10,62.831853071795862,{"$error":"#N/A"},{"$error":"#N/A"},{"$error":"#N/A"},{"$error":"#N/A"},{"$error":"#DIV/0!"},{"$error":"#DIV/0!"},{"$error":"#DIV/0!"},{"$error":"#N/A"},{"$error":"#N/A"},{"$error":"#N/A"},null,null,10,62.831853071795862,{"$error":"#DIV/0!"},{"$error":"#DIV/0!"},{"$error":"#DIV/0!"},{"$error":"#DIV/0!"},{"$error":"#DIV/0!"},{"$error":"#DIV/0!"},{"$error":"#DIV/0!"},{"$error":"#DIV/0!"},{"$error":"#DIV/0!"},{"$error":"#DIV/0!"},10,62.831853071795862,{"$error":"#DIV/0!"},{"$error":"#DIV/0!"},{"$error":"#DIV/0!"},{"$error":"#DIV/0!"},{"$error":"#DIV/0!"},{"$error":"#DIV/0!"},{"$error":"#DIV/0!"},{"$error":"#DIV/0!"},{"$error":"#DIV/0!"},{"$error":"#DIV/0!"},10,62.831853071795862,{"$error":"#DIV/0!"},{"$error":"#DIV/0!"},{"$error":"#DIV/0!"},{"$error":"#DIV/0!"},{"$error":"#DIV/0!"},{"$error":"#DIV/0!"},{"$error":"#DIV/0!"},{"$error":"#DIV/0!"},{"$error":"#DIV/0!"},{"$error":"#DIV/0!"},10,62.831853071795862,{"$error":"#DIV/0!"},{"$error":"#DIV/0!"},{"$error":"#DIV/0!"},{"$error":"#DIV/0!"},{"$error":"#DIV/0!"},{"$error":"#DIV/0!"},{"$error":"#DIV/0!"},{"$error":"#DIV/0!"},{"$error":"#DIV/0!"},{"$error":"#DIV/0!"},10,62.831853071795862,{"$error":"#DIV/0!"},{"$error":"#DIV/0!"},{"$error":"#DIV/0!"},{"$error":"#DIV/0!"},{"$error":"#DIV/0!"},{"$error":"#DIV/0!"},{"$error":"#DIV/0!"},{"$error":"#DIV/0!"},{"$error":"#DIV/0!"},{"$error":"#DIV/0!"},10,62.831853071795862,{"$error":"#DIV/0!"},{"$error":"#DIV/0!"},{"$error":"#DIV/0!"},{"$error":"#DIV/0!"},{"$error":"#DIV/0!"},{"$error":"#DIV/0!"},{"$error":"#DIV/0!"},{"$error":"#DIV/0!"},{"$error":"#DIV/0!"},{"$error":"#DIV/0!"},null,{"$error":"#N/A"},{"$error":"#N/A"},{"$error":"#N/A"},{"$error":"#N/A"},{"$error":"#N/A"},{"$error":"#N/A"},null,{"$error":"#DIV/0!"},{"$error":"#DIV/0!"},{"$error":"#DIV/0!"},{"$error":"#DIV/0!"},{"$error":"#DIV/0!"},{"$error":"#DIV/0!"},false,0,{"$error":"#DIV/0!"},{"$error":"#DIV/0!"},{"$error":"#DIV/0!"},{"$error":"#DIV/0!"},{"$error":"#DIV/0!"},{"$error":"#DIV/0!"},{"$error":"#DIV/0!"},{"$error":"#DIV/0!"},{"$error":"#DIV/0!"},{"$error":"#DIV/0!"},{"$error":"#DIV/0!"},{"$error":"#DIV/0!"},0,0,0,0,0,0,0,0,0,0,0,0,{"$error":"#DIV/0!"},{"$error":"#DIV/0!"},{"$error":"#DIV/0!"},{"$error":"#DIV/0!"},{"$error":"#DIV/0!"},{"$error":"#DIV/0!"},{"$error":"#DIV/0!"},{"$error":"#DIV/0!"},{"$error":"#DIV/0!"},{"$error":"#DIV/0!"},{"$error":"#DIV/0!"},{"$error":"#DIV/0!"}]
[null,null,null,null,null,null,null,null,null,null,null,null,null,null,null,null,null,null,null,null,null,null,null,12.5,78.539816339744831,{"$error":"#N/A"},{"$error":"#N/A"},{"$error":"#N/A"},{"$error":"#N/A"},{"$error":"#DIV/0!"},{"$error":"#DIV/0!"},{"$error":"#DIV/0!"},{"$error":"#N/A"},{"$error":"#N/A"},{"$error":"#N/A"},12.5,78.539816339744831,{"$error":"#N/A"},{"$error":"#N/A"},{"$error":"#N/A"},{"$error":"#N/A"},{"$error":"#DIV/0!"},{"$error":"#DIV/0!"},{"$error":"#DIV/0!"},{"$error":"#N/A"},{"$error":"#N/A"},{"$error":"#N/A"},12.5,78.539816339744831,{"$error":"#N/A"},{"$error":"#N/A"},{"$error":"#N/A"},{"$error":"#N/A"},{"$error":"#DIV/0!"},{"$error":"#DIV/0!"},{"$error":"#DIV/0!"},{"$error":"#N/A"},{"$error":"#N/A"},{"$error":"#N/A"},12.5,78.539816339744831,{"$error":"#N/A"},{"$error":"#N/A"},{"$error":"#N/A"},{"$error":"#N/A"},{"$error":"#DIV/0!"},{"$error":"#DIV/0!"},{"$error":"#DIV/0!"},{"$error":"#N/A"},{"$error":"#N/A"},{"$error":"#N/A"},12.5,78.539816339744831,{"$error":"#N/A"},{"$error":"#N/A"},{"$error":"#N/A"},{"$error":"#N/A"},{"$error":"#DIV/0!"},{"$error":"#DIV/0!"},{"$error":"#DIV/0!"},{"$error":"#N/A"},{"$error":"#N/A"},{"$error":"#N/A"},12.5,78.539816339744831,{"$error":"#N/A"},{"$error":"#N/A"},{"$error":"#N/A"},{"$error":"#N/A"},{"$error":"#DIV/0!"},{"$error":"#DIV/0!"},{"$error":"#DIV/0!"},{"$error":"#N/A"},{"$error":"#N/A"},{"$error":"#N/A"},null,null,12.5,78.539816339744831,{"$error":"#DIV/0!"},{"$error":"#DIV/0!"},{"$error":"#DIV/0!"},{"$error":"#DIV/0!"},{"$error":"#DIV/0!"},{"$error":"#DIV/0!"},{"$error":"#DIV/0!"},{"$error":"#DIV/0!"},{"$error":"#DIV/0!"},{"$error":"#DIV/0!"},12.5,78.539816339744831,{"$error":"#DIV/0!"},{"$error":"#DIV/0!"},{"$error":"#DIV/0!"},{"$error":"#DIV/0!"},{"$error":"#DIV/0!"},{"$error":"#DIV/0!"},{"$error":"#DIV/0!"},{"$error":"#DIV/0!"},{"$error":"#DIV/0!"},{"$error":"#DIV/0!"},12.5,78.539816339744831,{"$error":"#DIV/0!"},{"$error":"#DIV/0!"},{"$error":"#DIV/0!"},{"$error":"#DIV/0!"},{"$error":"#DIV/0!"},{"$error":"#DIV/0!"},{"$error":"#DIV/0!"},{"$error":"#DIV/0!"},{"$error":"#DIV/0!"},{"$error":"#DIV/0!"},12.5,78.539816339744831,{"$error":"#DIV/0!"},{"$error":"#DIV/0!"},{"$error":"#DIV/0!"},{"$error":"#DIV/0!"},{"$error":"#DIV/0!"},{"$error":"#DIV/0!"},{"$error":"#DIV/0!"},{"$error":"#DIV/0!"},{"$error":"#DIV/0!"},{"$error":"#DIV/0!"},12.5,78.539816339744831,{"$error":"#DIV/0!"},{"$error":"#DIV/0!"},{"$error":"#DIV/0!"},{"$error":"#DIV/0!"},{"$error":"#DIV/0!"},{"$error":"#DIV/0!"},{"$error":"#DIV/0!"},{"$error":"#DIV/0!"},{"$error":"#DIV/0!"},{"$error":"#DIV/0!"},12.5,78.539816339744831,{"$error":"#DIV/0!"},{"$error":"#DIV/0!"},{"$error":"#DIV/0!"},{"$error":"#DIV/0!"},{"$error":"#DIV/0!"},{"$error":"#DIV/0!"},{"$error":"#DIV/0!"},{"$error":"#DIV/0!"},{"$error":"#DIV/0!"},{"$error":"#DIV/0!"},null,{"$error":"#N/A"},{"$error":"#N/A"},{"$error":"#N/A"},{"$error":"#N/A"},{"$error":"#N/A"},{"$error":"#N/A"},null,{"$error":"#DIV/0!"},{"$error":"#DIV/0!"},{"$error":"#DIV/0!"},{"$error":"#DIV/0!"},{"$error":"#DIV/0!"},{"$error":"#DIV/0!"},false,0,null,null,null,null,12.5,78.539816339744831,{"$error":"#N/A"},{"$error":"#N/A"},{"$error":"#N/A"},{"$error":"#N/A"},{"$error":"#DIV/0!"},{"$error":"#DIV/0!"},{"$error":"#DIV/0!"},{"$error":"#N/A"},{"$error":"#N/A"},{"$error":"#N/A"},12.5,78.539816339744831,{"$error":"#N/A"},{"$error":"#N/A"},{"$error":"#N/A"},{"$error":"#N/A"},{"$error":"#DIV/0!"},{"$error":"#DIV/0!"},{"$error":"#DIV/0!"},{"$error":"#N/A"},{"$error":"#N/A"},{"$error":"#N/A"},12.5,78.539816339744831,{"$error":"#N/A"},{"$error":"#N/A"},{"$error":"#N/A"},{"$error":"#N/A"},{"$error":"#DIV/0!"},{"$error":"#DIV/0!"},{"$error":"#DIV/0!"},{"$error":"#N/A"},{"$error":"#N/A"},{"$error":"#N/A"},12.5,78.539816339744831,{"$error":"#N/A"},{"$error":"#N/A"},{"$error":"#N/A"},{"$error":"#N/A"},{"$error":"#DIV/0!"},{"$error":"#DIV/0!"},{"$error":"#DIV/0!"},{"$error":"#N/A"},{"$error":"#N/A"},{"$error":"#N/A"},12.5,78.539816339744831,{"$error":"#N/A"},{"$error":"#N/A"},{"$error":"#N/A"},{"$error":"#N/A"},{"$error":"#DIV/0!"},{"$error":"#DIV/0!"},{"$error":"#DIV/0!"},{"$error":"#N/A"},{"$error":"#N/A"},{"$error":"#N/A"},12.5,78.539816339744831,{"$error":"#N/A"},{"$error":"#N/A"},{"$error":"#N/A"},{"$error":"#N/A"},{"$error":"#DIV/0!"},{"$error":"#DIV/0!"},{"$error":"#DIV/0!"},{"$error":"#N/A"},{"$error":"#N/A"},{"$error":"#N/A"},null,null,12.5,78.539816339744831,{"$error":"#DIV/0!"},{"$error":"#DIV/0!"},{"$error":"#DIV/0!"},{"$error":"#DIV/0!"},{"$error":"#DIV/0!"},{"$error":"#DIV/0!"},{"$error":"#DIV/0!"},{"$error":"#DIV/0!"},{"$error":"#DIV/0!"},{"$error":"#DIV/0!"},12.5,78.539816339744831,{"$error":"#DIV/0!"},{"$error":"#DIV/0!"},{"$error":"#DIV/0!"},{"$error":"#DIV/0!"},{"$error":"#DIV/0!"},{"$error":"#DIV/0!"},{"$error":"#DIV/0!"},{"$error":"#DIV/0!"},{"$error":"#DIV/0!"},{"$error":"#DIV/0!"},12.5,78.539816339744831,{"$error":"#DIV/0!"},{"$error":"#DIV/0!"},{"$error":"#DIV/0!"},{"$error":"#DIV/0!"},{"$error":"#DIV/0!"},{"$error":"#DIV/0!"},{"$error":"#DIV/0!"},{"$error":"#DIV/0!"},{"$error":"#DIV/0!"},{"$error":"#DIV/0!"},12.5,78.539816339744831,{"$error":"#DIV/0!"},{"$error":"#DIV/0!"},{"$error":"#DIV/0!"},{"$error":"#DIV/0!"},{"$error":"#DIV/0!"},{"$error":"#DIV/0!"},{"$error":"#DIV/0!"},{"$error":"#DIV/0!"},{"$error":"#DIV/0!"},{"$error":"#DIV/0!"},12.5,78.539816339744831,{"$error":"#DIV/0!"},{"$error":"#DIV/0!"},{"$error":"#DIV/0!"},{"$error":"#DIV/0!"},{"$error":"#DIV/0!"},{"$error":"#DIV/0!"},{"$error":"#DIV/0!"},{"$error":"#DIV/0!"},{"$error":"#DIV/0!"},{"$error":"#DIV/0!"},12.5,78.539816339744831,{"$error":"#DIV/0!"},{"$error":"#DIV/0!"},{"$error":"#DIV/0!"},{"$error":"#DIV/0!"},{"$error":"#DIV/0!"},{"$error":"#DIV/0!"},{"$error":"#DIV/0!"},{"$error":"#DIV/0!"},{"$error":"#DIV/0!"},{"$error":"#DIV/0!"},null,{"$error":"#N/A"},{"$error":"#N/A"},{"$error":"#N/A"},{"$error":"#N/A"},{"$error":"#N/A"},{"$error":"#N/A"},null,{"$error":"#DIV/0!"},{"$error":"#DIV/0!"},{"$error":"#DIV/0!"},{"$error":"#DIV/0!"},{"$error":"#DIV/0!"},{"$error":"#DIV/0!"},false,0,{"$error":"#DIV/0!"},{"$error":"#DIV/0!"},{"$error":"#DIV/0!"},{"$error":"#DIV/0!"},{"$error":"#DIV/0!"},{"$error":"#DIV/0!"},{"$error":"#DIV/0!"},{"$error":"#DIV/0!"},{"$error":"#DIV/0!"},{"$error":"#DIV/0!"},{"$error":"#DIV/0!"},{"$error":"#DIV/0!"},0,0,0,0,0,0,0,0,0,0,0,0,{"$error":"#DIV/0!"},{"$error":"#DIV/0!"},{"$error":"#DIV/0!"},{"$error":"#DIV/0!"},{"$error":"#DIV/0!"},{"$error":"#DIV/0!"},{"$error":"#DIV/0!"},{"$error":"#DIV/0!"},{"$error":"#DIV/0!"},{"$error":"#DIV/0!"},{"$error":"#DIV/0!"},{"$error":"#DIV/0!"}]
[null,null,null,null,null,null,null,null,null,null,null,null,null,null,null,null,null,null,null,null,null,null,null,16,100.53096491487338,{"$error":"#N/A"},{"$error":"#N/A"},{"$error":"#N/A"},{"$error":"#N/A"},{"$error":"#DIV/0!"},{"$error":"#DIV/0!"},{"$error":"#DIV/0!"},{"$error":"#N/A"},{"$error":"#N/A"},{"$error":"#N/A"},16,100.53096491487338,{"$error":"#N/A"},{"$error":"#N/A"},{"$error":"#N/A"},{"$error":"#N/A"},{"$error":"#DIV/0!"},{"$error":"#DIV/0!"},{"$error":"#DIV/0!"},{"$error":"#N/A"},{"$error":"#N/A"},{"$error":"#N/A"},16,100.53096491487338,{"$error":"#N/A"},{"$error":"#N/A"},{"$error":"#N/A"},{"$error":"#N/A"},{"$error":"#DIV/0!"},{"$error":"#DIV/0!"},{"$error":"#DIV/0!"},{"$error":"#N/A"},{"$error":"#N/A"},{"$error":"#N/A"},16,100.53096491487338,{"$error":"#N/A"},{"$error":"#N/A"},{"$error":"#N/A"},{"$error":"#N/A"},{"$error":"#DIV/0!"},{"$error":"#DIV/0!"},{"$error":"#DIV/0!"},{"$error":"#N/A"},{"$error":"#N/A"},{"$error":"#N/A"},16,100.53096491487338,{"$error":"#N/A"},{"$error":"#N/A"},{"$error":"#N/A"},{"$error":"#N/A"},{"$error":"#DIV/0!"},{"$error":"#DIV/0!"},{"$error":"#DIV/0!"},{"$error":"#N/A"},{"$error":"#N/A"},{"$error":"#N/A"},16,100.53096491487338,{"$error":"#N/A"},{"$error":"#N/A"},{"$error":"#N/A"},{"$error":"#N/A"},{"$error":"#DIV/0!"},{"$error":"#DIV/0!"},{"$error":"#DIV/0!"},{"$error":"#N/A"},{"$error":"#N/A"},{"$error":"#N/A"},null,null,16,100.53096491487338,{"$error":"#DIV/0!"},{"$error":"#DIV/0!"},{"$error":"#DIV/0!"},{"$error":"#DIV/0!"},{"$error":"#DIV/0!"},{"$error":"#DIV/0!"},{"$error":"#DIV/0!"},{"$error":"#DIV/0!"},{"$error":"#DIV/0!"},{"$error":"#DIV/0!"},16,100.53096491487338,{"$error":"#DIV/0!"},{"$error":"#DIV/0!"},{"$error":"#DIV/0!"},{"$error":"#DIV/0!"},{"$error":"#DIV/0!"},{"$error":"#DIV/0!"},{"$error":"#DIV/0!"},{"$error":"#DIV/0!"},{"$error":"#DIV/0!"},{"$error":"#DIV/0!"},16,100.53096491487338,{"$error":"#DIV/0!"},{"$error":"#DIV/0!"},{"$error":"#DIV/0!"},{"$error":"#DIV/0!"},{"$error":"#DIV/0!"},{"$error":"#DIV/0!"},{"$error":"#DIV/0!"},{"$error":"#DIV/0!"},{"$error":"#DIV/0!"},{"$error":"#DIV/0!"},16,100.53096491487338,{"$error":"#DIV/0!"},{"$error":"#DIV/0!"},{"$error":"#DIV/0!"},{"$error":"#DIV/0!"},{"$error":"#DIV/0!"},{"$error":"#DIV/0!"},{"$error":"#DIV/0!"},{"$error":"#DIV/0!"},{"$error":"#DIV/0!"},{"$error":"#DIV/0!"},16,100.53096491487338,{"$error":"#DIV/0!"},{"$error":"#DIV/0!"},{"$error":"#DIV/0!"},{"$error":"#DIV/0!"},{"$error":"#DIV/0!"},{"$error":"#DIV/0!"},{"$error":"#DIV/0!"},{"$error":"#DIV/0!"},{"$error":"#DIV/0!"},{"$error":"#DIV/0!"},16,100.53096491487338,{"$error":"#DIV/0!"},{"$error":"#DIV/0!"},{"$error":"#DIV/0!"},{"$error":"#DIV/0!"},{"$error":"#DIV/0!"},{"$error":"#DIV/0!"},{"$error":"#DIV/0!"},{"$error":"#DIV/0!"},{"$error":"#DIV/0!"},{"$error":"#DIV/0!"},null,{"$error":"#N/A"},{"$error":"#N/A"},{"$error":"#N/A"},{"$error":"#N/A"},{"$error":"#N/A"},{"$error":"#N/A"},null,{"$error":"#DIV/0!"},{"$error":"#DIV/0!"},{"$error":"#DIV/0!"},{"$error":"#DIV/0!"},{"$error":"#DIV/0!"},{"$error":"#DIV/0!"},false,0,null,null,null,null,16,100.53096491487338,{"$error":"#N/A"},{"$error":"#N/A"},{"$error":"#N/A"},{"$error":"#N/A"},{"$error":"#DIV/0!"},{"$error":"#DIV/0!"},{"$error":"#DIV/0!"},{"$error":"#N/A"},{"$error":"#N/A"},{"$error":"#N/A"},16,100.53096491487338,{"$error":"#N/A"},{"$error":"#N/A"},{"$error":"#N/A"},{"$error":"#N/A"},{"$error":"#DIV/0!"},{"$error":"#DIV/0!"},{"$error":"#DIV/0!"},{"$error":"#N/A"},{"$error":"#N/A"},{"$error":"#N/A"},16,100.53096491487338,{"$error":"#N/A"},{"$error":"#N/A"},{"$error":"#N/A"},{"$error":"#N/A"},{"$error":"#DIV/0!"},{"$error":"#DIV/0!"},{"$error":"#DIV/0!"},{"$error":"#N/A"},{"$error":"#N/A"},{"$error":"#N/A"},16,100.53096491487338,{"$error":"#N/A"},{"$error":"#N/A"},{"$error":"#N/A"},{"$error":"#N/A"},{"$error":"#DIV/0!"},{"$error":"#DIV/0!"},{"$error":"#DIV/0!"},{"$error":"#N/A"},{"$error":"#N/A"},{"$error":"#N/A"},16,100.53096491487338,{"$error":"#N/A"},{"$error":"#N/A"},{"$error":"#N/A"},{"$error":"#N/A"},{"$error":"#DIV/0!"},{"$error":"#DIV/0!"},{"$error":"#DIV/0!"},{"$error":"#N/A"},{"$error":"#N/A"},{"$error":"#N/A"},16,100.53096491487338,{"$error":"#N/A"},{"$error":"#N/A"},{"$error":"#N/A"},{"$error":"#N/A"},{"$error":"#DIV/0!"},{"$error":"#DIV/0!"},{"$error":"#DIV/0!"},{"$error":"#N/A"},{"$error":"#N/A"},{"$error":"#N/A"},null,null,16,100.53096491487338,{"$error":"#DIV/0!"},{"$error":"#DIV/0!"},{"$error":"#DIV/0!"},{"$error":"#DIV/0!"},{"$error":"#DIV/0!"},{"$error":"#DIV/0!"},{"$error":"#DIV/0!"},{"$error":"#DIV/0!"},{"$error":"#DIV/0!"},{"$error":"#DIV/0!"},16,100.53096491487338,{"$error":"#DIV/0!"},{"$error":"#DIV/0!"},{"$error":"#DIV/0!"},{"$error":"#DIV/0!"},{"$error":"#DIV/0!"},{"$error":"#DIV/0!"},{"$error":"#DIV/0!"},{"$error":"#DIV/0!"},{"$error":"#DIV/0!"},{"$error":"#DIV/0!"},16,100.53096491487338,{"$error":"#DIV/0!"},{"$error":"#DIV/0!"},{"$error":"#DIV/0!"},{"$error":"#DIV/0!"},{"$error":"#DIV/0!"},{"$error":"#DIV/0!"},{"$error":"#DIV/0!"},{"$error":"#DIV/0!"},{"$error":"#DIV/0!"},{"$error":"#DIV/0!"},16,100.53096491487338,{"$error":"#DIV/0!"},{"$error":"#DIV/0!"},{"$error":"#DIV/0!"},{"$error":"#DIV/0!"},{"$error":"#DIV/0!"},{"$error":"#DIV/0!"},{"$error":"#DIV/0!"},{"$error":"#DIV/0!"},{"$error":"#DIV/0!"},{"$error":"#DIV/0!"},16,100.53096491487338,{"$error":"#DIV/0!"},{"$error":"#DIV/0!"},{"$error":"#DIV/0!"},{"$error":"#DIV/0!"},{"$error":"#DIV/0!"},{"$error":"#DIV/0!"},{"$error":"#DIV/0!"},{"$error":"#DIV/0!"},{"$error":"#DIV/0!"},{"$error":"#DIV/0!"},16,100.53096491487338,{"$error":"#DIV/0!"},{"$error":"#DIV/0!"},{"$error":"#DIV/0!"},{"$error":"#DIV/0!"},{"$error":"#DIV/0!"},{"$error":"#DIV/0!"},{"$error":"#DIV/0!"},{"$error":"#DIV/0!"},{"$error":"#DIV/0!"},{"$error":"#DIV/0!"},null,{"$error":"#N/A"},{"$error":"#N/A"},{"$error":"#N/A"},{"$error":"#N/A"},{"$error":"#N/A"},{"$error":"#N/A"},null,{"$error":"#DIV/0!"},{"$error":"#DIV/0!"},{"$error":"#DIV/0!"},{"$error":"#DIV/0!"},{"$error":"#DIV/0!"},{"$error":"#DIV/0!"},false,0,{"$error":"#DIV/0!"},{"$error":"#DIV/0!"},{"$error":"#DIV/0!"},{"$error":"#DIV/0!"},{"$error":"#DIV/0!"},{"$error":"#DIV/0!"},{"$error":"#DIV/0!"},{"$error":"#DIV/0!"},{"$error":"#DIV/0!"},{"$error":"#DIV/0!"},{"$error":"#DIV/0!"},{"$error":"#DIV/0!"},0,0,0,0,0,0,0,0,0,0,0,0,{"$error":"#DIV/0!"},{"$error":"#DIV/0!"},{"$error":"#DIV/0!"},{"$error":"#DIV/0!"},{"$error":"#DIV/0!"},{"$error":"#DIV/0!"},{"$error":"#DIV/0!"},{"$error":"#DIV/0!"},{"$error":"#DIV/0!"},{"$error":"#DIV/0!"},{"$error":"#DIV/0!"},{"$error":"#DIV/0!"}]
[null,null,null,null,null,null,null,null,null,null,null,null,null,null,"Ref: Enginnering Noise Control by David A Bies 4th Edition. Page: 317,318",null,null,null,null,null,null,null,null,20,125.66370614359172,{"$error":"#N/A"},{"$error":"#N/A"},{"$error":"#N/A"},{"$error":"#N/A"},{"$error":"#DIV/0!"},{"$error":"#DIV/0!"},{"$error":"#DIV/0!"},{"$error":"#N/A"},{"$error":"#N/A"},{"$error":"#N/A"},20,125.66370614359172,{"$error":"#N/A"},{"$error":"#N/A"},{"$error":"#N/A"},{"$error":"#N/A"},{"$error":"#DIV/0!"},{"$error":"#DIV/0!"},{"$error":"#DIV/0!"},{"$error":"#N/A"},{"$error":"#N/A"},{"$error":"#N/A"},20,125.66370614359172,{"$error":"#N/A"},{"$error":"#N/A"},{"$error":"#N/A"},{"$error":"#N/A"},{"$error":"#DIV/0!"},{"$error":"#DIV/0!"},{"$error":"#DIV/0!"},{"$error":"#N/A"},{"$error":"#N/A"},{"$error":"#N/A"},20,125.66370614359172,{"$error":"#N/A"},{"$error":"#N/A"},{"$error":"#N/A"},{"$error":"#N/A"},{"$error":"#DIV/0!"},{"$error":"#DIV/0!"},{"$error":"#DIV/0!"},{"$error":"#N/A"},{"$error":"#N/A"},{"$error":"#N/A"},20,125.66370614359172,{"$error":"#N/A"},{"$error":"#N/A"},{"$error":"#N/A"},{"$error":"#N/A"},{"$error":"#DIV/0!"},{"$error":"#DIV/0!"},{"$error":"#DIV/0!"},{"$error":"#N/A"},{"$error":"#N/A"},{"$error":"#N/A"},20,125.66370614359172,{"$error":"#N/A"},{"$error":"#N/A"},{"$error":"#N/A"},{"$error":"#N/A"},{"$error":"#DIV/0!"},{"$error":"#DIV/0!"},{"$error":"#DIV/0!"},{"$error":"#N/A"},{"$error":"#N/A"},{"$error":"#N/A"},null,null,20,125.66370614359172,{"$error":"#DIV/0!"},{"$error":"#DIV/0!"},{"$error":"#DIV/0!"},{"$error":"#DIV/0!"},{"$error":"#DIV/0!"},{"$error":"#DIV/0!"},{"$error":"#DIV/0!"},{"$error":"#DIV/0!"},{"$error":"#DIV/0!"},{"$error":"#DIV/0!"},20,125.66370614359172,{"$error":"#DIV/0!"},{"$error":"#DIV/0!"},{"$error":"#DIV/0!"},{"$error":"#DIV/0!"},{"$error":"#DIV/0!"},{"$error":"#DIV/0!"},{"$error":"#DIV/0!"},{"$error":"#DIV/0!"},{"$error":"#DIV/0!"},{"$error":"#DIV/0!"},20,125.66370614359172,{"$error":"#DIV/0!"},{"$error":"#DIV/0!"},{"$error":"#DIV/0!"},{"$error":"#DIV/0!"},{"$error":"#DIV/0!"},{"$error":"#DIV/0!"},{"$error":"#DIV/0!"},{"$error":"#DIV/0!"},{"$error":"#DIV/0!"},{"$error":"#DIV/0!"},20,125.66370614359172,{"$error":"#DIV/0!"},{"$error":"#DIV/0!"},{"$error":"#DIV/0!"},{"$error":"#DIV/0!"},{"$error":"#DIV/0!"},{"$error":"#DIV/0!"},{"$error":"#DIV/0!"},{"$error":"#DIV/0!"},{"$error":"#DIV/0!"},{"$error":"#DIV/0!"},20,125.66370614359172,{"$error":"#DIV/0!"},{"$error":"#DIV/0!"},{"$error":"#DIV/0!"},{"$error":"#DIV/0!"},{"$error":"#DIV/0!"},{"$error":"#DIV/0!"},{"$error":"#DIV/0!"},{"$error":"#DIV/0!"},{"$error":"#DIV/0!"},{"$error":"#DIV/0!"},20,125.66370614359172,{"$error":"#DIV/0!"},{"$error":"#DIV/0!"},{"$error":"#DIV/0!"},{"$error":"#DIV/0!"},{"$error":"#DIV/0!"},{"$error":"#DIV/0!"},{"$error":"#DIV/0!"},{"$error":"#DIV/0!"},{"$error":"#DIV/0!"},{"$error":"#DIV/0!"},null,{"$error":"#N/A"},{"$error":"#N/A"},{"$error":"#N/A"},{"$error":"#N/A"},{"$error":"#N/A"},{"$error":"#N/A"},null,{"$error":"#DIV/0!"},{"$error":"#DIV/0!"},{"$error":"#DIV/0!"},{"$error":"#DIV/0!"},{"$error":"#DIV/0!"},{"$error":"#DIV/0!"},false,0,null,null,null,null,20,125.66370614359172,{"$error":"#N/A"},{"$error":"#N/A"},{"$error":"#N/A"},{"$error":"#N/A"},{"$error":"#DIV/0!"},{"$error":"#DIV/0!"},{"$error":"#DIV/0!"},{"$error":"#N/A"},{"$error":"#N/A"},{"$error":"#N/A"},20,125.66370614359172,{"$error":"#N/A"},{"$error":"#N/A"},{"$error":"#N/A"},{"$error":"#N/A"},{"$error":"#DIV/0!"},{"$error":"#DIV/0!"},{"$error":"#DIV/0!"},{"$error":"#N/A"},{"$error":"#N/A"},{"$error":"#N/A"},20,125.66370614359172,{"$error":"#N/A"},{"$error":"#N/A"},{"$error":"#N/A"},{"$error":"#N/A"},{"$error":"#DIV/0!"},{"$error":"#DIV/0!"},{"$error":"#DIV/0!"},{"$error":"#N/A"},{"$error":"#N/A"},{"$error":"#N/A"},20,125.66370614359172,{"$error":"#N/A"},{"$error":"#N/A"},{"$error":"#N/A"},{"$error":"#N/A"},{"$error":"#DIV/0!"},{"$error":"#DIV/0!"},{"$error":"#DIV/0!"},{"$error":"#N/A"},{"$error":"#N/A"},{"$error":"#N/A"},20,125.66370614359172,{"$error":"#N/A"},{"$error":"#N/A"},{"$error":"#N/A"},{"$error":"#N/A"},{"$error":"#DIV/0!"},{"$error":"#DIV/0!"},{"$error":"#DIV/0!"},{"$error":"#N/A"},{"$error":"#N/A"},{"$error":"#N/A"},20,125.66370614359172,{"$error":"#N/A"},{"$error":"#N/A"},{"$error":"#N/A"},{"$error":"#N/A"},{"$error":"#DIV/0!"},{"$error":"#DIV/0!"},{"$error":"#DIV/0!"},{"$error":"#N/A"},{"$error":"#N/A"},{"$error":"#N/A"},null,null,20,125.66370614359172,{"$error":"#DIV/0!"},{"$error":"#DIV/0!"},{"$error":"#DIV/0!"},{"$error":"#DIV/0!"},{"$error":"#DIV/0!"},{"$error":"#DIV/0!"},{"$error":"#DIV/0!"},{"$error":"#DIV/0!"},{"$error":"#DIV/0!"},{"$error":"#DIV/0!"},20,125.66370614359172,{"$error":"#DIV/0!"},{"$error":"#DIV/0!"},{"$error":"#DIV/0!"},{"$error":"#DIV/0!"},{"$error":"#DIV/0!"},{"$error":"#DIV/0!"},{"$error":"#DIV/0!"},{"$error":"#DIV/0!"},{"$error":"#DIV/0!"},{"$error":"#DIV/0!"},20,125.66370614359172,{"$error":"#DIV/0!"},{"$error":"#DIV/0!"},{"$error":"#DIV/0!"},{"$error":"#DIV/0!"},{"$error":"#DIV/0!"},{"$error":"#DIV/0!"},{"$error":"#DIV/0!"},{"$error":"#DIV/0!"},{"$error":"#DIV/0!"},{"$error":"#DIV/0!"},20,125.66370614359172,{"$error":"#DIV/0!"},{"$error":"#DIV/0!"},{"$error":"#DIV/0!"},{"$error":"#DIV/0!"},{"$error":"#DIV/0!"},{"$error":"#DIV/0!"},{"$error":"#DIV/0!"},{"$error":"#DIV/0!"},{"$error":"#DIV/0!"},{"$error":"#DIV/0!"},20,125.66370614359172,{"$error":"#DIV/0!"},{"$error":"#DIV/0!"},{"$error":"#DIV/0!"},{"$error":"#DIV/0!"},{"$error":"#DIV/0!"},{"$error":"#DIV/0!"},{"$error":"#DIV/0!"},{"$error":"#DIV/0!"},{"$error":"#DIV/0!"},{"$error":"#DIV/0!"},20,125.66370614359172,{"$error":"#DIV/0!"},{"$error":"#DIV/0!"},{"$error":"#DIV/0!"},{"$error":"#DIV/0!"},{"$error":"#DIV/0!"},{"$error":"#DIV/0!"},{"$error":"#DIV/0!"},{"$error":"#DIV/0!"},{"$error":"#DIV/0!"},{"$error":"#DIV/0!"},null,{"$error":"#N/A"},{"$error":"#N/A"},{"$error":"#N/A"},{"$error":"#N/A"},{"$error":"#N/A"},{"$error":"#N/A"},null,{"$error":"#DIV/0!"},{"$error":"#DIV/0!"},{"$error":"#DIV/0!"},{"$error":"#DIV/0!"},{"$error":"#DIV/0!"},{"$error":"#DIV/0!"},false,0,{"$error":"#DIV/0!"},{"$error":"#DIV/0!"},{"$error":"#DIV/0!"},{"$error":"#DIV/0!"},{"$error":"#DIV/0!"},{"$error":"#DIV/0!"},{"$error":"#DIV/0!"},{"$error":"#DIV/0!"},{"$error":"#DIV/0!"},{"$error":"#DIV/0!"},{"$error":"#DIV/0!"},{"$error":"#DIV/0!"},0,0,0,0,0,0,0,0,0,0,0,0,{"$error":"#DIV/0!"},{"$error":"#DIV/0!"},{"$error":"#DIV/0!"},{"$error":"#DIV/0!"},{"$error":"#DIV/0!"},{"$error":"#DIV/0!"},{"$error":"#DIV/0!"},{"$error":"#DIV/0!"},{"$error":"#DIV/0!"},{"$error":"#DIV/0!"},{"$error":"#DIV/0!"},{"$error":"#DIV/0!"}]
[null,null,null,null,null,null,null,null,null,null,null,null,null,null,null,null,null,null,null,null,null,null,null,25,157.07963267948966,{"$error":"#N/A"},{"$error":"#N/A"},{"$error":"#N/A"},{"$error":"#N/A"},{"$error":"#DIV/0!"},{"$error":"#DIV/0!"},{"$error":"#DIV/0!"},{"$error":"#N/A"},{"$error":"#N/A"},{"$error":"#N/A"},25,157.07963267948966,{"$error":"#N/A"},{"$error":"#N/A"},{"$error":"#N/A"},{"$error":"#N/A"},{"$error":"#DIV/0!"},{"$error":"#DIV/0!"},{"$error":"#DIV/0!"},{"$error":"#N/A"},{"$error":"#N/A"},{"$error":"#N/A"},25,157.07963267948966,{"$error":"#N/A"},{"$error":"#N/A"},{"$error":"#N/A"},{"$error":"#N/A"},{"$error":"#DIV/0!"},{"$error":"#DIV/0!"},{"$error":"#DIV/0!"},{"$error":"#N/A"},{"$error":"#N/A"},{"$error":"#N/A"},25,157.07963267948966,{"$error":"#N/A"},{"$error":"#N/A"},{"$error":"#N/A"},{"$error":"#N/A"},{"$error":"#DIV/0!"},{"$error":"#DIV/0!"},{"$error":"#DIV/0!"},{"$error":"#N/A"},{"$error":"#N/A"},{"$error":"#N/A"},25,157.07963267948966,{"$error":"#N/A"},{"$error":"#N/A"},{"$error":"#N/A"},{"$error":"#N/A"},{"$error":"#DIV/0!"},{"$error":"#DIV/0!"},{"$error":"#DIV/0!"},{"$error":"#N/A"},{"$error":"#N/A"},{"$error":"#N/A"},25,157.07963267948966,{"$error":"#N/A"},{"$error":"#N/A"},{"$error":"#N/A"},{"$error":"#N/A"},{"$error":"#DIV/0!"},{"$error":"#DIV/0!"},{"$error":"#DIV/0!"},{"$error":"#N/A"},{"$error":"#N/A"},{"$error":"#N/A"},null,null,25,157.07963267948966,{"$error":"#DIV/0!"},{"$error":"#DIV/0!"},{"$error":"#DIV/0!"},{"$error":"#DIV/0!"},{"$error":"#DIV/0!"},{"$error":"#DIV/0!"},{"$error":"#DIV/0!"},{"$error":"#DIV/0!"},{"$error":"#DIV/0!"},{"$error":"#DIV/0!"},25,157.07963267948966,{"$error":"#DIV/0!"},{"$error":"#DIV/0!"},{"$error":"#DIV/0!"},{"$error":"#DIV/0!"},{"$error":"#DIV/0!"},{"$error":"#DIV/0!"},{"$error":"#DIV/0!"},{"$error":"#DIV/0!"},{"$error":"#DIV/0!"},{"$error":"#DIV/0!"},25,157.07963267948966,{"$error":"#DIV/0!"},{"$error":"#DIV/0!"},{"$error":"#DIV/0!"},{"$error":"#DIV/0!"},{"$error":"#DIV/0!"},{"$error":"#DIV/0!"},{"$error":"#DIV/0!"},{"$error":"#DIV/0!"},{"$error":"#DIV/0!"},{"$error":"#DIV/0!"},25,157.07963267948966,{"$error":"#DIV/0!"},{"$error":"#DIV/0!"},{"$error":"#DIV/0!"},{"$error":"#DIV/0!"},{"$error":"#DIV/0!"},{"$error":"#DIV/0!"},{"$error":"#DIV/0!"},{"$error":"#DIV/0!"},{"$error":"#DIV/0!"},{"$error":"#DIV/0!"},25,157.07963267948966,{"$error":"#DIV/0!"},{"$error":"#DIV/0!"},{"$error":"#DIV/0!"},{"$error":"#DIV/0!"},{"$error":"#DIV/0!"},{"$error":"#DIV/0!"},{"$error":"#DIV/0!"},{"$error":"#DIV/0!"},{"$error":"#DIV/0!"},{"$error":"#DIV/0!"},25,157.07963267948966,{"$error":"#DIV/0!"},{"$error":"#DIV/0!"},{"$error":"#DIV/0!"},{"$error":"#DIV/0!"},{"$error":"#DIV/0!"},{"$error":"#DIV/0!"},{"$error":"#DIV/0!"},{"$error":"#DIV/0!"},{"$error":"#DIV/0!"},{"$error":"#DIV/0!"},null,{"$error":"#N/A"},{"$error":"#N/A"},{"$error":"#N/A"},{"$error":"#N/A"},{"$error":"#N/A"},{"$error":"#N/A"},null,{"$error":"#DIV/0!"},{"$error":"#DIV/0!"},{"$error":"#DIV/0!"},{"$error":"#DIV/0!"},{"$error":"#DIV/0!"},{"$error":"#DIV/0!"},false,0,null,null,null,null,25,157.07963267948966,{"$error":"#N/A"},{"$error":"#N/A"},{"$error":"#N/A"},{"$error":"#N/A"},{"$error":"#DIV/0!"},{"$error":"#DIV/0!"},{"$error":"#DIV/0!"},{"$error":"#N/A"},{"$error":"#N/A"},{"$error":"#N/A"},25,157.07963267948966,{"$error":"#N/A"},{"$error":"#N/A"},{"$error":"#N/A"},{"$error":"#N/A"},{"$error":"#DIV/0!"},{"$error":"#DIV/0!"},{"$error":"#DIV/0!"},{"$error":"#N/A"},{"$error":"#N/A"},{"$error":"#N/A"},25,157.07963267948966,{"$error":"#N/A"},{"$error":"#N/A"},{"$error":"#N/A"},{"$error":"#N/A"},{"$error":"#DIV/0!"},{"$error":"#DIV/0!"},{"$error":"#DIV/0!"},{"$error":"#N/A"},{"$error":"#N/A"},{"$error":"#N/A"},25,157.07963267948966,{"$error":"#N/A"},{"$error":"#N/A"},{"$error":"#N/A"},{"$error":"#N/A"},{"$error":"#DIV/0!"},{"$error":"#DIV/0!"},{"$error":"#DIV/0!"},{"$error":"#N/A"},{"$error":"#N/A"},{"$error":"#N/A"},25,157.07963267948966,{"$error":"#N/A"},{"$error":"#N/A"},{"$error":"#N/A"},{"$error":"#N/A"},{"$error":"#DIV/0!"},{"$error":"#DIV/0!"},{"$error":"#DIV/0!"},{"$error":"#N/A"},{"$error":"#N/A"},{"$error":"#N/A"},25,157.07963267948966,{"$error":"#N/A"},{"$error":"#N/A"},{"$error":"#N/A"},{"$error":"#N/A"},{"$error":"#DIV/0!"},{"$error":"#DIV/0!"},{"$error":"#DIV/0!"},{"$error":"#N/A"},{"$error":"#N/A"},{"$error":"#N/A"},null,null,25,157.07963267948966,{"$error":"#DIV/0!"},{"$error":"#DIV/0!"},{"$error":"#DIV/0!"},{"$error":"#DIV/0!"},{"$error":"#DIV/0!"},{"$error":"#DIV/0!"},{"$error":"#DIV/0!"},{"$error":"#DIV/0!"},{"$error":"#DIV/0!"},{"$error":"#DIV/0!"},25,157.07963267948966,{"$error":"#DIV/0!"},{"$error":"#DIV/0!"},{"$error":"#DIV/0!"},{"$error":"#DIV/0!"},{"$error":"#DIV/0!"},{"$error":"#DIV/0!"},{"$error":"#DIV/0!"},{"$error":"#DIV/0!"},{"$error":"#DIV/0!"},{"$error":"#DIV/0!"},25,157.07963267948966,{"$error":"#DIV/0!"},{"$error":"#DIV/0!"},{"$error":"#DIV/0!"},{"$error":"#DIV/0!"},{"$error":"#DIV/0!"},{"$error":"#DIV/0!"},{"$error":"#DIV/0!"},{"$error":"#DIV/0!"},{"$error":"#DIV/0!"},{"$error":"#DIV/0!"},25,157.07963267948966,{"$error":"#DIV/0!"},{"$error":"#DIV/0!"},{"$error":"#DIV/0!"},{"$error":"#DIV/0!"},{"$error":"#DIV/0!"},{"$error":"#DIV/0!"},{"$error":"#DIV/0!"},{"$error":"#DIV/0!"},{"$error":"#DIV/0!"},{"$error":"#DIV/0!"},25,157.07963267948966,{"$error":"#DIV/0!"},{"$error":"#DIV/0!"},{"$error":"#DIV/0!"},{"$error":"#DIV/0!"},{"$error":"#DIV/0!"},{"$error":"#DIV/0!"},{"$error":"#DIV/0!"},{"$error":"#DIV/0!"},{"$error":"#DIV/0!"},{"$error":"#DIV/0!"},25,157.07963267948966,{"$error":"#DIV/0!"},{"$error":"#DIV/0!"},{"$error":"#DIV/0!"},{"$error":"#DIV/0!"},{"$error":"#DIV/0!"},{"$error":"#DIV/0!"},{"$error":"#DIV/0!"},{"$error":"#DIV/0!"},{"$error":"#DIV/0!"},{"$error":"#DIV/0!"},null,{"$error":"#N/A"},{"$error":"#N/A"},{"$error":"#N/A"},{"$error":"#N/A"},{"$error":"#N/A"},{"$error":"#N/A"},null,{"$error":"#DIV/0!"},{"$error":"#DIV/0!"},{"$error":"#DIV/0!"},{"$error":"#DIV/0!"},{"$error":"#DIV/0!"},{"$error":"#DIV/0!"},false,0,{"$error":"#DIV/0!"},{"$error":"#DIV/0!"},{"$error":"#DIV/0!"},{"$error":"#DIV/0!"},{"$error":"#DIV/0!"},{"$error":"#DIV/0!"},{"$error":"#DIV/0!"},{"$error":"#DIV/0!"},{"$error":"#DIV/0!"},{"$error":"#DIV/0!"},{"$error":"#DIV/0!"},{"$error":"#DIV/0!"},0,0,0,0,0,0,0,0,0,0,0,0,{"$error":"#DIV/0!"},{"$error":"#DIV/0!"},{"$error":"#DIV/0!"},{"$error":"#DIV/0!"},{"$error":"#DIV/0!"},{"$error":"#DIV/0!"},{"$error":"#DIV/0!"},{"$error":"#DIV/0!"},{"$error":"#DIV/0!"},{"$error":"#DIV/0!"},{"$error":"#DIV/0!"},{"$error":"#DIV/0!"}]
[null," α1"," α2"," α3"," α4"," α5"," α6",null,null,null,null,null,null,null,null,null,null,null,null,null,null,null,null,31.5,197.92033717615698,{"$error":"#N/A"},{"$error":"#N/A"},{"$error":"#N/A"},{"$error":"#N/A"},{"$error":"#DIV/0!"},{"$error":"#DIV/0!"},{"$error":"#DIV/0!"},{"$error":"#N/A"},{"$error":"#N/A"},{"$error":"#N/A"},31.5,197.92033717615698,{"$error":"#N/A"},{"$error":"#N/A"},{"$error":"#N/A"},{"$error":"#N/A"},{"$error":"#DIV/0!"},{"$error":"#DIV/0!"},{"$error":"#DIV/0!"},{"$error":"#N/A"},{"$error":"#N/A"},{"$error":"#N/A"},31.5,197.92033717615698,{"$error":"#N/A"},{"$error":"#N/A"},{"$error":"#N/A"},{"$error":"#N/A"},{"$error":"#DIV/0!"},{"$error":"#DIV/0!"},{"$error":"#DIV/0!"},{"$error":"#N/A"},{"$error":"#N/A"},{"$error":"#N/A"},31.5,197.92033717615698,{"$error":"#N/A"},{"$error":"#N/A"},{"$error":"#N/A"},{"$error":"#N/A"},{"$error":"#DIV/0!"},{"$error":"#DIV/0!"},{"$error":"#DIV/0!"},{"$error":"#N/A"},{"$error":"#N/A"},{"$error":"#N/A"},31.5,197.92033717615698,{"$error":"#N/A"},{"$error":"#N/A"},{"$error":"#N/A"},{"$error":"#N/A"},{"$error":"#DIV/0!"},{"$error":"#DIV/0!"},{"$error":"#DIV/0!"},{"$error":"#N/A"},{"$error":"#N/A"},{"$error":"#N/A"},31.5,197.92033717615698,{"$error":"#N/A"},{"$error":"#N/A"},{"$error":"#N/A"},{"$error":"#N/A"},{"$error":"#DIV/0!"},{"$error":"#DIV/0!"},{"$error":"#DIV/0!"},{"$error":"#N/A"},{"$error":"#N/A"},{"$error":"#N/A"},null,null,31.5,197.92033717615698,{"$error":"#DIV/0!"},{"$error":"#DIV/0!"},{"$error":"#DIV/0!"},{"$error":"#DIV/0!"},{"$error":"#DIV/0!"},{"$error":"#DIV/0!"},{"$error":"#DIV/0!"},{"$error":"#DIV/0!"},{"$error":"#DIV/0!"},{"$error":"#DIV/0!"},31.5,197.92033717615698,{"$error":"#DIV/0!"},{"$error":"#DIV/0!"},{"$error":"#DIV/0!"},{"$error":"#DIV/0!"},{"$error":"#DIV/0!"},{"$error":"#DIV/0!"},{"$error":"#DIV/0!"},{"$error":"#DIV/0!"},{"$error":"#DIV/0!"},{"$error":"#DIV/0!"},31.5,197.92033717615698,{"$error":"#DIV/0!"},{"$error":"#DIV/0!"},{"$error":"#DIV/0!"},{"$error":"#DIV/0!"},{"$error":"#DIV/0!"},{"$error":"#DIV/0!"},{"$error":"#DIV/0!"},{"$error":"#DIV/0!"},{"$error":"#DIV/0!"},{"$error":"#DIV/0!"},31.5,197.92033717615698,{"$error":"#DIV/0!"},{"$error":"#DIV/0!"},{"$error":"#DIV/0!"},{"$error":"#DIV/0!"},{"$error":"#DIV/0!"},{"$error":"#DIV/0!"},{"$error":"#DIV/0!"},{"$error":"#DIV/0!"},{"$error":"#DIV/0!"},{"$error":"#DIV/0!"},31.5,197.92033717615698,{"$error":"#DIV/0!"},{"$error":"#DIV/0!"},{"$error":"#DIV/0!"},{"$error":"#DIV/0!"},{"$error":"#DIV/0!"},{"$error":"#DIV/0!"},{"$error":"#DIV/0!"},{"$error":"#DIV/0!"},{"$error":"#DIV/0!"},{"$error":"#DIV/0!"},31.5,197.92033717615698,{"$error":"#DIV/0!"},{"$error":"#DIV/0!"},{"$error":"#DIV/0!"},{"$error":"#DIV/0!"},{"$error":"#DIV/0!"},{"$error":"#DIV/0!"},{"$error":"#DIV/0!"},{"$error":"#DIV/0!"},{"$error":"#DIV/0!"},{"$error":"#DIV/0!"},null,{"$error":"#N/A"},{"$error":"#N/A"},{"$error":"#N/A"},{"$error":"#N/A"},{"$error":"#N/A"},{"$error":"#N/A"},null,{"$error":"#DIV/0!"},{"$error":"#DIV/0!"},{"$error":"#DIV/0!"},{"$error":"#DIV/0!"},{"$error":"#DIV/0!"},{"$error":"#DIV/0!"},false,0,null,null,null,null,31.5,197.92033717615698,{"$error":"#N/A"},{"$error":"#N/A"},{"$error":"#N/A"},{"$error":"#N/A"},{"$error":"#DIV/0!"},{"$error":"#DIV/0!"},{"$error":"#DIV/0!"},{"$error":"#N/A"},{"$error":"#N/A"},{"$error":"#N/A"},31.5,197.92033717615698,{"$error":"#N/A"},{"$error":"#N/A"},{"$error":"#N/A"},{"$error":"#N/A"},{"$error":"#DIV/0!"},{"$error":"#DIV/0!"},{"$error":"#DIV/0!"},{"$error":"#N/A"},{"$error":"#N/A"},{"$error":"#N/A"},31.5,197.92033717615698,{"$error":"#N/A"},{"$error":"#N/A"},{"$error":"#N/A"},{"$error":"#N/A"},{"$error":"#DIV/0!"},{"$error":"#DIV/0!"},{"$error":"#DIV/0!"},{"$error":"#N/A"},{"$error":"#N/A"},{"$error":"#N/A"},31.5,197.92033717615698,{"$error":"#N/A"},{"$error":"#N/A"},{"$error":"#N/A"},{"$error":"#N/A"},{"$error":"#DIV/0!"},{"$error":"#DIV/0!"},{"$error":"#DIV/0!"},{"$error":"#N/A"},{"$error":"#N/A"},{"$error":"#N/A"},31.5,197.92033717615698,{"$error":"#N/A"},{"$error":"#N/A"},{"$error":"#N/A"},{"$error":"#N/A"},{"$error":"#DIV/0!"},{"$error":"#DIV/0!"},{"$error":"#DIV/0!"},{"$error":"#N/A"},{"$error":"#N/A"},{"$error":"#N/A"},31.5,197.92033717615698,{"$error":"#N/A"},{"$error":"#N/A"},{"$error":"#N/A"},{"$error":"#N/A"},{"$error":"#DIV/0!"},{"$error":"#DIV/0!"},{"$error":"#DIV/0!"},{"$error":"#N/A"},{"$error":"#N/A"},{"$error":"#N/A"},null,null,31.5,197.92033717615698,{"$error":"#DIV/0!"},{"$error":"#DIV/0!"},{"$error":"#DIV/0!"},{"$error":"#DIV/0!"},{"$error":"#DIV/0!"},{"$error":"#DIV/0!"},{"$error":"#DIV/0!"},{"$error":"#DIV/0!"},{"$error":"#DIV/0!"},{"$error":"#DIV/0!"},31.5,197.92033717615698,{"$error":"#DIV/0!"},{"$error":"#DIV/0!"},{"$error":"#DIV/0!"},{"$error":"#DIV/0!"},{"$error":"#DIV/0!"},{"$error":"#DIV/0!"},{"$error":"#DIV/0!"},{"$error":"#DIV/0!"},{"$error":"#DIV/0!"},{"$error":"#DIV/0!"},31.5,197.92033717615698,{"$error":"#DIV/0!"},{"$error":"#DIV/0!"},{"$error":"#DIV/0!"},{"$error":"#DIV/0!"},{"$error":"#DIV/0!"},{"$error":"#DIV/0!"},{"$error":"#DIV/0!"},{"$error":"#DIV/0!"},{"$error":"#DIV/0!"},{"$error":"#DIV/0!"},31.5,197.92033717615698,{"$error":"#DIV/0!"},{"$error":"#DIV/0!"},{"$error":"#DIV/0!"},{"$error":"#DIV/0!"},{"$error":"#DIV/0!"},{"$error":"#DIV/0!"},{"$error":"#DIV/0!"},{"$error":"#DIV/0!"},{"$error":"#DIV/0!"},{"$error":"#DIV/0!"},31.5,197.92033717615698,{"$error":"#DIV/0!"},{"$error":"#DIV/0!"},{"$error":"#DIV/0!"},{"$error":"#DIV/0!"},{"$error":"#DIV/0!"},{"$error":"#DIV/0!"},{"$error":"#DIV/0!"},{"$error":"#DIV/0!"},{"$error":"#DIV/0!"},{"$error":"#DIV/0!"},31.5,197.92033717615698,{"$error":"#DIV/0!"},{"$error":"#DIV/0!"},{"$error":"#DIV/0!"},{"$error":"#DIV/0!"},{"$error":"#DIV/0!"},{"$error":"#DIV/0!"},{"$error":"#DIV/0!"},{"$error":"#DIV/0!"},{"$error":"#DIV/0!"},{"$error":"#DIV/0!"},null,{"$error":"#N/A"},{"$error":"#N/A"},{"$error":"#N/A"},{"$error":"#N/A"},{"$error":"#N/A"},{"$error":"#N/A"},null,{"$error":"#DIV/0!"},{"$error":"#DIV/0!"},{"$error":"#DIV/0!"},{"$error":"#DIV/0!"},{"$error":"#DIV/0!"},{"$error":"#DIV/0!"},false,0,{"$error":"#DIV/0!"},{"$error":"#DIV/0!"},{"$error":"#DIV/0!"},{"$error":"#DIV/0!"},{"$error":"#DIV/0!"},{"$error":"#DIV/0!"},{"$error":"#DIV/0!"},{"$error":"#DIV/0!"},{"$error":"#DIV/0!"},{"$error":"#DIV/0!"},{"$error":"#DIV/0!"},{"$error":"#DIV/0!"},0,0,0,0,0,0,0,0,0,0,0,0,{"$error":"#DIV/0!"},{"$error":"#DIV/0!"},{"$error":"#DIV/0!"},{"$error":"#DIV/0!"},{"$error":"#DIV/0!"},{"$error":"#DIV/0!"},{"$error":"#DIV/0!"},{"$error":"#DIV/0!"},{"$error":"#DIV/0!"},{"$error":"#DIV/0!"},{"$error":"#DIV/0!"},{"$error":"#DIV/0!"}]
["Material",null,null,null,null,null,null,"No of Patches",null,null,null,null,null,null,null,null,null,null,null,null,null,null,null,40,251.32741228718345,{"$error":"#N/A"},{"$error":"#N/A"},{"$error":"#N/A"},{"$error":"#N/A"},{"$error":"#DIV/0!"},{"$error":"#DIV/0!"},{"$error":"#DIV/0!"},{"$error":"#N/A"},{"$error":"#N/A"},{"$error":"#N/A"},40,251.32741228718345,{"$error":"#N/A"},{"$error":"#N/A"},{"$error":"#N/A"},{"$error":"#N/A"},{"$error":"#DIV/0!"},{"$error":"#DIV/0!"},{"$error":"#DIV/0!"},{"$error":"#N/A"},{"$error":"#N/A"},{"$error":"#N/A"},40,251.32741228718345,{"$error":"#N/A"},{"$error":"#N/A"},{"$error":"#N/A"},{"$error":"#N/A"},{"$error":"#DIV/0!"},{"$error":"#DIV/0!"},{"$error":"#DIV/0!"},{"$error":"#N/A"},{"$error":"#N/A"},{"$error":"#N/A"},40,251.32741228718345,{"$error":"#N/A"},{"$error":"#N/A"},{"$error":"#N/A"},{"$error":"#N/A"},{"$error":"#DIV/0!"},{"$error":"#DIV/0!"},{"$error":"#DIV/0!"},{"$error":"#N/A"},{"$error":"#N/A"},{"$error":"#N/A"},40,251.32741228718345,{"$error":"#N/A"},{"$error":"#N/A"},{"$error":"#N/A"},{"$error":"#N/A"},{"$error":"#DIV/0!"},{"$error":"#DIV/0!"},{"$error":"#DIV/0!"},{"$error":"#N/A"},{"$error":"#N/A"},{"$error":"#N/A"},40,251.32741228718345,{"$error":"#N/A"},{"$error":"#N/A"},{"$error":"#N/A"},{"$error":"#N/A"},{"$error":"#DIV/0!"},{"$error":"#DIV/0!"},{"$error":"#DIV/0!"},{"$error":"#N/A"},{"$error":"#N/A"},{"$error":"#N/A"},null,null,40,251.32741228718345,{"$error":"#DIV/0!"},{"$error":"#DIV/0!"},{"$error":"#DIV/0!"},{"$error":"#DIV/0!"},{"$error":"#DIV/0!"},{"$error":"#DIV/0!"},{"$error":"#DIV/0!"},{"$error":"#DIV/0!"},{"$error":"#DIV/0!"},{"$error":"#DIV/0!"},40,251.32741228718345,{"$error":"#DIV/0!"},{"$error":"#DIV/0!"},{"$error":"#DIV/0!"},{"$error":"#DIV/0!"},{"$error":"#DIV/0!"},{"$error":"#DIV/0!"},{"$error":"#DIV/0!"},{"$error":"#DIV/0!"},{"$error":"#DIV/0!"},{"$error":"#DIV/0!"},40,251.32741228718345,{"$error":"#DIV/0!"},{"$error":"#DIV/0!"},{"$error":"#DIV/0!"},{"$error":"#DIV/0!"},{"$error":"#DIV/0!"},{"$error":"#DIV/0!"},{"$error":"#DIV/0!"},{"$error":"#DIV/0!"},{"$error":"#DIV/0!"},{"$error":"#DIV/0!"},40,251.32741228718345,{"$error":"#DIV/0!"},{"$error":"#DIV/0!"},{"$error":"#DIV/0!"},{"$error":"#DIV/0!"},{"$error":"#DIV/0!"},{"$error":"#DIV/0!"},{"$error":"#DIV/0!"},{"$error":"#DIV/0!"},{"$error":"#DIV/0!"},{"$error":"#DIV/0!"},40,251.32741228718345,{"$error":"#DIV/0!"},{"$error":"#DIV/0!"},{"$error":"#DIV/0!"},{"$error":"#DIV/0!"},{"$error":"#DIV/0!"},{"$error":"#DIV/0!"},{"$error":"#DIV/0!"},{"$error":"#DIV/0!"},{"$error":"#DIV/0!"},{"$error":"#DIV/0!"},40,251.32741228718345,{"$error":"#DIV/0!"},{"$error":"#DIV/0!"},{"$error":"#DIV/0!"},{"$error":"#DIV/0!"},{"$error":"#DIV/0!"},{"$error":"#DIV/0!"},{"$error":"#DIV/0!"},{"$error":"#DIV/0!"},{"$error":"#DIV/0!"},{"$error":"#DIV/0!"},null,{"$error":"#N/A"},{"$error":"#N/A"},{"$error":"#N/A"},{"$error":"#N/A"},{"$error":"#N/A"},{"$error":"#N/A"},null,{"$error":"#DIV/0!"},{"$error":"#DIV/0!"},{"$error":"#DIV/0!"},{"$error":"#DIV/0!"},{"$error":"#DIV/0!"},{"$error":"#DIV/0!"},false,0,null,null,null,null,40,251.32741228718345,{"$error":"#N/A"},{"$error":"#N/A"},{"$error":"#N/A"},{"$error":"#N/A"},{"$error":"#DIV/0!"},{"$error":"#DIV/0!"},{"$error":"#DIV/0!"},{"$error":"#N/A"},{"$error":"#N/A"},{"$error":"#N/A"},40,251.32741228718345,{"$error":"#N/A"},{"$error":"#N/A"},{"$error":"#N/A"},{"$error":"#N/A"},{"$error":"#DIV/0!"},{"$error":"#DIV/0!"},{"$error":"#DIV/0!"},{"$error":"#N/A"},{"$error":"#N/A"},{"$error":"#N/A"},40,251.32741228718345,{"$error":"#N/A"},{"$error":"#N/A"},{"$error":"#N/A"},{"$error":"#N/A"},{"$error":"#DIV/0!"},{"$error":"#DIV/0!"},{"$error":"#DIV/0!"},{"$error":"#N/A"},{"$error":"#N/A"},{"$error":"#N/A"},40,251.32741228718345,{"$error":"#N/A"},{"$error":"#N/A"},{"$error":"#N/A"},{"$error":"#N/A"},{"$error":"#DIV/0!"},{"$error":"#DIV/0!"},{"$error":"#DIV/0!"},{"$error":"#N/A"},{"$error":"#N/A"},{"$error":"#N/A"},40,251.32741228718345,{"$error":"#N/A"},{"$error":"#N/A"},{"$error":"#N/A"},{"$error":"#N/A"},{"$error":"#DIV/0!"},{"$error":"#DIV/0!"},{"$error":"#DIV/0!"},{"$error":"#N/A"},{"$error":"#N/A"},{"$error":"#N/A"},40,251.32741228718345,{"$error":"#N/A"},{"$error":"#N/A"},{"$error":"#N/A"},{"$error":"#N/A"},{"$error":"#DIV/0!"},{"$error":"#DIV/0!"},{"$error":"#DIV/0!"},{"$error":"#N/A"},{"$error":"#N/A"},{"$error":"#N/A"},null,null,40,251.32741228718345,{"$error":"#DIV/0!"},{"$error":"#DIV/0!"},{"$error":"#DIV/0!"},{"$error":"#DIV/0!"},{"$error":"#DIV/0!"},{"$error":"#DIV/0!"},{"$error":"#DIV/0!"},{"$error":"#DIV/0!"},{"$error":"#DIV/0!"},{"$error":"#DIV/0!"},40,251.32741228718345,{"$error":"#DIV/0!"},{"$error":"#DIV/0!"},{"$error":"#DIV/0!"},{"$error":"#DIV/0!"},{"$error":"#DIV/0!"},{"$error":"#DIV/0!"},{"$error":"#DIV/0!"},{"$error":"#DIV/0!"},{"$error":"#DIV/0!"},{"$error":"#DIV/0!"},40,251.32741228718345,{"$error":"#DIV/0!"},{"$error":"#DIV/0!"},{"$error":"#DIV/0!"},{"$error":"#DIV/0!"},{"$error":"#DIV/0!"},{"$error":"#DIV/0!"},{"$error":"#DIV/0!"},{"$error":"#DIV/0!"},{"$error":"#DIV/0!"},{"$error":"#DIV/0!"},40,251.32741228718345,{"$error":"#DIV/0!"},{"$error":"#DIV/0!"},{"$error":"#DIV/0!"},{"$error":"#DIV/0!"},{"$error":"#DIV/0!"},{"$error":"#DIV/0!"},{"$error":"#DIV/0!"},{"$error":"#DIV/0!"},{"$error":"#DIV/0!"},{"$error":"#DIV/0!"},40,251.32741228718345,{"$error":"#DIV/0!"},{"$error":"#DIV/0!"},{"$error":"#DIV/0!"},{"$error":"#DIV/0!"},{"$error":"#DIV/0!"},{"$error":"#DIV/0!"},{"$error":"#DIV/0!"},{"$error":"#DIV/0!"},{"$error":"#DIV/0!"},{"$error":"#DIV/0!"},40,251.32741228718345,{"$error":"#DIV/0!"},{"$error":"#DIV/0!"},{"$error":"#DIV/0!"},{"$error":"#DIV/0!"},{"$error":"#DIV/0!"},{"$error":"#DIV/0!"},{"$error":"#DIV/0!"},{"$error":"#DIV/0!"},{"$error":"#DIV/0!"},{"$error":"#DIV/0!"},null,{"$error":"#N/A"},{"$error":"#N/A"},{"$error":"#N/A"},{"$error":"#N/A"},{"$error":"#N/A"},{"$error":"#N/A"},null,{"$error":"#DIV/0!"},{"$error":"#DIV/0!"},{"$error":"#DIV/0!"},{"$error":"#DIV/0!"},{"$error":"#DIV/0!"},{"$error":"#DIV/0!"},false,0,{"$error":"#DIV/0!"},{"$error":"#DIV/0!"},{"$error":"#DIV/0!"},{"$error":"#DIV/0!"},{"$error":"#DIV/0!"},{"$error":"#DIV/0!"},{"$error":"#DIV/0!"},{"$error":"#DIV/0!"},{"$error":"#DIV/0!"},{"$error":"#DIV/0!"},{"$error":"#DIV/0!"},{"$error":"#DIV/0!"},0,0,0,0,0,0,0,0,0,0,0,0,{"$error":"#DIV/0!"},{"$error":"#DIV/0!"},{"$error":"#DIV/0!"},{"$error":"#DIV/0!"},{"$error":"#DIV/0!"},{"$error":"#DIV/0!"},{"$error":"#DIV/0!"},{"$error":"#DIV/0!"},{"$error":"#DIV/0!"},{"$error":"#DIV/0!"},{"$error":"#DIV/0!"},{"$error":"#DIV/0!"}]
["Foam/Fibre Absorption Coefficient",null,null,null,null,null,null,null,null,null,null,null,null,null,null,null,null,null,null,null,null,null,null,50,{"$f":"2*PI()*X16","v":314.15926535897933},{"$f":"$B$22*X16/$B$20","v":{"$error":"#N/A"}},{"$f":"$B$22*$B$23*(1+($B$19*Z16^-$C$19))","v":{"$error":"#N/A"}},{"$f":"-$B$22*$B$23*($D$19*Z16^-$E$19)","v":{"$error":"#N/A"}},{"$f":"COMPLEX(ROUND(AA16,2),ROUND(AB16,2))","v":{"$error":"#N/A"}},{"$f":"(Y16/$B$23)*(1+($F$19*Z16^-$G$19))","v":{"$error":"#DIV/0!"}},{"$f":"(-Y16/$B$23)*($H$19*Z16^-$I$19)","v":{"$error":"#DIV/0!"}},{"$f":"COMPLEX(ROUND(AD16,2),ROUND(AE16,2))","v":{"$error":"#DIV/0!"}},{"$f":"COMPLEX(ROUND(IMREAL(IMPRODUCT(COMPLEX(0,-1),AC16,_xlfn.IMCOT(IMPRODUCT(AF16,$B$21)))),2),ROUND(IMAGINARY(IMPRODUCT(COMPLEX(0,-1),AC16,_xlfn.IMCOT(IMPRODUCT(AF16,$B$21)))),2))","v":{"$error":"#N/A"}},{"$f":"COMPLEX(ROUND(IMREAL(IMDIV(IMSUB(AG16,COMPLEX(($B$22*$B$23),0)),IMSUM(AG16,COMPLEX(($B$22*$B$23),0)))),2),ROUND(IMAGINARY(IMDIV(IMSUB(AG16,COMPLEX(($B$22*$B$23),0)),IMSUM(AG16,COMPLEX(($B$22*$B$23),0)))),2))","v":{"$error":"#N/A"}},{"$f":"1-(IMABS(AH16)^2)","v":{"$error":"#N/A"}},50,{"$f":"2*PI()*AJ16","v":314.15926535897933},{"$error":"#N/A"},{"$error":"#N/A"},{"$error":"#N/A"},{"$f":"COMPLEX(ROUND(AM16,2),ROUND(AN16,2))","v":{"$error":"#N/A"}},{"$error":"#DIV/0!"},{"$error":"#DIV/0!"},{"$f":"COMPLEX(ROUND(AP16,2),ROUND(AQ16,2))","v":{"$error":"#DIV/0!"}},{"$error":"#N/A"},{"$error":"#N/A"},{"$f":"1-(IMABS(AT16)^2)","v":{"$error":"#N/A"}},50,{"$f":"2*PI()*AV16","v":314.15926535897933},{"$error":"#N/A"},{"$error":"#N/A"},{"$error":"#N/A"},{"$f":"COMPLEX(ROUND(AY16,2),ROUND(AZ16,2))","v":{"$error":"#N/A"}},{"$error":"#DIV/0!"},{"$error":"#DIV/0!"},{"$f":"COMPLEX(ROUND(BB16,2),ROUND(BC16,2))","v":{"$error":"#DIV/0!"}},{"$error":"#N/A"},{"$error":"#N/A"},{"$f":"1-(IMABS(BF16)^2)","v":{"$error":"#N/A"}},50,{"$f":"2*PI()*BH16","v":314.15926535897933},{"$error":"#N/A"},{"$error":"#N/A"},{"$error":"#N/A"},{"$f":"COMPLEX(ROUND(BK16,2),ROUND(BL16,2))","v":{"$error":"#N/A"}},{"$error":"#DIV/0!"},{"$error":"#DIV/0!"},{"$f":"COMPLEX(ROUND(BN16,2),ROUND(BO16,2))","v":{"$error":"#DIV/0!"}},{"$error":"#N/A"},{"$error":"#N/A"},{"$f":"1-(IMABS(BR16)^2)","v":{"$error":"#N/A"}},50,{"$f":"2*PI()*BT16","v":314.15926535897933},{"$error":"#N/A"},{"$error":"#N/A"},{"$error":"#N/A"},{"$f":"COMPLEX(ROUND(BW16,2),ROUND(BX16,2))","v":{"$error":"#N/A"}},{"$error":"#DIV/0!"},{"$error":"#DIV/0!"},{"$f":"COMPLEX(ROUND(BZ16,2),ROUND(CA16,2))","v":{"$error":"#DIV/0!"}},{"$error":"#N/A"},{"$error":"#N/A"},{"$f":"1-(IMABS(CD16)^2)","v":{"$error":"#N/A"}},50,{"$f":"2*PI()*CF16","v":314.15926535897933},{"$error":"#N/A"},{"$error":"#N/A"},{"$error":"#N/A"},{"$f":"COMPLEX(ROUND(CI16,2),ROUND(CJ16,2))","v":{"$error":"#N/A"}},{"$error":"#DIV/0!"},{"$error":"#DIV/0!"},{"$f":"COMPLEX(ROUND(CL16,2),ROUND(CM16,2))","v":{"$error":"#DIV/0!"}},{"$error":"#N/A"},{"$error":"#N/A"},{"$f":"1-(IMABS(CP16)^2)","v":{"$error":"#N/A"}},null,null,50,{"$f":"2*PI()*CT16","v":314.15926535897933},{"$error":"#DIV/0!"},{"$error":"#DIV/0!"},{"$error":"#DIV/0!"},{"$error":"#DIV/0!"},{"$error":"#DIV/0!"},{"$error":"#DIV/0!"},{"$error":"#DIV/0!"},{"$error":"#DIV/0!"},{"$error":"#DIV/0!"},{"$error":"#DIV/0!"},50,{"$f":"2*PI()*DF16","v":314.15926535897933},{"$error":"#DIV/0!"},{"$error":"#DIV/0!"},{"$error":"#DIV/0!"},{"$error":"#DIV/0!"},{"$error":"#DIV/0!"},{"$error":"#DIV/0!"},{"$error":"#DIV/0!"},{"$error":"#DIV/0!"},{"$error":"#DIV/0!"},{"$error":"#DIV/0!"},50,{"$f":"2*PI()*DR16","v":314.15926535897933},{"$error":"#DIV/0!"},{"$error":"#DIV/0!"},{"$error":"#DIV/0!"},{"$error":"#DIV/0!"},{"$error":"#DIV/0!"},{"$error":"#DIV/0!"},{"$error":"#DIV/0!"},{"$error":"#DIV/0!"},{"$error":"#DIV/0!"},{"$error":"#DIV/0!"},50,{"$f":"2*PI()*ED16","v":314.15926535897933},{"$error":"#DIV/0!"},{"$error":"#DIV/0!"},{"$error":"#DIV/0!"},{"$error":"#DIV/0!"},{"$error":"#DIV/0!"},{"$error":"#DIV/0!"},{"$error":"#DIV/0!"},{"$error":"#DIV/0!"},{"$error":"#DIV/0!"},{"$error":"#DIV/0!"},50,{"$f":"2*PI()*EP16","v":314.15926535897933},{"$error":"#DIV/0!"},{"$error":"#DIV/0!"},{"$error":"#DIV/0!"},{"$error":"#DIV/0!"},{"$error":"#DIV/0!"},{"$error":"#DIV/0!"},{"$error":"#DIV/0!"},{"$error":"#DIV/0!"},{"$error":"#DIV/0!"},{"$error":"#DIV/0!"},50,{"$f":"2*PI()*FB16","v":314.15926535897933},{"$error":"#DIV/0!"},{"$error":"#DIV/0!"},{"$error":"#DIV/0!"},{"$error":"#DIV/0!"},{"$error":"#DIV/0!"},{"$error":"#DIV/0!"},{"$error":"#DIV/0!"},{"$error":"#DIV/0!"},{"$error":"#DIV/0!"},{"$error":"#DIV/0!"},null,{"$error":"#N/A"},{"$error":"#N/A"},{"$error":"#N/A"},{"$error":"#N/A"},{"$error":"#N/A"},{"$error":"#N/A"},null,{"$error":"#DIV/0!"},{"$error":"#DIV/0!"},{"$error":"#DIV/0!"},{"$error":"#DIV/0!"},{"$error":"#DIV/0!"},{"$error":"#DIV/0!"},false,0,null,null,null,null,50,314.15926535897933,{"$error":"#N/A"},{"$error":"#N/A"},{"$error":"#N/A"},{"$error":"#N/A"},{"$error":"#DIV/0!"},{"$error":"#DIV/0!"},{"$error":"#DIV/0!"},{"$error":"#N/A"},{"$error":"#N/A"},{"$error":"#N/A"},50,314.15926535897933,{"$error":"#N/A"},{"$error":"#N/A"},{"$error":"#N/A"},{"$error":"#N/A"},{"$error":"#DIV/0!"},{"$error":"#DIV/0!"},{"$error":"#DIV/0!"},{"$error":"#N/A"},{"$error":"#N/A"},{"$error":"#N/A"},50,314.15926535897933,{"$error":"#N/A"},{"$error":"#N/A"},{"$error":"#N/A"},{"$error":"#N/A"},{"$error":"#DIV/0!"},{"$error":"#DIV/0!"},{"$error":"#DIV/0!"},{"$error":"#N/A"},{"$error":"#N/A"},{"$error":"#N/A"},50,314.15926535897933,{"$error":"#N/A"},{"$error":"#N/A"},{"$error":"#N/A"},{"$error":"#N/A"},{"$error":"#DIV/0!"},{"$error":"#DIV/0!"},{"$error":"#DIV/0!"},{"$error":"#N/A"},{"$error":"#N/A"},{"$error":"#N/A"},50,314.15926535897933,{"$error":"#N/A"},{"$error":"#N/A"},{"$error":"#N/A"},{"$error":"#N/A"},{"$error":"#DIV/0!"},{"$error":"#DIV/0!"},{"$error":"#DIV/0!"},{"$error":"#N/A"},{"$error":"#N/A"},{"$error":"#N/A"},50,314.15926535897933,{"$error":"#N/A"},{"$error":"#N/A"},{"$error":"#N/A"},{"$error":"#N/A"},{"$error":"#DIV/0!"},{"$error":"#DIV/0!"},{"$error":"#DIV/0!"},{"$error":"#N/A"},{"$error":"#N/A"},{"$error":"#N/A"},null,null,50,314.15926535897933,{"$error":"#DIV/0!"},{"$error":"#DIV/0!"},{"$error":"#DIV/0!"},{"$error":"#DIV/0!"},{"$error":"#DIV/0!"},{"$error":"#DIV/0!"},{"$error":"#DIV/0!"},{"$error":"#DIV/0!"},{"$error":"#DIV/0!"},{"$error":"#DIV/0!"},50,314.15926535897933,{"$error":"#DIV/0!"},{"$error":"#DIV/0!"},{"$error":"#DIV/0!"},{"$error":"#DIV/0!"},{"$error":"#DIV/0!"},{"$error":"#DIV/0!"},{"$error":"#DIV/0!"},{"$error":"#DIV/0!"},{"$error":"#DIV/0!"},{"$error":"#DIV/0!"},50,314.15926535897933,{"$error":"#DIV/0!"},{"$error":"#DIV/0!"},{"$error":"#DIV/0!"},{"$error":"#DIV/0!"},{"$error":"#DIV/0!"},{"$error":"#DIV/0!"},{"$error":"#DIV/0!"},{"$error":"#DIV/0!"},{"$error":"#DIV/0!"},{"$error":"#DIV/0!"},50,314.15926535897933,{"$error":"#DIV/0!"},{"$error":"#DIV/0!"},{"$error":"#DIV/0!"},{"$error":"#DIV/0!"},{"$error":"#DIV/0!"},{"$error":"#DIV/0!"},{"$error":"#DIV/0!"},{"$error":"#DIV/0!"},{"$error":"#DIV/0!"},{"$error":"#DIV/0!"},50,314.15926535897933,{"$error":"#DIV/0!"},{"$error":"#DIV/0!"},{"$error":"#DIV/0!"},{"$error":"#DIV/0!"},{"$error":"#DIV/0!"},{"$error":"#DIV/0!"},{"$error":"#DIV/0!"},{"$error":"#DIV/0!"},{"$error":"#DIV/0!"},{"$error":"#DIV/0!"},50,314.15926535897933,{"$error":"#DIV/0!"},{"$error":"#DIV/0!"},{"$error":"#DIV/0!"},{"$error":"#DIV/0!"},{"$error":"#DIV/0!"},{"$error":"#DIV/0!"},{"$error":"#DIV/0!"},{"$error":"#DIV/0!"},{"$error":"#DIV/0!"},{"$error":"#DIV/0!"},null,{"$error":"#N/A"},{"$error":"#N/A"},{"$error":"#N/A"},{"$error":"#N/A"},{"$error":"#N/A"},{"$error":"#N/A"},null,{"$error":"#DIV/0!"},{"$error":"#DIV/0!"},{"$error":"#DIV/0!"},{"$error":"#DIV/0!"},{"$error":"#DIV/0!"},{"$error":"#DIV/0!"},false,0,{"$error":"#DIV/0!"},{"$error":"#DIV/0!"},{"$error":"#DIV/0!"},{"$error":"#DIV/0!"},{"$error":"#DIV/0!"},{"$error":"#DIV/0!"},{"$error":"#DIV/0!"},{"$error":"#DIV/0!"},{"$error":"#DIV/0!"},{"$error":"#DIV/0!"},{"$error":"#DIV/0!"},{"$error":"#DIV/0!"},0,0,0,0,0,0,0,0,0,0,0,0,{"$error":"#DIV/0!"},{"$error":"#DIV/0!"},{"$error":"#DIV/0!"},{"$error":"#DIV/0!"},{"$error":"#DIV/0!"},{"$error":"#DIV/0!"},{"$error":"#DIV/0!"},{"$error":"#DIV/0!"},{"$error":"#DIV/0!"},{"$error":"#DIV/0!"},{"$error":"#DIV/0!"},{"$error":"#DIV/0!"}]
["SOURCE - Foam/Fibre",null,null,null,null,null,null,null,null,null,null,null,null,null,null,null,null,null,null,null,null,null,null,63,395.84067435231395,{"$error":"#N/A"},{"$error":"#N/A"},{"$error":"#N/A"},{"$error":"#N/A"},{"$error":"#DIV/0!"},{"$error":"#DIV/0!"},{"$error":"#DIV/0!"},{"$error":"#N/A"},{"$error":"#N/A"},{"$error":"#N/A"},63,395.84067435231395,{"$error":"#N/A"},{"$error":"#N/A"},{"$error":"#N/A"},{"$error":"#N/A"},{"$error":"#DIV/0!"},{"$error":"#DIV/0!"},{"$error":"#DIV/0!"},{"$error":"#N/A"},{"$error":"#N/A"},{"$error":"#N/A"},63,395.84067435231395,{"$error":"#N/A"},{"$error":"#N/A"},{"$error":"#N/A"},{"$error":"#N/A"},{"$error":"#DIV/0!"},{"$error":"#DIV/0!"},{"$error":"#DIV/0!"},{"$error":"#N/A"},{"$error":"#N/A"},{"$error":"#N/A"},63,395.84067435231395,{"$error":"#N/A"},{"$error":"#N/A"},{"$error":"#N/A"},{"$error":"#N/A"},{"$error":"#DIV/0!"},{"$error":"#DIV/0!"},{"$error":"#DIV/0!"},{"$error":"#N/A"},{"$error":"#N/A"},{"$error":"#N/A"},63,395.84067435231395,{"$error":"#N/A"},{"$error":"#N/A"},{"$error":"#N/A"},{"$error":"#N/A"},{"$error":"#DIV/0!"},{"$error":"#DIV/0!"},{"$error":"#DIV/0!"},{"$error":"#N/A"},{"$error":"#N/A"},{"$error":"#N/A"},63,395.84067435231395,{"$error":"#N/A"},{"$error":"#N/A"},{"$error":"#N/A"},{"$error":"#N/A"},{"$error":"#DIV/0!"},{"$error":"#DIV/0!"},{"$error":"#DIV/0!"},{"$error":"#N/A"},{"$error":"#N/A"},{"$error":"#N/A"},null,null,63,395.84067435231395,{"$error":"#DIV/0!"},{"$error":"#DIV/0!"},{"$error":"#DIV/0!"},{"$error":"#DIV/0!"},{"$error":"#DIV/0!"},{"$error":"#DIV/0!"},{"$error":"#DIV/0!"},{"$error":"#DIV/0!"},{"$error":"#DIV/0!"},{"$error":"#DIV/0!"},63,395.84067435231395,{"$error":"#DIV/0!"},{"$error":"#DIV/0!"},{"$error":"#DIV/0!"},{"$error":"#DIV/0!"},{"$error":"#DIV/0!"},{"$error":"#DIV/0!"},{"$error":"#DIV/0!"},{"$error":"#DIV/0!"},{"$error":"#DIV/0!"},{"$error":"#DIV/0!"},63,395.84067435231395,{"$error":"#DIV/0!"},{"$error":"#DIV/0!"},{"$error":"#DIV/0!"},{"$error":"#DIV/0!"},{"$error":"#DIV/0!"},{"$error":"#DIV/0!"},{"$error":"#DIV/0!"},{"$error":"#DIV/0!"},{"$error":"#DIV/0!"},{"$error":"#DIV/0!"},63,395.84067435231395,{"$error":"#DIV/0!"},{"$error":"#DIV/0!"},{"$error":"#DIV/0!"},{"$error":"#DIV/0!"},{"$error":"#DIV/0!"},{"$error":"#DIV/0!"},{"$error":"#DIV/0!"},{"$error":"#DIV/0!"},{"$error":"#DIV/0!"},{"$error":"#DIV/0!"},63,395.84067435231395,{"$error":"#DIV/0!"},{"$error":"#DIV/0!"},{"$error":"#DIV/0!"},{"$error":"#DIV/0!"},{"$error":"#DIV/0!"},{"$error":"#DIV/0!"},{"$error":"#DIV/0!"},{"$error":"#DIV/0!"},{"$error":"#DIV/0!"},{"$error":"#DIV/0!"},63,395.84067435231395,{"$error":"#DIV/0!"},{"$error":"#DIV/0!"},{"$error":"#DIV/0!"},{"$error":"#DIV/0!"},{"$error":"#DIV/0!"},{"$error":"#DIV/0!"},{"$error":"#DIV/0!"},{"$error":"#DIV/0!"},{"$error":"#DIV/0!"},{"$error":"#DIV/0!"},null,{"$error":"#N/A"},{"$error":"#N/A"},{"$error":"#N/A"},{"$error":"#N/A"},{"$error":"#N/A"},{"$error":"#N/A"},null,{"$error":"#DIV/0!"},{"$error":"#DIV/0!"},{"$error":"#DIV/0!"},{"$error":"#DIV/0!"},{"$error":"#DIV/0!"},{"$error":"#DIV/0!"},false,0,null,null,null,null,63,395.84067435231395,{"$error":"#N/A"},{"$error":"#N/A"},{"$error":"#N/A"},{"$error":"#N/A"},{"$error":"#DIV/0!"},{"$error":"#DIV/0!"},{"$error":"#DIV/0!"},{"$error":"#N/A"},{"$error":"#N/A"},{"$error":"#N/A"},63,395.84067435231395,{"$error":"#N/A"},{"$error":"#N/A"},{"$error":"#N/A"},{"$error":"#N/A"},{"$error":"#DIV/0!"},{"$error":"#DIV/0!"},{"$error":"#DIV/0!"},{"$error":"#N/A"},{"$error":"#N/A"},{"$error":"#N/A"},63,395.84067435231395,{"$error":"#N/A"},{"$error":"#N/A"},{"$error":"#N/A"},{"$error":"#N/A"},{"$error":"#DIV/0!"},{"$error":"#DIV/0!"},{"$error":"#DIV/0!"},{"$error":"#N/A"},{"$error":"#N/A"},{"$error":"#N/A"},63,395.84067435231395,{"$error":"#N/A"},{"$error":"#N/A"},{"$error":"#N/A"},{"$error":"#N/A"},{"$error":"#DIV/0!"},{"$error":"#DIV/0!"},{"$error":"#DIV/0!"},{"$error":"#N/A"},{"$error":"#N/A"},{"$error":"#N/A"},63,395.84067435231395,{"$error":"#N/A"},{"$error":"#N/A"},{"$error":"#N/A"},{"$error":"#N/A"},{"$error":"#DIV/0!"},{"$error":"#DIV/0!"},{"$error":"#DIV/0!"},{"$error":"#N/A"},{"$error":"#N/A"},{"$error":"#N/A"},63,395.84067435231395,{"$error":"#N/A"},{"$error":"#N/A"},{"$error":"#N/A"},{"$error":"#N/A"},{"$error":"#DIV/0!"},{"$error":"#DIV/0!"},{"$error":"#DIV/0!"},{"$error":"#N/A"},{"$error":"#N/A"},{"$error":"#N/A"},null,null,63,395.84067435231395,{"$error":"#DIV/0!"},{"$error":"#DIV/0!"},{"$error":"#DIV/0!"},{"$error":"#DIV/0!"},{"$error":"#DIV/0!"},{"$error":"#DIV/0!"},{"$error":"#DIV/0!"},{"$error":"#DIV/0!"},{"$error":"#DIV/0!"},{"$error":"#DIV/0!"},63,395.84067435231395,{"$error":"#DIV/0!"},{"$error":"#DIV/0!"},{"$error":"#DIV/0!"},{"$error":"#DIV/0!"},{"$error":"#DIV/0!"},{"$error":"#DIV/0!"},{"$error":"#DIV/0!"},{"$error":"#DIV/0!"},{"$error":"#DIV/0!"},{"$error":"#DIV/0!"},63,395.84067435231395,{"$error":"#DIV/0!"},{"$error":"#DIV/0!"},{"$error":"#DIV/0!"},{"$error":"#DIV/0!"},{"$error":"#DIV/0!"},{"$error":"#DIV/0!"},{"$error":"#DIV/0!"},{"$error":"#DIV/0!"},{"$error":"#DIV/0!"},{"$error":"#DIV/0!"},63,395.84067435231395,{"$error":"#DIV/0!"},{"$error":"#DIV/0!"},{"$error":"#DIV/0!"},{"$error":"#DIV/0!"},{"$error":"#DIV/0!"},{"$error":"#DIV/0!"},{"$error":"#DIV/0!"},{"$error":"#DIV/0!"},{"$error":"#DIV/0!"},{"$error":"#DIV/0!"},63,395.84067435231395,{"$error":"#DIV/0!"},{"$error":"#DIV/0!"},{"$error":"#DIV/0!"},{"$error":"#DIV/0!"},{"$error":"#DIV/0!"},{"$error":"#DIV/0!"},{"$error":"#DIV/0!"},{"$error":"#DIV/0!"},{"$error":"#DIV/0!"},{"$error":"#DIV/0!"},63,395.84067435231395,{"$error":"#DIV/0!"},{"$error":"#DIV/0!"},{"$error":"#DIV/0!"},{"$error":"#DIV/0!"},{"$error":"#DIV/0!"},{"$error":"#DIV/0!"},{"$error":"#DIV/0!"},{"$error":"#DIV/0!"},{"$error":"#DIV/0!"},{"$error":"#DIV/0!"},null,{"$error":"#N/A"},{"$error":"#N/A"},{"$error":"#N/A"},{"$error":"#N/A"},{"$error":"#N/A"},{"$error":"#N/A"},null,{"$error":"#DIV/0!"},{"$error":"#DIV/0!"},{"$error":"#DIV/0!"},{"$error":"#DIV/0!"},{"$error":"#DIV/0!"},{"$error":"#DIV/0!"},false,0,{"$error":"#DIV/0!"},{"$error":"#DIV/0!"},{"$error":"#DIV/0!"},{"$error":"#DIV/0!"},{"$error":"#DIV/0!"},{"$error":"#DIV/0!"},{"$error":"#DIV/0!"},{"$error":"#DIV/0!"},{"$error":"#DIV/0!"},{"$error":"#DIV/0!"},{"$error":"#DIV/0!"},{"$error":"#DIV/0!"},0,0,0,0,0,0,0,0,0,0,0,0,{"$error":"#DIV/0!"},{"$error":"#DIV/0!"},{"$error":"#DIV/0!"},{"$error":"#DIV/0!"},{"$error":"#DIV/0!"},{"$error":"#DIV/0!"},{"$error":"#DIV/0!"},{"$error":"#DIV/0!"},{"$error":"#DIV/0!"},{"$error":"#DIV/0!"},{"$error":"#DIV/0!"},{"$error":"#DIV/0!"}]
[" α1"," C1"," C2"," C3"," C4"," C5"," C6"," C7"," C8",null,null,null,"Absorption Material","Flow Resistivity (rayls/m)",null,null,null,null,null,null,null,null,null,80,502.6548245743669,{"$error":"#N/A"},{"$error":"#N/A"},{"$error":"#N/A"},{"$error":"#N/A"},{"$error":"#DIV/0!"},{"$error":"#DIV/0!"},{"$error":"#DIV/0!"},{"$error":"#N/A"},{"$error":"#N/A"},{"$error":"#N/A"},80,502.6548245743669,{"$error":"#N/A"},{"$error":"#N/A"},{"$error":"#N/A"},{"$error":"#N/A"},{"$error":"#DIV/0!"},{"$error":"#DIV/0!"},{"$error":"#DIV/0!"},{"$error":"#N/A"},{"$error":"#N/A"},{"$error":"#N/A"},80,502.6548245743669,{"$error":"#N/A"},{"$error":"#N/A"},{"$error":"#N/A"},{"$error":"#N/A"},{"$error":"#DIV/0!"},{"$error":"#DIV/0!"},{"$error":"#DIV/0!"},{"$error":"#N/A"},{"$error":"#N/A"},{"$error":"#N/A"},80,502.6548245743669,{"$error":"#N/A"},{"$error":"#N/A"},{"$error":"#N/A"},{"$error":"#N/A"},{"$error":"#DIV/0!"},{"$error":"#DIV/0!"},{"$error":"#DIV/0!"},{"$error":"#N/A"},{"$error":"#N/A"},{"$error":"#N/A"},80,502.6548245743669,{"$error":"#N/A"},{"$error":"#N/A"},{"$error":"#N/A"},{"$error":"#N/A"},{"$error":"#DIV/0!"},{"$error":"#DIV/0!"},{"$error":"#DIV/0!"},{"$error":"#N/A"},{"$error":"#N/A"},{"$error":"#N/A"},80,502.6548245743669,{"$error":"#N/A"},{"$error":"#N/A"},{"$error":"#N/A"},{"$error":"#N/A"},{"$error":"#DIV/0!"},{"$error":"#DIV/0!"},{"$error":"#DIV/0!"},{"$error":"#N/A"},{"$error":"#N/A"},{"$error":"#N/A"},null,null,80,502.6548245743669,{"$error":"#DIV/0!"},{"$error":"#DIV/0!"},{"$error":"#DIV/0!"},{"$error":"#DIV/0!"},{"$error":"#DIV/0!"},{"$error":"#DIV/0!"},{"$error":"#DIV/0!"},{"$error":"#DIV/0!"},{"$error":"#DIV/0!"},{"$error":"#DIV/0!"},80,502.6548245743669,{"$error":"#DIV/0!"},{"$error":"#DIV/0!"},{"$error":"#DIV/0!"},{"$error":"#DIV/0!"},{"$error":"#DIV/0!"},{"$error":"#DIV/0!"},{"$error":"#DIV/0!"},{"$error":"#DIV/0!"},{"$error":"#DIV/0!"},{"$error":"#DIV/0!"},80,502.6548245743669,{"$error":"#DIV/0!"},{"$error":"#DIV/0!"},{"$error":"#DIV/0!"},{"$error":"#DIV/0!"},{"$error":"#DIV/0!"},{"$error":"#DIV/0!"},{"$error":"#DIV/0!"},{"$error":"#DIV/0!"},{"$error":"#DIV/0!"},{"$error":"#DIV/0!"},80,502.6548245743669,{"$error":"#DIV/0!"},{"$error":"#DIV/0!"},{"$error":"#DIV/0!"},{"$error":"#DIV/0!"},{"$error":"#DIV/0!"},{"$error":"#DIV/0!"},{"$error":"#DIV/0!"},{"$error":"#DIV/0!"},{"$error":"#DIV/0!"},{"$error":"#DIV/0!"},80,502.6548245743669,{"$error":"#DIV/0!"},{"$error":"#DIV/0!"},{"$error":"#DIV/0!"},{"$error":"#DIV/0!"},{"$error":"#DIV/0!"},{"$error":"#DIV/0!"},{"$error":"#DIV/0!"},{"$error":"#DIV/0!"},{"$error":"#DIV/0!"},{"$error":"#DIV/0!"},80,502.6548245743669,{"$error":"#DIV/0!"},{"$error":"#DIV/0!"},{"$error":"#DIV/0!"},{"$error":"#DIV/0!"},{"$error":"#DIV/0!"},{"$error":"#DIV/0!"},{"$error":"#DIV/0!"},{"$error":"#DIV/0!"},{"$error":"#DIV/0!"},{"$error":"#DIV/0!"},null,{"$error":"#N/A"},{"$error":"#N/A"},{"$error":"#N/A"},{"$error":"#N/A"},{"$error":"#N/A"},{"$error":"#N/A"},null,{"$error":"#DIV/0!"},{"$error":"#DIV/0!"},{"$error":"#DIV/0!"},{"$error":"#DIV/0!"},{"$error":"#DIV/0!"},{"$error":"#DIV/0!"},false,0,null,null,null,null,80,502.6548245743669,{"$error":"#N/A"},{"$error":"#N/A"},{"$error":"#N/A"},{"$error":"#N/A"},{"$error":"#DIV/0!"},{"$error":"#DIV/0!"},{"$error":"#DIV/0!"},{"$error":"#N/A"},{"$error":"#N/A"},{"$error":"#N/A"},80,502.6548245743669,{"$error":"#N/A"},{"$error":"#N/A"},{"$error":"#N/A"},{"$error":"#N/A"},{"$error":"#DIV/0!"},{"$error":"#DIV/0!"},{"$error":"#DIV/0!"},{"$error":"#N/A"},{"$error":"#N/A"},{"$error":"#N/A"},80,502.6548245743669,{"$error":"#N/A"},{"$error":"#N/A"},{"$error":"#N/A"},{"$error":"#N/A"},{"$error":"#DIV/0!"},{"$error":"#DIV/0!"},{"$error":"#DIV/0!"},{"$error":"#N/A"},{"$error":"#N/A"},{"$error":"#N/A"},80,502.6548245743669,{"$error":"#N/A"},{"$error":"#N/A"},{"$error":"#N/A"},{"$error":"#N/A"},{"$error":"#DIV/0!"},{"$error":"#DIV/0!"},{"$error":"#DIV/0!"},{"$error":"#N/A"},{"$error":"#N/A"},{"$error":"#N/A"},80,502.6548245743669,{"$error":"#N/A"},{"$error":"#N/A"},{"$error":"#N/A"},{"$error":"#N/A"},{"$error":"#DIV/0!"},{"$error":"#DIV/0!"},{"$error":"#DIV/0!"},{"$error":"#N/A"},{"$error":"#N/A"},{"$error":"#N/A"},80,502.6548245743669,{"$error":"#N/A"},{"$error":"#N/A"},{"$error":"#N/A"},{"$error":"#N/A"},{"$error":"#DIV/0!"},{"$error":"#DIV/0!"},{"$error":"#DIV/0!"},{"$error":"#N/A"},{"$error":"#N/A"},{"$error":"#N/A"},null,null,80,502.6548245743669,{"$error":"#DIV/0!"},{"$error":"#DIV/0!"},{"$error":"#DIV/0!"},{"$error":"#DIV/0!"},{"$error":"#DIV/0!"},{"$error":"#DIV/0!"},{"$error":"#DIV/0!"},{"$error":"#DIV/0!"},{"$error":"#DIV/0!"},{"$error":"#DIV/0!"},80,502.6548245743669,{"$error":"#DIV/0!"},{"$error":"#DIV/0!"},{"$error":"#DIV/0!"},{"$error":"#DIV/0!"},{"$error":"#DIV/0!"},{"$error":"#DIV/0!"},{"$error":"#DIV/0!"},{"$error":"#DIV/0!"},{"$error":"#DIV/0!"},{"$error":"#DIV/0!"},80,502.6548245743669,{"$error":"#DIV/0!"},{"$error":"#DIV/0!"},{"$error":"#DIV/0!"},{"$error":"#DIV/0!"},{"$error":"#DIV/0!"},{"$error":"#DIV/0!"},{"$error":"#DIV/0!"},{"$error":"#DIV/0!"},{"$error":"#DIV/0!"},{"$error":"#DIV/0!"},80,502.6548245743669,{"$error":"#DIV/0!"},{"$error":"#DIV/0!"},{"$error":"#DIV/0!"},{"$error":"#DIV/0!"},{"$error":"#DIV/0!"},{"$error":"#DIV/0!"},{"$error":"#DIV/0!"},{"$error":"#DIV/0!"},{"$error":"#DIV/0!"},{"$error":"#DIV/0!"},80,502.6548245743669,{"$error":"#DIV/0!"},{"$error":"#DIV/0!"},{"$error":"#DIV/0!"},{"$error":"#DIV/0!"},{"$error":"#DIV/0!"},{"$error":"#DIV/0!"},{"$error":"#DIV/0!"},{"$error":"#DIV/0!"},{"$error":"#DIV/0!"},{"$error":"#DIV/0!"},80,502.6548245743669,{"$error":"#DIV/0!"},{"$error":"#DIV/0!"},{"$error":"#DIV/0!"},{"$error":"#DIV/0!"},{"$error":"#DIV/0!"},{"$error":"#DIV/0!"},{"$error":"#DIV/0!"},{"$error":"#DIV/0!"},{"$error":"#DIV/0!"},{"$error":"#DIV/0!"},null,{"$error":"#N/A"},{"$error":"#N/A"},{"$error":"#N/A"},{"$error":"#N/A"},{"$error":"#N/A"},{"$error":"#N/A"},null,{"$error":"#DIV/0!"},{"$error":"#DIV/0!"},{"$error":"#DIV/0!"},{"$error":"#DIV/0!"},{"$error":"#DIV/0!"},{"$error":"#DIV/0!"},false,0,{"$error":"#DIV/0!"},{"$error":"#DIV/0!"},{"$error":"#DIV/0!"},{"$error":"#DIV/0!"},{"$error":"#DIV/0!"},{"$error":"#DIV/0!"},{"$error":"#DIV/0!"},{"$error":"#DIV/0!"},{"$error":"#DIV/0!"},{"$error":"#DIV/0!"},{"$error":"#DIV/0!"},{"$error":"#DIV/0!"},0,0,0,0,0,0,0,0,0,0,0,0,{"$error":"#DIV/0!"},{"$error":"#DIV/0!"},{"$error":"#DIV/0!"},{"$error":"#DIV/0!"},{"$error":"#DIV/0!"},{"$error":"#DIV/0!"},{"$error":"#DIV/0!"},{"$error":"#DIV/0!"},{"$error":"#DIV/0!"},{"$error":"#DIV/0!"},{"$error":"#DIV/0!"},{"$error":"#DIV/0!"}]
[null,{"$f":"VLOOKUP(A19,A3:I6,2,FALSE)","v":{"$error":"#N/A"}},{"$f":"VLOOKUP(A19,A3:I6,3,FALSE)","v":{"$error":"#N/A"}},{"$f":"VLOOKUP(A19,A3:I6,4,FALSE)","v":{"$error":"#N/A"}},{"$f":"VLOOKUP(A19,A3:I6,5,FALSE)","v":{"$error":"#N/A"}},{"$f":"VLOOKUP(A19,A3:I6,6,FALSE)","v":{"$error":"#N/A"}},{"$f":"VLOOKUP(A19,A3:I6,7,FALSE)","v":{"$error":"#N/A"}},{"$f":"VLOOKUP(A19,A3:I6,8,FALSE)","v":{"$error":"#N/A"}},{"$f":"VLOOKUP(A19,A3:I6,9,FALSE)","v":{"$error":"#N/A"}},null,null,null,"Glasswool (Fibrous) - CVG",2475,null,null,null,null,null,null,null,null,null,100,628.31853071795865,{"$error":"#N/A"},{"$error":"#N/A"},{"$error":"#N/A"},{"$error":"#N/A"},{"$error":"#DIV/0!"},{"$error":"#DIV/0!"},{"$error":"#DIV/0!"},{"$error":"#N/A"},{"$error":"#N/A"},{"$error":"#N/A"},100,628.31853071795865,{"$error":"#N/A"},{"$error":"#N/A"},{"$error":"#N/A"},{"$error":"#N/A"},{"$error":"#DIV/0!"},{"$error":"#DIV/0!"},{"$error":"#DIV/0!"},{"$error":"#N/A"},{"$error":"#N/A"},{"$error":"#N/A"},100,628.31853071795865,{"$error":"#N/A"},{"$error":"#N/A"},{"$error":"#N/A"},{"$error":"#N/A"},{"$error":"#DIV/0!"},{"$error":"#DIV/0!"},{"$error":"#DIV/0!"},{"$error":"#N/A"},{"$error":"#N/A"},{"$error":"#N/A"},100,628.31853071795865,{"$error":"#N/A"},{"$error":"#N/A"},{"$error":"#N/A"},{"$error":"#N/A"},{"$error":"#DIV/0!"},{"$error":"#DIV/0!"},{"$error":"#DIV/0!"},{"$error":"#N/A"},{"$error":"#N/A"},{"$error":"#N/A"},100,628.31853071795865,{"$error":"#N/A"},{"$error":"#N/A"},{"$error":"#N/A"},{"$error":"#N/A"},{"$error":"#DIV/0!"},{"$error":"#DIV/0!"},{"$error":"#DIV/0!"},{"$error":"#N/A"},{"$error":"#N/A"},{"$error":"#N/A"},100,628.31853071795865,{"$error":"#N/A"},{"$error":"#N/A"},{"$error":"#N/A"},{"$error":"#N/A"},{"$error":"#DIV/0!"},{"$error":"#DIV/0!"},{"$error":"#DIV/0!"},{"$error":"#N/A"},{"$error":"#N/A"},{"$error":"#N/A"},null,null,100,628.31853071795865,{"$error":"#DIV/0!"},{"$error":"#DIV/0!"},{"$error":"#DIV/0!"},{"$error":"#DIV/0!"},{"$error":"#DIV/0!"},{"$error":"#DIV/0!"},{"$error":"#DIV/0!"},{"$error":"#DIV/0!"},{"$error":"#DIV/0!"},{"$error":"#DIV/0!"},100,628.31853071795865,{"$error":"#DIV/0!"},{"$error":"#DIV/0!"},{"$error":"#DIV/0!"},{"$error":"#DIV/0!"},{"$error":"#DIV/0!"},{"$error":"#DIV/0!"},{"$error":"#DIV/0!"},{"$error":"#DIV/0!"},{"$error":"#DIV/0!"},{"$error":"#DIV/0!"},100,628.31853071795865,{"$error":"#DIV/0!"},{"$error":"#DIV/0!"},{"$error":"#DIV/0!"},{"$error":"#DIV/0!"},{"$error":"#DIV/0!"},{"$error":"#DIV/0!"},{"$error":"#DIV/0!"},{"$error":"#DIV/0!"},{"$error":"#DIV/0!"},{"$error":"#DIV/0!"},100,628.31853071795865,{"$error":"#DIV/0!"},{"$error":"#DIV/0!"},{"$error":"#DIV/0!"},{"$error":"#DIV/0!"},{"$error":"#DIV/0!"},{"$error":"#DIV/0!"},{"$error":"#DIV/0!"},{"$error":"#DIV/0!"},{"$error":"#DIV/0!"},{"$error":"#DIV/0!"},100,628.31853071795865,{"$error":"#DIV/0!"},{"$error":"#DIV/0!"},{"$error":"#DIV/0!"},{"$error":"#DIV/0!"},{"$error":"#DIV/0!"},{"$error":"#DIV/0!"},{"$error":"#DIV/0!"},{"$error":"#DIV/0!"},{"$error":"#DIV/0!"},{"$error":"#DIV/0!"},100,628.31853071795865,{"$error":"#DIV/0!"},{"$error":"#DIV/0!"},{"$error":"#DIV/0!"},{"$error":"#DIV/0!"},{"$error":"#DIV/0!"},{"$error":"#DIV/0!"},{"$error":"#DIV/0!"},{"$error":"#DIV/0!"},{"$error":"#DIV/0!"},{"$error":"#DIV/0!"},null,{"$error":"#N/A"},{"$error":"#N/A"},{"$error":"#N/A"},{"$error":"#N/A"},{"$error":"#N/A"},{"$error":"#N/A"},null,{"$error":"#DIV/0!"},{"$error":"#DIV/0!"},{"$error":"#DIV/0!"},{"$error":"#DIV/0!"},{"$error":"#DIV/0!"},{"$error":"#DIV/0!"},false,0,null,null,null,null,100,628.31853071795865,{"$error":"#N/A"},{"$error":"#N/A"},{"$error":"#N/A"},{"$error":"#N/A"},{"$error":"#DIV/0!"},{"$error":"#DIV/0!"},{"$error":"#DIV/0!"},{"$error":"#N/A"},{"$error":"#N/A"},{"$error":"#N/A"},100,628.31853071795865,{"$error":"#N/A"},{"$error":"#N/A"},{"$error":"#N/A"},{"$error":"#N/A"},{"$error":"#DIV/0!"},{"$error":"#DIV/0!"},{"$error":"#DIV/0!"},{"$error":"#N/A"},{"$error":"#N/A"},{"$error":"#N/A"},100,628.31853071795865,{"$error":"#N/A"},{"$error":"#N/A"},{"$error":"#N/A"},{"$error":"#N/A"},{"$error":"#DIV/0!"},{"$error":"#DIV/0!"},{"$error":"#DIV/0!"},{"$error":"#N/A"},{"$error":"#N/A"},{"$error":"#N/A"},100,628.31853071795865,{"$error":"#N/A"},{"$error":"#N/A"},{"$error":"#N/A"},{"$error":"#N/A"},{"$error":"#DIV/0!"},{"$error":"#DIV/0!"},{"$error":"#DIV/0!"},{"$error":"#N/A"},{"$error":"#N/A"},{"$error":"#N/A"},100,628.31853071795865,{"$error":"#N/A"},{"$error":"#N/A"},{"$error":"#N/A"},{"$error":"#N/A"},{"$error":"#DIV/0!"},{"$error":"#DIV/0!"},{"$error":"#DIV/0!"},{"$error":"#N/A"},{"$error":"#N/A"},{"$error":"#N/A"},100,628.31853071795865,{"$error":"#N/A"},{"$error":"#N/A"},{"$error":"#N/A"},{"$error":"#N/A"},{"$error":"#DIV/0!"},{"$error":"#DIV/0!"},{"$error":"#DIV/0!"},{"$error":"#N/A"},{"$error":"#N/A"},{"$error":"#N/A"},null,null,100,628.31853071795865,{"$error":"#DIV/0!"},{"$error":"#DIV/0!"},{"$error":"#DIV/0!"},{"$error":"#DIV/0!"},{"$error":"#DIV/0!"},{"$error":"#DIV/0!"},{"$error":"#DIV/0!"},{"$error":"#DIV/0!"},{"$error":"#DIV/0!"},{"$error":"#DIV/0!"},100,628.31853071795865,{"$error":"#DIV/0!"},{"$error":"#DIV/0!"},{"$error":"#DIV/0!"},{"$error":"#DIV/0!"},{"$error":"#DIV/0!"},{"$error":"#DIV/0!"},{"$error":"#DIV/0!"},{"$error":"#DIV/0!"},{"$error":"#DIV/0!"},{"$error":"#DIV/0!"},100,628.31853071795865,{"$error":"#DIV/0!"},{"$error":"#DIV/0!"},{"$error":"#DIV/0!"},{"$error":"#DIV/0!"},{"$error":"#DIV/0!"},{"$error":"#DIV/0!"},{"$error":"#DIV/0!"},{"$error":"#DIV/0!"},{"$error":"#DIV/0!"},{"$error":"#DIV/0!"},100,628.31853071795865,{"$error":"#DIV/0!"},{"$error":"#DIV/0!"},{"$error":"#DIV/0!"},{"$error":"#DIV/0!"},{"$error":"#DIV/0!"},{"$error":"#DIV/0!"},{"$error":"#DIV/0!"},{"$error":"#DIV/0!"},{"$error":"#DIV/0!"},{"$error":"#DIV/0!"},100,628.31853071795865,{"$error":"#DIV/0!"},{"$error":"#DIV/0!"},{"$error":"#DIV/0!"},{"$error":"#DIV/0!"},{"$error":"#DIV/0!"},{"$error":"#DIV/0!"},{"$error":"#DIV/0!"},{"$error":"#DIV/0!"},{"$error":"#DIV/0!"},{"$error":"#DIV/0!"},100,628.31853071795865,{"$error":"#DIV/0!"},{"$error":"#DIV/0!"},{"$error":"#DIV/0!"},{"$error":"#DIV/0!"},{"$error":"#DIV/0!"},{"$error":"#DIV/0!"},{"$error":"#DIV/0!"},{"$error":"#DIV/0!"},{"$error":"#DIV/0!"},{"$error":"#DIV/0!"},null,{"$error":"#N/A"},{"$error":"#N/A"},{"$error":"#N/A"},{"$error":"#N/A"},{"$error":"#N/A"},{"$error":"#N/A"},null,{"$error":"#DIV/0!"},{"$error":"#DIV/0!"},{"$error":"#DIV/0!"},{"$error":"#DIV/0!"},{"$error":"#DIV/0!"},{"$error":"#DIV/0!"},false,0,{"$error":"#DIV/0!"},{"$error":"#DIV/0!"},{"$error":"#DIV/0!"},{"$error":"#DIV/0!"},{"$error":"#DIV/0!"},{"$error":"#DIV/0!"},{"$error":"#DIV/0!"},{"$error":"#DIV/0!"},{"$error":"#DIV/0!"},{"$error":"#DIV/0!"},{"$error":"#DIV/0!"},{"$error":"#DIV/0!"},0,0,0,0,0,0,0,0,0,0,0,0,{"$error":"#DIV/0!"},{"$error":"#DIV/0!"},{"$error":"#DIV/0!"},{"$error":"#DIV/0!"},{"$error":"#DIV/0!"},{"$error":"#DIV/0!"},{"$error":"#DIV/0!"},{"$error":"#DIV/0!"},{"$error":"#DIV/0!"},{"$error":"#DIV/0!"},{"$error":"#DIV/0!"},{"$error":"#DIV/0!"}]
["Material flow resistivity (R)",{"$f":"VLOOKUP(C20,'Path Considerations'!A24:B46,2,FALSE)","v":{"$error":"#N/A"}},null,null,null,null,null,null,null,null,null,null,"Glasswool (Fibrous) - Harley",1347,null,null,null,null,null,null,null,null,null,125,785.39816339744823,{"$error":"#N/A"},{"$error":"#N/A"},{"$error":"#N/A"},{"$error":"#N/A"},{"$error":"#DIV/0!"},{"$error":"#DIV/0!"},{"$error":"#DIV/0!"},{"$error":"#N/A"},{"$error":"#N/A"},{"$error":"#N/A"},125,785.39816339744823,{"$error":"#N/A"},{"$error":"#N/A"},{"$error":"#N/A"},{"$error":"#N/A"},{"$error":"#DIV/0!"},{"$error":"#DIV/0!"},{"$error":"#DIV/0!"},{"$error":"#N/A"},{"$error":"#N/A"},{"$error":"#N/A"},125,785.39816339744823,{"$error":"#N/A"},{"$error":"#N/A"},{"$error":"#N/A"},{"$error":"#N/A"},{"$error":"#DIV/0!"},{"$error":"#DIV/0!"},{"$error":"#DIV/0!"},{"$error":"#N/A"},{"$error":"#N/A"},{"$error":"#N/A"},125,785.39816339744823,{"$error":"#N/A"},{"$error":"#N/A"},{"$error":"#N/A"},{"$error":"#N/A"},{"$error":"#DIV/0!"},{"$error":"#DIV/0!"},{"$error":"#DIV/0!"},{"$error":"#N/A"},{"$error":"#N/A"},{"$error":"#N/A"},125,785.39816339744823,{"$error":"#N/A"},{"$error":"#N/A"},{"$error":"#N/A"},{"$error":"#N/A"},{"$error":"#DIV/0!"},{"$error":"#DIV/0!"},{"$error":"#DIV/0!"},{"$error":"#N/A"},{"$error":"#N/A"},{"$error":"#N/A"},125,785.39816339744823,{"$error":"#N/A"},{"$error":"#N/A"},{"$error":"#N/A"},{"$error":"#N/A"},{"$error":"#DIV/0!"},{"$error":"#DIV/0!"},{"$error":"#DIV/0!"},{"$error":"#N/A"},{"$error":"#N/A"},{"$error":"#N/A"},null,null,125,785.39816339744823,{"$error":"#DIV/0!"},{"$error":"#DIV/0!"},{"$error":"#DIV/0!"},{"$error":"#DIV/0!"},{"$error":"#DIV/0!"},{"$error":"#DIV/0!"},{"$error":"#DIV/0!"},{"$error":"#DIV/0!"},{"$error":"#DIV/0!"},{"$error":"#DIV/0!"},125,785.39816339744823,{"$error":"#DIV/0!"},{"$error":"#DIV/0!"},{"$error":"#DIV/0!"},{"$error":"#DIV/0!"},{"$error":"#DIV/0!"},{"$error":"#DIV/0!"},{"$error":"#DIV/0!"},{"$error":"#DIV/0!"},{"$error":"#DIV/0!"},{"$error":"#DIV/0!"},125,785.39816339744823,{"$error":"#DIV/0!"},{"$error":"#DIV/0!"},{"$error":"#DIV/0!"},{"$error":"#DIV/0!"},{"$error":"#DIV/0!"},{"$error":"#DIV/0!"},{"$error":"#DIV/0!"},{"$error":"#DIV/0!"},{"$error":"#DIV/0!"},{"$error":"#DIV/0!"},125,785.39816339744823,{"$error":"#DIV/0!"},{"$error":"#DIV/0!"},{"$error":"#DIV/0!"},{"$error":"#DIV/0!"},{"$error":"#DIV/0!"},{"$error":"#DIV/0!"},{"$error":"#DIV/0!"},{"$error":"#DIV/0!"},{"$error":"#DIV/0!"},{"$error":"#DIV/0!"},125,785.39816339744823,{"$error":"#DIV/0!"},{"$error":"#DIV/0!"},{"$error":"#DIV/0!"},{"$error":"#DIV/0!"},{"$error":"#DIV/0!"},{"$error":"#DIV/0!"},{"$error":"#DIV/0!"},{"$error":"#DIV/0!"},{"$error":"#DIV/0!"},{"$error":"#DIV/0!"},125,785.39816339744823,{"$error":"#DIV/0!"},{"$error":"#DIV/0!"},{"$error":"#DIV/0!"},{"$error":"#DIV/0!"},{"$error":"#DIV/0!"},{"$error":"#DIV/0!"},{"$error":"#DIV/0!"},{"$error":"#DIV/0!"},{"$error":"#DIV/0!"},{"$error":"#DIV/0!"},null,{"$error":"#N/A"},{"$error":"#N/A"},{"$error":"#N/A"},{"$error":"#N/A"},{"$error":"#N/A"},{"$error":"#N/A"},null,{"$error":"#DIV/0!"},{"$error":"#DIV/0!"},{"$error":"#DIV/0!"},{"$error":"#DIV/0!"},{"$error":"#DIV/0!"},{"$error":"#DIV/0!"},false,0,null,null,null,null,125,785.39816339744823,{"$error":"#N/A"},{"$error":"#N/A"},{"$error":"#N/A"},{"$error":"#N/A"},{"$error":"#DIV/0!"},{"$error":"#DIV/0!"},{"$error":"#DIV/0!"},{"$error":"#N/A"},{"$error":"#N/A"},{"$error":"#N/A"},125,785.39816339744823,{"$error":"#N/A"},{"$error":"#N/A"},{"$error":"#N/A"},{"$error":"#N/A"},{"$error":"#DIV/0!"},{"$error":"#DIV/0!"},{"$error":"#DIV/0!"},{"$error":"#N/A"},{"$error":"#N/A"},{"$error":"#N/A"},125,785.39816339744823,{"$error":"#N/A"},{"$error":"#N/A"},{"$error":"#N/A"},{"$error":"#N/A"},{"$error":"#DIV/0!"},{"$error":"#DIV/0!"},{"$error":"#DIV/0!"},{"$error":"#N/A"},{"$error":"#N/A"},{"$error":"#N/A"},125,785.39816339744823,{"$error":"#N/A"},{"$error":"#N/A"},{"$error":"#N/A"},{"$error":"#N/A"},{"$error":"#DIV/0!"},{"$error":"#DIV/0!"},{"$error":"#DIV/0!"},{"$error":"#N/A"},{"$error":"#N/A"},{"$error":"#N/A"},125,785.39816339744823,{"$error":"#N/A"},{"$error":"#N/A"},{"$error":"#N/A"},{"$error":"#N/A"},{"$error":"#DIV/0!"},{"$error":"#DIV/0!"},{"$error":"#DIV/0!"},{"$error":"#N/A"},{"$error":"#N/A"},{"$error":"#N/A"},125,785.39816339744823,{"$error":"#N/A"},{"$error":"#N/A"},{"$error":"#N/A"},{"$error":"#N/A"},{"$error":"#DIV/0!"},{"$error":"#DIV/0!"},{"$error":"#DIV/0!"},{"$error":"#N/A"},{"$error":"#N/A"},{"$error":"#N/A"},null,null,125,785.39816339744823,{"$error":"#DIV/0!"},{"$error":"#DIV/0!"},{"$error":"#DIV/0!"},{"$error":"#DIV/0!"},{"$error":"#DIV/0!"},{"$error":"#DIV/0!"},{"$error":"#DIV/0!"},{"$error":"#DIV/0!"},{"$error":"#DIV/0!"},{"$error":"#DIV/0!"},125,785.39816339744823,{"$error":"#DIV/0!"},{"$error":"#DIV/0!"},{"$error":"#DIV/0!"},{"$error":"#DIV/0!"},{"$error":"#DIV/0!"},{"$error":"#DIV/0!"},{"$error":"#DIV/0!"},{"$error":"#DIV/0!"},{"$error":"#DIV/0!"},{"$error":"#DIV/0!"},125,785.39816339744823,{"$error":"#DIV/0!"},{"$error":"#DIV/0!"},{"$error":"#DIV/0!"},{"$error":"#DIV/0!"},{"$error":"#DIV/0!"},{"$error":"#DIV/0!"},{"$error":"#DIV/0!"},{"$error":"#DIV/0!"},{"$error":"#DIV/0!"},{"$error":"#DIV/0!"},125,785.39816339744823,{"$error":"#DIV/0!"},{"$error":"#DIV/0!"},{"$error":"#DIV/0!"},{"$error":"#DIV/0!"},{"$error":"#DIV/0!"},{"$error":"#DIV/0!"},{"$error":"#DIV/0!"},{"$error":"#DIV/0!"},{"$error":"#DIV/0!"},{"$error":"#DIV/0!"},125,785.39816339744823,{"$error":"#DIV/0!"},{"$error":"#DIV/0!"},{"$error":"#DIV/0!"},{"$error":"#DIV/0!"},{"$error":"#DIV/0!"},{"$error":"#DIV/0!"},{"$error":"#DIV/0!"},{"$error":"#DIV/0!"},{"$error":"#DIV/0!"},{"$error":"#DIV/0!"},125,785.39816339744823,{"$error":"#DIV/0!"},{"$error":"#DIV/0!"},{"$error":"#DIV/0!"},{"$error":"#DIV/0!"},{"$error":"#DIV/0!"},{"$error":"#DIV/0!"},{"$error":"#DIV/0!"},{"$error":"#DIV/0!"},{"$error":"#DIV/0!"},{"$error":"#DIV/0!"},null,{"$error":"#N/A"},{"$error":"#N/A"},{"$error":"#N/A"},{"$error":"#N/A"},{"$error":"#N/A"},{"$error":"#N/A"},null,{"$error":"#DIV/0!"},{"$error":"#DIV/0!"},{"$error":"#DIV/0!"},{"$error":"#DIV/0!"},{"$error":"#DIV/0!"},{"$error":"#DIV/0!"},false,0,{"$error":"#DIV/0!"},{"$error":"#DIV/0!"},{"$error":"#DIV/0!"},{"$error":"#DIV/0!"},{"$error":"#DIV/0!"},{"$error":"#DIV/0!"},{"$error":"#DIV/0!"},{"$error":"#DIV/0!"},{"$error":"#DIV/0!"},{"$error":"#DIV/0!"},{"$error":"#DIV/0!"},{"$error":"#DIV/0!"},0,0,0,0,0,0,0,0,0,0,0,0,{"$error":"#DIV/0!"},{"$error":"#DIV/0!"},{"$error":"#DIV/0!"},{"$error":"#DIV/0!"},{"$error":"#DIV/0!"},{"$error":"#DIV/0!"},{"$error":"#DIV/0!"},{"$error":"#DIV/0!"},{"$error":"#DIV/0!"},{"$error":"#DIV/0!"},{"$error":"#DIV/0!"},{"$error":"#DIV/0!"}]
["Absorption material specimen thickness  (in m)",null,null,null,null,null,null,null,null,null,null,null,"Polyurethane (Foam) - LAB",2097,null,null,null,null,null,null,null,null,null,160,1005.3096491487338,{"$error":"#N/A"},{"$error":"#N/A"},{"$error":"#N/A"},{"$error":"#N/A"},{"$error":"#DIV/0!"},{"$error":"#DIV/0!"},{"$error":"#DIV/0!"},{"$error":"#N/A"},{"$error":"#N/A"},{"$error":"#N/A"},160,1005.3096491487338,{"$error":"#N/A"},{"$error":"#N/A"},{"$error":"#N/A"},{"$error":"#N/A"},{"$error":"#DIV/0!"},{"$error":"#DIV/0!"},{"$error":"#DIV/0!"},{"$error":"#N/A"},{"$error":"#N/A"},{"$error":"#N/A"},160,1005.3096491487338,{"$error":"#N/A"},{"$error":"#N/A"},{"$error":"#N/A"},{"$error":"#N/A"},{"$error":"#DIV/0!"},{"$error":"#DIV/0!"},{"$error":"#DIV/0!"},{"$error":"#N/A"},{"$error":"#N/A"},{"$error":"#N/A"},160,1005.3096491487338,{"$error":"#N/A"},{"$error":"#N/A"},{"$error":"#N/A"},{"$error":"#N/A"},{"$error":"#DIV/0!"},{"$error":"#DIV/0!"},{"$error":"#DIV/0!"},{"$error":"#N/A"},{"$error":"#N/A"},{"$error":"#N/A"},160,1005.3096491487338,{"$error":"#N/A"},{"$error":"#N/A"},{"$error":"#N/A"},{"$error":"#N/A"},{"$error":"#DIV/0!"},{"$error":"#DIV/0!"},{"$error":"#DIV/0!"},{"$error":"#N/A"},{"$error":"#N/A"},{"$error":"#N/A"},160,1005.3096491487338,{"$error":"#N/A"},{"$error":"#N/A"},{"$error":"#N/A"},{"$error":"#N/A"},{"$error":"#DIV/0!"},{"$error":"#DIV/0!"},{"$error":"#DIV/0!"},{"$error":"#N/A"},{"$error":"#N/A"},{"$error":"#N/A"},null,null,160,1005.3096491487338,{"$error":"#DIV/0!"},{"$error":"#DIV/0!"},{"$error":"#DIV/0!"},{"$error":"#DIV/0!"},{"$error":"#DIV/0!"},{"$error":"#DIV/0!"},{"$error":"#DIV/0!"},{"$error":"#DIV/0!"},{"$error":"#DIV/0!"},{"$error":"#DIV/0!"},160,1005.3096491487338,{"$error":"#DIV/0!"},{"$error":"#DIV/0!"},{"$error":"#DIV/0!"},{"$error":"#DIV/0!"},{"$error":"#DIV/0!"},{"$error":"#DIV/0!"},{"$error":"#DIV/0!"},{"$error":"#DIV/0!"},{"$error":"#DIV/0!"},{"$error":"#DIV/0!"},160,1005.3096491487338,{"$error":"#DIV/0!"},{"$error":"#DIV/0!"},{"$error":"#DIV/0!"},{"$error":"#DIV/0!"},{"$error":"#DIV/0!"},{"$error":"#DIV/0!"},{"$error":"#DIV/0!"},{"$error":"#DIV/0!"},{"$error":"#DIV/0!"},{"$error":"#DIV/0!"},160,1005.3096491487338,{"$error":"#DIV/0!"},{"$error":"#DIV/0!"},{"$error":"#DIV/0!"},{"$error":"#DIV/0!"},{"$error":"#DIV/0!"},{"$error":"#DIV/0!"},{"$error":"#DIV/0!"},{"$error":"#DIV/0!"},{"$error":"#DIV/0!"},{"$error":"#DIV/0!"},160,1005.3096491487338,{"$error":"#DIV/0!"},{"$error":"#DIV/0!"},{"$error":"#DIV/0!"},{"$error":"#DIV/0!"},{"$error":"#DIV/0!"},{"$error":"#DIV/0!"},{"$error":"#DIV/0!"},{"$error":"#DIV/0!"},{"$error":"#DIV/0!"},{"$error":"#DIV/0!"},160,1005.3096491487338,{"$error":"#DIV/0!"},{"$error":"#DIV/0!"},{"$error":"#DIV/0!"},{"$error":"#DIV/0!"},{"$error":"#DIV/0!"},{"$error":"#DIV/0!"},{"$error":"#DIV/0!"},{"$error":"#DIV/0!"},{"$error":"#DIV/0!"},{"$error":"#DIV/0!"},null,{"$error":"#N/A"},{"$error":"#N/A"},{"$error":"#N/A"},{"$error":"#N/A"},{"$error":"#N/A"},{"$error":"#N/A"},null,{"$error":"#DIV/0!"},{"$error":"#DIV/0!"},{"$error":"#DIV/0!"},{"$error":"#DIV/0!"},{"$error":"#DIV/0!"},{"$error":"#DIV/0!"},false,0,null,null,null,null,160,1005.3096491487338,{"$error":"#N/A"},{"$error":"#N/A"},{"$error":"#N/A"},{"$error":"#N/A"},{"$error":"#DIV/0!"},{"$error":"#DIV/0!"},{"$error":"#DIV/0!"},{"$error":"#N/A"},{"$error":"#N/A"},{"$error":"#N/A"},160,1005.3096491487338,{"$error":"#N/A"},{"$error":"#N/A"},{"$error":"#N/A"},{"$error":"#N/A"},{"$error":"#DIV/0!"},{"$error":"#DIV/0!"},{"$error":"#DIV/0!"},{"$error":"#N/A"},{"$error":"#N/A"},{"$error":"#N/A"},160,1005.3096491487338,{"$error":"#N/A"},{"$error":"#N/A"},{"$error":"#N/A"},{"$error":"#N/A"},{"$error":"#DIV/0!"},{"$error":"#DIV/0!"},{"$error":"#DIV/0!"},{"$error":"#N/A"},{"$error":"#N/A"},{"$error":"#N/A"},160,1005.3096491487338,{"$error":"#N/A"},{"$error":"#N/A"},{"$error":"#N/A"},{"$error":"#N/A"},{"$error":"#DIV/0!"},{"$error":"#DIV/0!"},{"$error":"#DIV/0!"},{"$error":"#N/A"},{"$error":"#N/A"},{"$error":"#N/A"},160,1005.3096491487338,{"$error":"#N/A"},{"$error":"#N/A"},{"$error":"#N/A"},{"$error":"#N/A"},{"$error":"#DIV/0!"},{"$error":"#DIV/0!"},{"$error":"#DIV/0!"},{"$error":"#N/A"},{"$error":"#N/A"},{"$error":"#N/A"},160,1005.3096491487338,{"$error":"#N/A"},{"$error":"#N/A"},{"$error":"#N/A"},{"$error":"#N/A"},{"$error":"#DIV/0!"},{"$error":"#DIV/0!"},{"$error":"#DIV/0!"},{"$error":"#N/A"},{"$error":"#N/A"},{"$error":"#N/A"},null,null,160,1005.3096491487338,{"$error":"#DIV/0!"},{"$error":"#DIV/0!"},{"$error":"#DIV/0!"},{"$error":"#DIV/0!"},{"$error":"#DIV/0!"},{"$error":"#DIV/0!"},{"$error":"#DIV/0!"},{"$error":"#DIV/0!"},{"$error":"#DIV/0!"},{"$error":"#DIV/0!"},160,1005.3096491487338,{"$error":"#DIV/0!"},{"$error":"#DIV/0!"},{"$error":"#DIV/0!"},{"$error":"#DIV/0!"},{"$error":"#DIV/0!"},{"$error":"#DIV/0!"},{"$error":"#DIV/0!"},{"$error":"#DIV/0!"},{"$error":"#DIV/0!"},{"$error":"#DIV/0!"},160,1005.3096491487338,{"$error":"#DIV/0!"},{"$error":"#DIV/0!"},{"$error":"#DIV/0!"},{"$error":"#DIV/0!"},{"$error":"#DIV/0!"},{"$error":"#DIV/0!"},{"$error":"#DIV/0!"},{"$error":"#DIV/0!"},{"$error":"#DIV/0!"},{"$error":"#DIV/0!"},160,1005.3096491487338,{"$error":"#DIV/0!"},{"$error":"#DIV/0!"},{"$error":"#DIV/0!"},{"$error":"#DIV/0!"},{"$error":"#DIV/0!"},{"$error":"#DIV/0!"},{"$error":"#DIV/0!"},{"$error":"#DIV/0!"},{"$error":"#DIV/0!"},{"$error":"#DIV/0!"},160,1005.3096491487338,{"$error":"#DIV/0!"},{"$error":"#DIV/0!"},{"$error":"#DIV/0!"},{"$error":"#DIV/0!"},{"$error":"#DIV/0!"},{"$error":"#DIV/0!"},{"$error":"#DIV/0!"},{"$error":"#DIV/0!"},{"$error":"#DIV/0!"},{"$error":"#DIV/0!"},160,1005.3096491487338,{"$error":"#DIV/0!"},{"$error":"#DIV/0!"},{"$error":"#DIV/0!"},{"$error":"#DIV/0!"},{"$error":"#DIV/0!"},{"$error":"#DIV/0!"},{"$error":"#DIV/0!"},{"$error":"#DIV/0!"},{"$error":"#DIV/0!"},{"$error":"#DIV/0!"},null,{"$error":"#N/A"},{"$error":"#N/A"},{"$error":"#N/A"},{"$error":"#N/A"},{"$error":"#N/A"},{"$error":"#N/A"},null,{"$error":"#DIV/0!"},{"$error":"#DIV/0!"},{"$error":"#DIV/0!"},{"$error":"#DIV/0!"},{"$error":"#DIV/0!"},{"$error":"#DIV/0!"},false,0,{"$error":"#DIV/0!"},{"$error":"#DIV/0!"},{"$error":"#DIV/0!"},{"$error":"#DIV/0!"},{"$error":"#DIV/0!"},{"$error":"#DIV/0!"},{"$error":"#DIV/0!"},{"$error":"#DIV/0!"},{"$error":"#DIV/0!"},{"$error":"#DIV/0!"},{"$error":"#DIV/0!"},{"$error":"#DIV/0!"},0,0,0,0,0,0,0,0,0,0,0,0,{"$error":"#DIV/0!"},{"$error":"#DIV/0!"},{"$error":"#DIV/0!"},{"$error":"#DIV/0!"},{"$error":"#DIV/0!"},{"$error":"#DIV/0!"},{"$error":"#DIV/0!"},{"$error":"#DIV/0!"},{"$error":"#DIV/0!"},{"$error":"#DIV/0!"},{"$error":"#DIV/0!"},{"$error":"#DIV/0!"}]
["Mass Density (ρ)",null,null,null,null,null,null,null,null,null,null,null,"Glassfiber (Fibrous) - CVG",57594,null,null,null,null,null,null,null,null,null,200,1256.6370614359173,{"$error":"#N/A"},{"$error":"#N/A"},{"$error":"#N/A"},{"$error":"#N/A"},{"$error":"#DIV/0!"},{"$error":"#DIV/0!"},{"$error":"#DIV/0!"},{"$error":"#N/A"},{"$error":"#N/A"},{"$error":"#N/A"},200,1256.6370614359173,{"$error":"#N/A"},{"$error":"#N/A"},{"$error":"#N/A"},{"$error":"#N/A"},{"$error":"#DIV/0!"},{"$error":"#DIV/0!"},{"$error":"#DIV/0!"},{"$error":"#N/A"},{"$error":"#N/A"},{"$error":"#N/A"},200,1256.6370614359173,{"$error":"#N/A"},{"$error":"#N/A"},{"$error":"#N/A"},{"$error":"#N/A"},{"$error":"#DIV/0!"},{"$error":"#DIV/0!"},{"$error":"#DIV/0!"},{"$error":"#N/A"},{"$error":"#N/A"},{"$error":"#N/A"},200,1256.6370614359173,{"$error":"#N/A"},{"$error":"#N/A"},{"$error":"#N/A"},{"$error":"#N/A"},{"$error":"#DIV/0!"},{"$error":"#DIV/0!"},{"$error":"#DIV/0!"},{"$error":"#N/A"},{"$error":"#N/A"},{"$error":"#N/A"},200,1256.6370614359173,{"$error":"#N/A"},{"$error":"#N/A"},{"$error":"#N/A"},{"$error":"#N/A"},{"$error":"#DIV/0!"},{"$error":"#DIV/0!"},{"$error":"#DIV/0!"},{"$error":"#N/A"},{"$error":"#N/A"},{"$error":"#N/A"},200,1256.6370614359173,{"$error":"#N/A"},{"$error":"#N/A"},{"$error":"#N/A"},{"$error":"#N/A"},{"$error":"#DIV/0!"},{"$error":"#DIV/0!"},{"$error":"#DIV/0!"},{"$error":"#N/A"},{"$error":"#N/A"},{"$error":"#N/A"},null,null,200,1256.6370614359173,{"$error":"#DIV/0!"},{"$error":"#DIV/0!"},{"$error":"#DIV/0!"},{"$error":"#DIV/0!"},{"$error":"#DIV/0!"},{"$error":"#DIV/0!"},{"$error":"#DIV/0!"},{"$error":"#DIV/0!"},{"$error":"#DIV/0!"},{"$error":"#DIV/0!"},200,1256.6370614359173,{"$error":"#DIV/0!"},{"$error":"#DIV/0!"},{"$error":"#DIV/0!"},{"$error":"#DIV/0!"},{"$error":"#DIV/0!"},{"$error":"#DIV/0!"},{"$error":"#DIV/0!"},{"$error":"#DIV/0!"},{"$error":"#DIV/0!"},{"$error":"#DIV/0!"},200,1256.6370614359173,{"$error":"#DIV/0!"},{"$error":"#DIV/0!"},{"$error":"#DIV/0!"},{"$error":"#DIV/0!"},{"$error":"#DIV/0!"},{"$error":"#DIV/0!"},{"$error":"#DIV/0!"},{"$error":"#DIV/0!"},{"$error":"#DIV/0!"},{"$error":"#DIV/0!"},200,1256.6370614359173,{"$error":"#DIV/0!"},{"$error":"#DIV/0!"},{"$error":"#DIV/0!"},{"$error":"#DIV/0!"},{"$error":"#DIV/0!"},{"$error":"#DIV/0!"},{"$error":"#DIV/0!"},{"$error":"#DIV/0!"},{"$error":"#DIV/0!"},{"$error":"#DIV/0!"},200,1256.6370614359173,{"$error":"#DIV/0!"},{"$error":"#DIV/0!"},{"$error":"#DIV/0!"},{"$error":"#DIV/0!"},{"$error":"#DIV/0!"},{"$error":"#DIV/0!"},{"$error":"#DIV/0!"},{"$error":"#DIV/0!"},{"$error":"#DIV/0!"},{"$error":"#DIV/0!"},200,1256.6370614359173,{"$error":"#DIV/0!"},{"$error":"#DIV/0!"},{"$error":"#DIV/0!"},{"$error":"#DIV/0!"},{"$error":"#DIV/0!"},{"$error":"#DIV/0!"},{"$error":"#DIV/0!"},{"$error":"#DIV/0!"},{"$error":"#DIV/0!"},{"$error":"#DIV/0!"},null,{"$error":"#N/A"},{"$error":"#N/A"},{"$error":"#N/A"},{"$error":"#N/A"},{"$error":"#N/A"},{"$error":"#N/A"},null,{"$error":"#DIV/0!"},{"$error":"#DIV/0!"},{"$error":"#DIV/0!"},{"$error":"#DIV/0!"},{"$error":"#DIV/0!"},{"$error":"#DIV/0!"},false,0,null,null,null,null,200,1256.6370614359173,{"$error":"#N/A"},{"$error":"#N/A"},{"$error":"#N/A"},{"$error":"#N/A"},{"$error":"#DIV/0!"},{"$error":"#DIV/0!"},{"$error":"#DIV/0!"},{"$error":"#N/A"},{"$error":"#N/A"},{"$error":"#N/A"},200,1256.6370614359173,{"$error":"#N/A"},{"$error":"#N/A"},{"$error":"#N/A"},{"$error":"#N/A"},{"$error":"#DIV/0!"},{"$error":"#DIV/0!"},{"$error":"#DIV/0!"},{"$error":"#N/A"},{"$error":"#N/A"},{"$error":"#N/A"},200,1256.6370614359173,{"$error":"#N/A"},{"$error":"#N/A"},{"$error":"#N/A"},{"$error":"#N/A"},{"$error":"#DIV/0!"},{"$error":"#DIV/0!"},{"$error":"#DIV/0!"},{"$error":"#N/A"},{"$error":"#N/A"},{"$error":"#N/A"},200,1256.6370614359173,{"$error":"#N/A"},{"$error":"#N/A"},{"$error":"#N/A"},{"$error":"#N/A"},{"$error":"#DIV/0!"},{"$error":"#DIV/0!"},{"$error":"#DIV/0!"},{"$error":"#N/A"},{"$error":"#N/A"},{"$error":"#N/A"},200,1256.6370614359173,{"$error":"#N/A"},{"$error":"#N/A"},{"$error":"#N/A"},{"$error":"#N/A"},{"$error":"#DIV/0!"},{"$error":"#DIV/0!"},{"$error":"#DIV/0!"},{"$error":"#N/A"},{"$error":"#N/A"},{"$error":"#N/A"},200,1256.6370614359173,{"$error":"#N/A"},{"$error":"#N/A"},{"$error":"#N/A"},{"$error":"#N/A"},{"$error":"#DIV/0!"},{"$error":"#DIV/0!"},{"$error":"#DIV/0!"},{"$error":"#N/A"},{"$error":"#N/A"},{"$error":"#N/A"},null,null,200,1256.6370614359173,{"$error":"#DIV/0!"},{"$error":"#DIV/0!"},{"$error":"#DIV/0!"},{"$error":"#DIV/0!"},{"$error":"#DIV/0!"},{"$error":"#DIV/0!"},{"$error":"#DIV/0!"},{"$error":"#DIV/0!"},{"$error":"#DIV/0!"},{"$error":"#DIV/0!"},200,1256.6370614359173,{"$error":"#DIV/0!"},{"$error":"#DIV/0!"},{"$error":"#DIV/0!"},{"$error":"#DIV/0!"},{"$error":"#DIV/0!"},{"$error":"#DIV/0!"},{"$error":"#DIV/0!"},{"$error":"#DIV/0!"},{"$error":"#DIV/0!"},{"$error":"#DIV/0!"},200,1256.6370614359173,{"$error":"#DIV/0!"},{"$error":"#DIV/0!"},{"$error":"#DIV/0!"},{"$error":"#DIV/0!"},{"$error":"#DIV/0!"},{"$error":"#DIV/0!"},{"$error":"#DIV/0!"},{"$error":"#DIV/0!"},{"$error":"#DIV/0!"},{"$error":"#DIV/0!"},200,1256.6370614359173,{"$error":"#DIV/0!"},{"$error":"#DIV/0!"},{"$error":"#DIV/0!"},{"$error":"#DIV/0!"},{"$error":"#DIV/0!"},{"$error":"#DIV/0!"},{"$error":"#DIV/0!"},{"$error":"#DIV/0!"},{"$error":"#DIV/0!"},{"$error":"#DIV/0!"},200,1256.6370614359173,{"$error":"#DIV/0!"},{"$error":"#DIV/0!"},{"$error":"#DIV/0!"},{"$error":"#DIV/0!"},{"$error":"#DIV/0!"},{"$error":"#DIV/0!"},{"$error":"#DIV/0!"},{"$error":"#DIV/0!"},{"$error":"#DIV/0!"},{"$error":"#DIV/0!"},200,1256.6370614359173,{"$error":"#DIV/0!"},{"$error":"#DIV/0!"},{"$error":"#DIV/0!"},{"$error":"#DIV/0!"},{"$error":"#DIV/0!"},{"$error":"#DIV/0!"},{"$error":"#DIV/0!"},{"$error":"#DIV/0!"},{"$error":"#DIV/0!"},{"$error":"#DIV/0!"},null,{"$error":"#N/A"},{"$error":"#N/A"},{"$error":"#N/A"},{"$error":"#N/A"},{"$error":"#N/A"},{"$error":"#N/A"},null,{"$error":"#DIV/0!"},{"$error":"#DIV/0!"},{"$error":"#DIV/0!"},{"$error":"#DIV/0!"},{"$error":"#DIV/0!"},{"$error":"#DIV/0!"},false,0,{"$error":"#DIV/0!"},{"$error":"#DIV/0!"},{"$error":"#DIV/0!"},{"$error":"#DIV/0!"},{"$error":"#DIV/0!"},{"$error":"#DIV/0!"},{"$error":"#DIV/0!"},{"$error":"#DIV/0!"},{"$error":"#DIV/0!"},{"$error":"#DIV/0!"},{"$error":"#DIV/0!"},{"$error":"#DIV/0!"},0,0,0,0,0,0,0,0,0,0,0,0,{"$error":"#DIV/0!"},{"$error":"#DIV/0!"},{"$error":"#DIV/0!"},{"$error":"#DIV/0!"},{"$error":"#DIV/0!"},{"$error":"#DIV/0!"},{"$error":"#DIV/0!"},{"$error":"#DIV/0!"},{"$error":"#DIV/0!"},{"$error":"#DIV/0!"},{"$error":"#DIV/0!"},{"$error":"#DIV/0!"}]
["Speed of Sound (c)",null,null,null,null,null,null,null,null,null,null,null,"Polyester (Foam) - CVG",11904,null,null,null,null,null,null,null,null,null,250,1570.7963267948965,{"$error":"#N/A"},{"$error":"#N/A"},{"$error":"#N/A"},{"$error":"#N/A"},{"$error":"#DIV/0!"},{"$error":"#DIV/0!"},{"$error":"#DIV/0!"},{"$error":"#N/A"},{"$error":"#N/A"},{"$error":"#N/A"},250,1570.7963267948965,{"$error":"#N/A"},{"$error":"#N/A"},{"$error":"#N/A"},{"$error":"#N/A"},{"$error":"#DIV/0!"},{"$error":"#DIV/0!"},{"$error":"#DIV/0!"},{"$error":"#N/A"},{"$error":"#N/A"},{"$error":"#N/A"},250,1570.7963267948965,{"$error":"#N/A"},{"$error":"#N/A"},{"$error":"#N/A"},{"$error":"#N/A"},{"$error":"#DIV/0!"},{"$error":"#DIV/0!"},{"$error":"#DIV/0!"},{"$error":"#N/A"},{"$error":"#N/A"},{"$error":"#N/A"},250,1570.7963267948965,{"$error":"#N/A"},{"$error":"#N/A"},{"$error":"#N/A"},{"$error":"#N/A"},{"$error":"#DIV/0!"},{"$error":"#DIV/0!"},{"$error":"#DIV/0!"},{"$error":"#N/A"},{"$error":"#N/A"},{"$error":"#N/A"},250,1570.7963267948965,{"$error":"#N/A"},{"$error":"#N/A"},{"$error":"#N/A"},{"$error":"#N/A"},{"$error":"#DIV/0!"},{"$error":"#DIV/0!"},{"$error":"#DIV/0!"},{"$error":"#N/A"},{"$error":"#N/A"},{"$error":"#N/A"},250,1570.7963267948965,{"$error":"#N/A"},{"$error":"#N/A"},{"$error":"#N/A"},{"$error":"#N/A"},{"$error":"#DIV/0!"},{"$error":"#DIV/0!"},{"$error":"#DIV/0!"},{"$error":"#N/A"},{"$error":"#N/A"},{"$error":"#N/A"},null,null,250,1570.7963267948965,{"$error":"#DIV/0!"},{"$error":"#DIV/0!"},{"$error":"#DIV/0!"},{"$error":"#DIV/0!"},{"$error":"#DIV/0!"},{"$error":"#DIV/0!"},{"$error":"#DIV/0!"},{"$error":"#DIV/0!"},{"$error":"#DIV/0!"},{"$error":"#DIV/0!"},250,1570.7963267948965,{"$error":"#DIV/0!"},{"$error":"#DIV/0!"},{"$error":"#DIV/0!"},{"$error":"#DIV/0!"},{"$error":"#DIV/0!"},{"$error":"#DIV/0!"},{"$error":"#DIV/0!"},{"$error":"#DIV/0!"},{"$error":"#DIV/0!"},{"$error":"#DIV/0!"},250,1570.7963267948965,{"$error":"#DIV/0!"},{"$error":"#DIV/0!"},{"$error":"#DIV/0!"},{"$error":"#DIV/0!"},{"$error":"#DIV/0!"},{"$error":"#DIV/0!"},{"$error":"#DIV/0!"},{"$error":"#DIV/0!"},{"$error":"#DIV/0!"},{"$error":"#DIV/0!"},250,1570.7963267948965,{"$error":"#DIV/0!"},{"$error":"#DIV/0!"},{"$error":"#DIV/0!"},{"$error":"#DIV/0!"},{"$error":"#DIV/0!"},{"$error":"#DIV/0!"},{"$error":"#DIV/0!"},{"$error":"#DIV/0!"},{"$error":"#DIV/0!"},{"$error":"#DIV/0!"},250,1570.7963267948965,{"$error":"#DIV/0!"},{"$error":"#DIV/0!"},{"$error":"#DIV/0!"},{"$error":"#DIV/0!"},{"$error":"#DIV/0!"},{"$error":"#DIV/0!"},{"$error":"#DIV/0!"},{"$error":"#DIV/0!"},{"$error":"#DIV/0!"},{"$error":"#DIV/0!"},250,1570.7963267948965,{"$error":"#DIV/0!"},{"$error":"#DIV/0!"},{"$error":"#DIV/0!"},{"$error":"#DIV/0!"},{"$error":"#DIV/0!"},{"$error":"#DIV/0!"},{"$error":"#DIV/0!"},{"$error":"#DIV/0!"},{"$error":"#DIV/0!"},{"$error":"#DIV/0!"},null,{"$error":"#N/A"},{"$error":"#N/A"},{"$error":"#N/A"},{"$error":"#N/A"},{"$error":"#N/A"},{"$error":"#N/A"},null,{"$error":"#DIV/0!"},{"$error":"#DIV/0!"},{"$error":"#DIV/0!"},{"$error":"#DIV/0!"},{"$error":"#DIV/0!"},{"$error":"#DIV/0!"},false,0,null,null,null,null,250,1570.7963267948965,{"$error":"#N/A"},{"$error":"#N/A"},{"$error":"#N/A"},{"$error":"#N/A"},{"$error":"#DIV/0!"},{"$error":"#DIV/0!"},{"$error":"#DIV/0!"},{"$error":"#N/A"},{"$error":"#N/A"},{"$error":"#N/A"},250,1570.7963267948965,{"$error":"#N/A"},{"$error":"#N/A"},{"$error":"#N/A"},{"$error":"#N/A"},{"$error":"#DIV/0!"},{"$error":"#DIV/0!"},{"$error":"#DIV/0!"},{"$error":"#N/A"},{"$error":"#N/A"},{"$error":"#N/A"},250,1570.7963267948965,{"$error":"#N/A"},{"$error":"#N/A"},{"$error":"#N/A"},{"$error":"#N/A"},{"$error":"#DIV/0!"},{"$error":"#DIV/0!"},{"$error":"#DIV/0!"},{"$error":"#N/A"},{"$error":"#N/A"},{"$error":"#N/A"},250,1570.7963267948965,{"$error":"#N/A"},{"$error":"#N/A"},{"$error":"#N/A"},{"$error":"#N/A"},{"$error":"#DIV/0!"},{"$error":"#DIV/0!"},{"$error":"#DIV/0!"},{"$error":"#N/A"},{"$error":"#N/A"},{"$error":"#N/A"},250,1570.7963267948965,{"$error":"#N/A"},{"$error":"#N/A"},{"$error":"#N/A"},{"$error":"#N/A"},{"$error":"#DIV/0!"},{"$error":"#DIV/0!"},{"$error":"#DIV/0!"},{"$error":"#N/A"},{"$error":"#N/A"},{"$error":"#N/A"},250,1570.7963267948965,{"$error":"#N/A"},{"$error":"#N/A"},{"$error":"#N/A"},{"$error":"#N/A"},{"$error":"#DIV/0!"},{"$error":"#DIV/0!"},{"$error":"#DIV/0!"},{"$error":"#N/A"},{"$error":"#N/A"},{"$error":"#N/A"},null,null,250,1570.7963267948965,{"$error":"#DIV/0!"},{"$error":"#DIV/0!"},{"$error":"#DIV/0!"},{"$error":"#DIV/0!"},{"$error":"#DIV/0!"},{"$error":"#DIV/0!"},{"$error":"#DIV/0!"},{"$error":"#DIV/0!"},{"$error":"#DIV/0!"},{"$error":"#DIV/0!"},250,1570.7963267948965,{"$error":"#DIV/0!"},{"$error":"#DIV/0!"},{"$error":"#DIV/0!"},{"$error":"#DIV/0!"},{"$error":"#DIV/0!"},{"$error":"#DIV/0!"},{"$error":"#DIV/0!"},{"$error":"#DIV/0!"},{"$error":"#DIV/0!"},{"$error":"#DIV/0!"},250,1570.7963267948965,{"$error":"#DIV/0!"},{"$error":"#DIV/0!"},{"$error":"#DIV/0!"},{"$error":"#DIV/0!"},{"$error":"#DIV/0!"},{"$error":"#DIV/0!"},{"$error":"#DIV/0!"},{"$error":"#DIV/0!"},{"$error":"#DIV/0!"},{"$error":"#DIV/0!"},250,1570.7963267948965,{"$error":"#DIV/0!"},{"$error":"#DIV/0!"},{"$error":"#DIV/0!"},{"$error":"#DIV/0!"},{"$error":"#DIV/0!"},{"$error":"#DIV/0!"},{"$error":"#DIV/0!"},{"$error":"#DIV/0!"},{"$error":"#DIV/0!"},{"$error":"#DIV/0!"},250,1570.7963267948965,{"$error":"#DIV/0!"},{"$error":"#DIV/0!"},{"$error":"#DIV/0!"},{"$error":"#DIV/0!"},{"$error":"#DIV/0!"},{"$error":"#DIV/0!"},{"$error":"#DIV/0!"},{"$error":"#DIV/0!"},{"$error":"#DIV/0!"},{"$error":"#DIV/0!"},250,1570.7963267948965,{"$error":"#DIV/0!"},{"$error":"#DIV/0!"},{"$error":"#DIV/0!"},{"$error":"#DIV/0!"},{"$error":"#DIV/0!"},{"$error":"#DIV/0!"},{"$error":"#DIV/0!"},{"$error":"#DIV/0!"},{"$error":"#DIV/0!"},{"$error":"#DIV/0!"},null,{"$error":"#N/A"},{"$error":"#N/A"},{"$error":"#N/A"},{"$error":"#N/A"},{"$error":"#N/A"},{"$error":"#N/A"},null,{"$error":"#DIV/0!"},{"$error":"#DIV/0!"},{"$error":"#DIV/0!"},{"$error":"#DIV/0!"},{"$error":"#DIV/0!"},{"$error":"#DIV/0!"},false,0,{"$error":"#DIV/0!"},{"$error":"#DIV/0!"},{"$error":"#DIV/0!"},{"$error":"#DIV/0!"},{"$error":"#DIV/0!"},{"$error":"#DIV/0!"},{"$error":"#DIV/0!"},{"$error":"#DIV/0!"},{"$error":"#DIV/0!"},{"$error":"#DIV/0!"},{"$error":"#DIV/0!"},{"$error":"#DIV/0!"},0,0,0,0,0,0,0,0,0,0,0,0,{"$error":"#DIV/0!"},{"$error":"#DIV/0!"},{"$error":"#DIV/0!"},{"$error":"#DIV/0!"},{"$error":"#DIV/0!"},{"$error":"#DIV/0!"},{"$error":"#DIV/0!"},{"$error":"#DIV/0!"},{"$error":"#DIV/0!"},{"$error":"#DIV/0!"},{"$error":"#DIV/0!"},{"$error":"#DIV/0!"}]
[null,null,null,null,null,null,null,null,null,null,null,null,"Polyester (Foam) - LAB",18828,null,null,null,null,null,null,null,null,null,315,1979.2033717615698,{"$error":"#N/A"},{"$error":"#N/A"},{"$error":"#N/A"},{"$error":"#N/A"},{"$error":"#DIV/0!"},{"$error":"#DIV/0!"},{"$error":"#DIV/0!"},{"$error":"#N/A"},{"$error":"#N/A"},{"$error":"#N/A"},315,1979.2033717615698,{"$error":"#N/A"},{"$error":"#N/A"},{"$error":"#N/A"},{"$error":"#N/A"},{"$error":"#DIV/0!"},{"$error":"#DIV/0!"},{"$error":"#DIV/0!"},{"$error":"#N/A"},{"$error":"#N/A"},{"$error":"#N/A"},315,1979.2033717615698,{"$error":"#N/A"},{"$error":"#N/A"},{"$error":"#N/A"},{"$error":"#N/A"},{"$error":"#DIV/0!"},{"$error":"#DIV/0!"},{"$error":"#DIV/0!"},{"$error":"#N/A"},{"$error":"#N/A"},{"$error":"#N/A"},315,1979.2033717615698,{"$error":"#N/A"},{"$error":"#N/A"},{"$error":"#N/A"},{"$error":"#N/A"},{"$error":"#DIV/0!"},{"$error":"#DIV/0!"},{"$error":"#DIV/0!"},{"$error":"#N/A"},{"$error":"#N/A"},{"$error":"#N/A"},315,1979.2033717615698,{"$error":"#N/A"},{"$error":"#N/A"},{"$error":"#N/A"},{"$error":"#N/A"},{"$error":"#DIV/0!"},{"$error":"#DIV/0!"},{"$error":"#DIV/0!"},{"$error":"#N/A"},{"$error":"#N/A"},{"$error":"#N/A"},315,1979.2033717615698,{"$error":"#N/A"},{"$error":"#N/A"},{"$error":"#N/A"},{"$error":"#N/A"},{"$error":"#DIV/0!"},{"$error":"#DIV/0!"},{"$error":"#DIV/0!"},{"$error":"#N/A"},{"$error":"#N/A"},{"$error":"#N/A"},null,null,315,1979.2033717615698,{"$error":"#DIV/0!"},{"$error":"#DIV/0!"},{"$error":"#DIV/0!"},{"$error":"#DIV/0!"},{"$error":"#DIV/0!"},{"$error":"#DIV/0!"},{"$error":"#DIV/0!"},{"$error":"#DIV/0!"},{"$error":"#DIV/0!"},{"$error":"#DIV/0!"},315,1979.2033717615698,{"$error":"#DIV/0!"},{"$error":"#DIV/0!"},{"$error":"#DIV/0!"},{"$error":"#DIV/0!"},{"$error":"#DIV/0!"},{"$error":"#DIV/0!"},{"$error":"#DIV/0!"},{"$error":"#DIV/0!"},{"$error":"#DIV/0!"},{"$error":"#DIV/0!"},315,1979.2033717615698,{"$error":"#DIV/0!"},{"$error":"#DIV/0!"},{"$error":"#DIV/0!"},{"$error":"#DIV/0!"},{"$error":"#DIV/0!"},{"$error":"#DIV/0!"},{"$error":"#DIV/0!"},{"$error":"#DIV/0!"},{"$error":"#DIV/0!"},{"$error":"#DIV/0!"},315,1979.2033717615698,{"$error":"#DIV/0!"},{"$error":"#DIV/0!"},{"$error":"#DIV/0!"},{"$error":"#DIV/0!"},{"$error":"#DIV/0!"},{"$error":"#DIV/0!"},{"$error":"#DIV/0!"},{"$error":"#DIV/0!"},{"$error":"#DIV/0!"},{"$error":"#DIV/0!"},315,1979.2033717615698,{"$error":"#DIV/0!"},{"$error":"#DIV/0!"},{"$error":"#DIV/0!"},{"$error":"#DIV/0!"},{"$error":"#DIV/0!"},{"$error":"#DIV/0!"},{"$error":"#DIV/0!"},{"$error":"#DIV/0!"},{"$error":"#DIV/0!"},{"$error":"#DIV/0!"},315,1979.2033717615698,{"$error":"#DIV/0!"},{"$error":"#DIV/0!"},{"$error":"#DIV/0!"},{"$error":"#DIV/0!"},{"$error":"#DIV/0!"},{"$error":"#DIV/0!"},{"$error":"#DIV/0!"},{"$error":"#DIV/0!"},{"$error":"#DIV/0!"},{"$error":"#DIV/0!"},null,{"$error":"#N/A"},{"$error":"#N/A"},{"$error":"#N/A"},{"$error":"#N/A"},{"$error":"#N/A"},{"$error":"#N/A"},null,{"$error":"#DIV/0!"},{"$error":"#DIV/0!"},{"$error":"#DIV/0!"},{"$error":"#DIV/0!"},{"$error":"#DIV/0!"},{"$error":"#DIV/0!"},false,0,null,null,null,null,315,1979.2033717615698,{"$error":"#N/A"},{"$error":"#N/A"},{"$error":"#N/A"},{"$error":"#N/A"},{"$error":"#DIV/0!"},{"$error":"#DIV/0!"},{"$error":"#DIV/0!"},{"$error":"#N/A"},{"$error":"#N/A"},{"$error":"#N/A"},315,1979.2033717615698,{"$error":"#N/A"},{"$error":"#N/A"},{"$error":"#N/A"},{"$error":"#N/A"},{"$error":"#DIV/0!"},{"$error":"#DIV/0!"},{"$error":"#DIV/0!"},{"$error":"#N/A"},{"$error":"#N/A"},{"$error":"#N/A"},315,1979.2033717615698,{"$error":"#N/A"},{"$error":"#N/A"},{"$error":"#N/A"},{"$error":"#N/A"},{"$error":"#DIV/0!"},{"$error":"#DIV/0!"},{"$error":"#DIV/0!"},{"$error":"#N/A"},{"$error":"#N/A"},{"$error":"#N/A"},315,1979.2033717615698,{"$error":"#N/A"},{"$error":"#N/A"},{"$error":"#N/A"},{"$error":"#N/A"},{"$error":"#DIV/0!"},{"$error":"#DIV/0!"},{"$error":"#DIV/0!"},{"$error":"#N/A"},{"$error":"#N/A"},{"$error":"#N/A"},315,1979.2033717615698,{"$error":"#N/A"},{"$error":"#N/A"},{"$error":"#N/A"},{"$error":"#N/A"},{"$error":"#DIV/0!"},{"$error":"#DIV/0!"},{"$error":"#DIV/0!"},{"$error":"#N/A"},{"$error":"#N/A"},{"$error":"#N/A"},315,1979.2033717615698,{"$error":"#N/A"},{"$error":"#N/A"},{"$error":"#N/A"},{"$error":"#N/A"},{"$error":"#DIV/0!"},{"$error":"#DIV/0!"},{"$error":"#DIV/0!"},{"$error":"#N/A"},{"$error":"#N/A"},{"$error":"#N/A"},null,null,315,1979.2033717615698,{"$error":"#DIV/0!"},{"$error":"#DIV/0!"},{"$error":"#DIV/0!"},{"$error":"#DIV/0!"},{"$error":"#DIV/0!"},{"$error":"#DIV/0!"},{"$error":"#DIV/0!"},{"$error":"#DIV/0!"},{"$error":"#DIV/0!"},{"$error":"#DIV/0!"},315,1979.2033717615698,{"$error":"#DIV/0!"},{"$error":"#DIV/0!"},{"$error":"#DIV/0!"},{"$error":"#DIV/0!"},{"$error":"#DIV/0!"},{"$error":"#DIV/0!"},{"$error":"#DIV/0!"},{"$error":"#DIV/0!"},{"$error":"#DIV/0!"},{"$error":"#DIV/0!"},315,1979.2033717615698,{"$error":"#DIV/0!"},{"$error":"#DIV/0!"},{"$error":"#DIV/0!"},{"$error":"#DIV/0!"},{"$error":"#DIV/0!"},{"$error":"#DIV/0!"},{"$error":"#DIV/0!"},{"$error":"#DIV/0!"},{"$error":"#DIV/0!"},{"$error":"#DIV/0!"},315,1979.2033717615698,{"$error":"#DIV/0!"},{"$error":"#DIV/0!"},{"$error":"#DIV/0!"},{"$error":"#DIV/0!"},{"$error":"#DIV/0!"},{"$error":"#DIV/0!"},{"$error":"#DIV/0!"},{"$error":"#DIV/0!"},{"$error":"#DIV/0!"},{"$error":"#DIV/0!"},315,1979.2033717615698,{"$error":"#DIV/0!"},{"$error":"#DIV/0!"},{"$error":"#DIV/0!"},{"$error":"#DIV/0!"},{"$error":"#DIV/0!"},{"$error":"#DIV/0!"},{"$error":"#DIV/0!"},{"$error":"#DIV/0!"},{"$error":"#DIV/0!"},{"$error":"#DIV/0!"},315,1979.2033717615698,{"$error":"#DIV/0!"},{"$error":"#DIV/0!"},{"$error":"#DIV/0!"},{"$error":"#DIV/0!"},{"$error":"#DIV/0!"},{"$error":"#DIV/0!"},{"$error":"#DIV/0!"},{"$error":"#DIV/0!"},{"$error":"#DIV/0!"},{"$error":"#DIV/0!"},null,{"$error":"#N/A"},{"$error":"#N/A"},{"$error":"#N/A"},{"$error":"#N/A"},{"$error":"#N/A"},{"$error":"#N/A"},null,{"$error":"#DIV/0!"},{"$error":"#DIV/0!"},{"$error":"#DIV/0!"},{"$error":"#DIV/0!"},{"$error":"#DIV/0!"},{"$error":"#DIV/0!"},false,0,{"$error":"#DIV/0!"},{"$error":"#DIV/0!"},{"$error":"#DIV/0!"},{"$error":"#DIV/0!"},{"$error":"#DIV/0!"},{"$error":"#DIV/0!"},{"$error":"#DIV/0!"},{"$error":"#DIV/0!"},{"$error":"#DIV/0!"},{"$error":"#DIV/0!"},{"$error":"#DIV/0!"},{"$error":"#DIV/0!"},0,0,0,0,0,0,0,0,0,0,0,0,{"$error":"#DIV/0!"},{"$error":"#DIV/0!"},{"$error":"#DIV/0!"},{"$error":"#DIV/0!"},{"$error":"#DIV/0!"},{"$error":"#DIV/0!"},{"$error":"#DIV/0!"},{"$error":"#DIV/0!"},{"$error":"#DIV/0!"},{"$error":"#DIV/0!"},{"$error":"#DIV/0!"},{"$error":"#DIV/0!"}]
[null,null,null,null,null,null,null,null,null,null,null,null,"Melamine (Foam) - CVG",7745,null,null,null,null,null,null,null,null,null,400,2513.2741228718346,{"$error":"#N/A"},{"$error":"#N/A"},{"$error":"#N/A"},{"$error":"#N/A"},{"$error":"#DIV/0!"},{"$error":"#DIV/0!"},{"$error":"#DIV/0!"},{"$error":"#N/A"},{"$error":"#N/A"},{"$error":"#N/A"},400,2513.2741228718346,{"$error":"#N/A"},{"$error":"#N/A"},{"$error":"#N/A"},{"$error":"#N/A"},{"$error":"#DIV/0!"},{"$error":"#DIV/0!"},{"$error":"#DIV/0!"},{"$error":"#N/A"},{"$error":"#N/A"},{"$error":"#N/A"},400,2513.2741228718346,{"$error":"#N/A"},{"$error":"#N/A"},{"$error":"#N/A"},{"$error":"#N/A"},{"$error":"#DIV/0!"},{"$error":"#DIV/0!"},{"$error":"#DIV/0!"},{"$error":"#N/A"},{"$error":"#N/A"},{"$error":"#N/A"},400,2513.2741228718346,{"$error":"#N/A"},{"$error":"#N/A"},{"$error":"#N/A"},{"$error":"#N/A"},{"$error":"#DIV/0!"},{"$error":"#DIV/0!"},{"$error":"#DIV/0!"},{"$error":"#N/A"},{"$error":"#N/A"},{"$error":"#N/A"},400,2513.2741228718346,{"$error":"#N/A"},{"$error":"#N/A"},{"$error":"#N/A"},{"$error":"#N/A"},{"$error":"#DIV/0!"},{"$error":"#DIV/0!"},{"$error":"#DIV/0!"},{"$error":"#N/A"},{"$error":"#N/A"},{"$error":"#N/A"},400,2513.2741228718346,{"$error":"#N/A"},{"$error":"#N/A"},{"$error":"#N/A"},{"$error":"#N/A"},{"$error":"#DIV/0!"},{"$error":"#DIV/0!"},{"$error":"#DIV/0!"},{"$error":"#N/A"},{"$error":"#N/A"},{"$error":"#N/A"},null,null,400,2513.2741228718346,{"$error":"#DIV/0!"},{"$error":"#DIV/0!"},{"$error":"#DIV/0!"},{"$error":"#DIV/0!"},{"$error":"#DIV/0!"},{"$error":"#DIV/0!"},{"$error":"#DIV/0!"},{"$error":"#DIV/0!"},{"$error":"#DIV/0!"},{"$error":"#DIV/0!"},400,2513.2741228718346,{"$error":"#DIV/0!"},{"$error":"#DIV/0!"},{"$error":"#DIV/0!"},{"$error":"#DIV/0!"},{"$error":"#DIV/0!"},{"$error":"#DIV/0!"},{"$error":"#DIV/0!"},{"$error":"#DIV/0!"},{"$error":"#DIV/0!"},{"$error":"#DIV/0!"},400,2513.2741228718346,{"$error":"#DIV/0!"},{"$error":"#DIV/0!"},{"$error":"#DIV/0!"},{"$error":"#DIV/0!"},{"$error":"#DIV/0!"},{"$error":"#DIV/0!"},{"$error":"#DIV/0!"},{"$error":"#DIV/0!"},{"$error":"#DIV/0!"},{"$error":"#DIV/0!"},400,2513.2741228718346,{"$error":"#DIV/0!"},{"$error":"#DIV/0!"},{"$error":"#DIV/0!"},{"$error":"#DIV/0!"},{"$error":"#DIV/0!"},{"$error":"#DIV/0!"},{"$error":"#DIV/0!"},{"$error":"#DIV/0!"},{"$error":"#DIV/0!"},{"$error":"#DIV/0!"},400,2513.2741228718346,{"$error":"#DIV/0!"},{"$error":"#DIV/0!"},{"$error":"#DIV/0!"},{"$error":"#DIV/0!"},{"$error":"#DIV/0!"},{"$error":"#DIV/0!"},{"$error":"#DIV/0!"},{"$error":"#DIV/0!"},{"$error":"#DIV/0!"},{"$error":"#DIV/0!"},400,2513.2741228718346,{"$error":"#DIV/0!"},{"$error":"#DIV/0!"},{"$error":"#DIV/0!"},{"$error":"#DIV/0!"},{"$error":"#DIV/0!"},{"$error":"#DIV/0!"},{"$error":"#DIV/0!"},{"$error":"#DIV/0!"},{"$error":"#DIV/0!"},{"$error":"#DIV/0!"},null,{"$error":"#N/A"},{"$error":"#N/A"},{"$error":"#N/A"},{"$error":"#N/A"},{"$error":"#N/A"},{"$error":"#N/A"},null,{"$error":"#DIV/0!"},{"$error":"#DIV/0!"},{"$error":"#DIV/0!"},{"$error":"#DIV/0!"},{"$error":"#DIV/0!"},{"$error":"#DIV/0!"},false,0,null,null,null,null,400,2513.2741228718346,{"$error":"#N/A"},{"$error":"#N/A"},{"$error":"#N/A"},{"$error":"#N/A"},{"$error":"#DIV/0!"},{"$error":"#DIV/0!"},{"$error":"#DIV/0!"},{"$error":"#N/A"},{"$error":"#N/A"},{"$error":"#N/A"},400,2513.2741228718346,{"$error":"#N/A"},{"$error":"#N/A"},{"$error":"#N/A"},{"$error":"#N/A"},{"$error":"#DIV/0!"},{"$error":"#DIV/0!"},{"$error":"#DIV/0!"},{"$error":"#N/A"},{"$error":"#N/A"},{"$error":"#N/A"},400,2513.2741228718346,{"$error":"#N/A"},{"$error":"#N/A"},{"$error":"#N/A"},{"$error":"#N/A"},{"$error":"#DIV/0!"},{"$error":"#DIV/0!"},{"$error":"#DIV/0!"},{"$error":"#N/A"},{"$error":"#N/A"},{"$error":"#N/A"},400,2513.2741228718346,{"$error":"#N/A"},{"$error":"#N/A"},{"$error":"#N/A"},{"$error":"#N/A"},{"$error":"#DIV/0!"},{"$error":"#DIV/0!"},{"$error":"#DIV/0!"},{"$error":"#N/A"},{"$error":"#N/A"},{"$error":"#N/A"},400,2513.2741228718346,{"$error":"#N/A"},{"$error":"#N/A"},{"$error":"#N/A"},{"$error":"#N/A"},{"$error":"#DIV/0!"},{"$error":"#DIV/0!"},{"$error":"#DIV/0!"},{"$error":"#N/A"},{"$error":"#N/A"},{"$error":"#N/A"},400,2513.2741228718346,{"$error":"#N/A"},{"$error":"#N/A"},{"$error":"#N/A"},{"$error":"#N/A"},{"$error":"#DIV/0!"},{"$error":"#DIV/0!"},{"$error":"#DIV/0!"},{"$error":"#N/A"},{"$error":"#N/A"},{"$error":"#N/A"},null,null,400,2513.2741228718346,{"$error":"#DIV/0!"},{"$error":"#DIV/0!"},{"$error":"#DIV/0!"},{"$error":"#DIV/0!"},{"$error":"#DIV/0!"},{"$error":"#DIV/0!"},{"$error":"#DIV/0!"},{"$error":"#DIV/0!"},{"$error":"#DIV/0!"},{"$error":"#DIV/0!"},400,2513.2741228718346,{"$error":"#DIV/0!"},{"$error":"#DIV/0!"},{"$error":"#DIV/0!"},{"$error":"#DIV/0!"},{"$error":"#DIV/0!"},{"$error":"#DIV/0!"},{"$error":"#DIV/0!"},{"$error":"#DIV/0!"},{"$error":"#DIV/0!"},{"$error":"#DIV/0!"},400,2513.2741228718346,{"$error":"#DIV/0!"},{"$error":"#DIV/0!"},{"$error":"#DIV/0!"},{"$error":"#DIV/0!"},{"$error":"#DIV/0!"},{"$error":"#DIV/0!"},{"$error":"#DIV/0!"},{"$error":"#DIV/0!"},{"$error":"#DIV/0!"},{"$error":"#DIV/0!"},400,2513.2741228718346,{"$error":"#DIV/0!"},{"$error":"#DIV/0!"},{"$error":"#DIV/0!"},{"$error":"#DIV/0!"},{"$error":"#DIV/0!"},{"$error":"#DIV/0!"},{"$error":"#DIV/0!"},{"$error":"#DIV/0!"},{"$error":"#DIV/0!"},{"$error":"#DIV/0!"},400,2513.2741228718346,{"$error":"#DIV/0!"},{"$error":"#DIV/0!"},{"$error":"#DIV/0!"},{"$error":"#DIV/0!"},{"$error":"#DIV/0!"},{"$error":"#DIV/0!"},{"$error":"#DIV/0!"},{"$error":"#DIV/0!"},{"$error":"#DIV/0!"},{"$error":"#DIV/0!"},400,2513.2741228718346,{"$error":"#DIV/0!"},{"$error":"#DIV/0!"},{"$error":"#DIV/0!"},{"$error":"#DIV/0!"},{"$error":"#DIV/0!"},{"$error":"#DIV/0!"},{"$error":"#DIV/0!"},{"$error":"#DIV/0!"},{"$error":"#DIV/0!"},{"$error":"#DIV/0!"},null,{"$error":"#N/A"},{"$error":"#N/A"},{"$error":"#N/A"},{"$error":"#N/A"},{"$error":"#N/A"},{"$error":"#N/A"},null,{"$error":"#DIV/0!"},{"$error":"#DIV/0!"},{"$error":"#DIV/0!"},{"$error":"#DIV/0!"},{"$error":"#DIV/0!"},{"$error":"#DIV/0!"},false,0,{"$error":"#DIV/0!"},{"$error":"#DIV/0!"},{"$error":"#DIV/0!"},{"$error":"#DIV/0!"},{"$error":"#DIV/0!"},{"$error":"#DIV/0!"},{"$error":"#DIV/0!"},{"$error":"#DIV/0!"},{"$error":"#DIV/0!"},{"$error":"#DIV/0!"},{"$error":"#DIV/0!"},{"$error":"#DIV/0!"},0,0,0,0,0,0,0,0,0,0,0,0,{"$error":"#DIV/0!"},{"$error":"#DIV/0!"},{"$error":"#DIV/0!"},{"$error":"#DIV/0!"},{"$error":"#DIV/0!"},{"$error":"#DIV/0!"},{"$error":"#DIV/0!"},{"$error":"#DIV/0!"},{"$error":"#DIV/0!"},{"$error":"#DIV/0!"},{"$error":"#DIV/0!"},{"$error":"#DIV/0!"}]
[" α2"," C1"," C2"," C3"," C4"," C5"," C6"," C7"," C8",null,null,null,"Polymide (Foam) - LAB",10495,null,null,null,null,null,null,null,null,null,500,3141.5926535897929,{"$error":"#N/A"},{"$error":"#N/A"},{"$error":"#N/A"},{"$error":"#N/A"},{"$error":"#DIV/0!"},{"$error":"#DIV/0!"},{"$error":"#DIV/0!"},{"$error":"#N/A"},{"$error":"#N/A"},{"$error":"#N/A"},500,3141.5926535897929,{"$error":"#N/A"},{"$error":"#N/A"},{"$error":"#N/A"},{"$error":"#N/A"},{"$error":"#DIV/0!"},{"$error":"#DIV/0!"},{"$error":"#DIV/0!"},{"$error":"#N/A"},{"$error":"#N/A"},{"$error":"#N/A"},500,3141.5926535897929,{"$error":"#N/A"},{"$error":"#N/A"},{"$error":"#N/A"},{"$error":"#N/A"},{"$error":"#DIV/0!"},{"$error":"#DIV/0!"},{"$error":"#DIV/0!"},{"$error":"#N/A"},{"$error":"#N/A"},{"$error":"#N/A"},500,3141.5926535897929,{"$error":"#N/A"},{"$error":"#N/A"},{"$error":"#N/A"},{"$error":"#N/A"},{"$error":"#DIV/0!"},{"$error":"#DIV/0!"},{"$error":"#DIV/0!"},{"$error":"#N/A"},{"$error":"#N/A"},{"$error":"#N/A"},500,3141.5926535897929,{"$error":"#N/A"},{"$error":"#N/A"},{"$error":"#N/A"},{"$error":"#N/A"},{"$error":"#DIV/0!"},{"$error":"#DIV/0!"},{"$error":"#DIV/0!"},{"$error":"#N/A"},{"$error":"#N/A"},{"$error":"#N/A"},500,3141.5926535897929,{"$error":"#N/A"},{"$error":"#N/A"},{"$error":"#N/A"},{"$error":"#N/A"},{"$error":"#DIV/0!"},{"$error":"#DIV/0!"},{"$error":"#DIV/0!"},{"$error":"#N/A"},{"$error":"#N/A"},{"$error":"#N/A"},null,null,500,3141.5926535897929,{"$error":"#DIV/0!"},{"$error":"#DIV/0!"},{"$error":"#DIV/0!"},{"$error":"#DIV/0!"},{"$error":"#DIV/0!"},{"$error":"#DIV/0!"},{"$error":"#DIV/0!"},{"$error":"#DIV/0!"},{"$error":"#DIV/0!"},{"$error":"#DIV/0!"},500,3141.5926535897929,{"$error":"#DIV/0!"},{"$error":"#DIV/0!"},{"$error":"#DIV/0!"},{"$error":"#DIV/0!"},{"$error":"#DIV/0!"},{"$error":"#DIV/0!"},{"$error":"#DIV/0!"},{"$error":"#DIV/0!"},{"$error":"#DIV/0!"},{"$error":"#DIV/0!"},500,3141.5926535897929,{"$error":"#DIV/0!"},{"$error":"#DIV/0!"},{"$error":"#DIV/0!"},{"$error":"#DIV/0!"},{"$error":"#DIV/0!"},{"$error":"#DIV/0!"},{"$error":"#DIV/0!"},{"$error":"#DIV/0!"},{"$error":"#DIV/0!"},{"$error":"#DIV/0!"},500,3141.5926535897929,{"$error":"#DIV/0!"},{"$error":"#DIV/0!"},{"$error":"#DIV/0!"},{"$error":"#DIV/0!"},{"$error":"#DIV/0!"},{"$error":"#DIV/0!"},{"$error":"#DIV/0!"},{"$error":"#DIV/0!"},{"$error":"#DIV/0!"},{"$error":"#DIV/0!"},500,3141.5926535897929,{"$error":"#DIV/0!"},{"$error":"#DIV/0!"},{"$error":"#DIV/0!"},{"$error":"#DIV/0!"},{"$error":"#DIV/0!"},{"$error":"#DIV/0!"},{"$error":"#DIV/0!"},{"$error":"#DIV/0!"},{"$error":"#DIV/0!"},{"$error":"#DIV/0!"},500,3141.5926535897929,{"$error":"#DIV/0!"},{"$error":"#DIV/0!"},{"$error":"#DIV/0!"},{"$error":"#DIV/0!"},{"$error":"#DIV/0!"},{"$error":"#DIV/0!"},{"$error":"#DIV/0!"},{"$error":"#DIV/0!"},{"$error":"#DIV/0!"},{"$error":"#DIV/0!"},null,{"$error":"#N/A"},{"$error":"#N/A"},{"$error":"#N/A"},{"$error":"#N/A"},{"$error":"#N/A"},{"$error":"#N/A"},null,{"$error":"#DIV/0!"},{"$error":"#DIV/0!"},{"$error":"#DIV/0!"},{"$error":"#DIV/0!"},{"$error":"#DIV/0!"},{"$error":"#DIV/0!"},false,0,null,null,null,null,500,3141.5926535897929,{"$error":"#N/A"},{"$error":"#N/A"},{"$error":"#N/A"},{"$error":"#N/A"},{"$error":"#DIV/0!"},{"$error":"#DIV/0!"},{"$error":"#DIV/0!"},{"$error":"#N/A"},{"$error":"#N/A"},{"$error":"#N/A"},500,3141.5926535897929,{"$error":"#N/A"},{"$error":"#N/A"},{"$error":"#N/A"},{"$error":"#N/A"},{"$error":"#DIV/0!"},{"$error":"#DIV/0!"},{"$error":"#DIV/0!"},{"$error":"#N/A"},{"$error":"#N/A"},{"$error":"#N/A"},500,3141.5926535897929,{"$error":"#N/A"},{"$error":"#N/A"},{"$error":"#N/A"},{"$error":"#N/A"},{"$error":"#DIV/0!"},{"$error":"#DIV/0!"},{"$error":"#DIV/0!"},{"$error":"#N/A"},{"$error":"#N/A"},{"$error":"#N/A"},500,3141.5926535897929,{"$error":"#N/A"},{"$error":"#N/A"},{"$error":"#N/A"},{"$error":"#N/A"},{"$error":"#DIV/0!"},{"$error":"#DIV/0!"},{"$error":"#DIV/0!"},{"$error":"#N/A"},{"$error":"#N/A"},{"$error":"#N/A"},500,3141.5926535897929,{"$error":"#N/A"},{"$error":"#N/A"},{"$error":"#N/A"},{"$error":"#N/A"},{"$error":"#DIV/0!"},{"$error":"#DIV/0!"},{"$error":"#DIV/0!"},{"$error":"#N/A"},{"$error":"#N/A"},{"$error":"#N/A"},500,3141.5926535897929,{"$error":"#N/A"},{"$error":"#N/A"},{"$error":"#N/A"},{"$error":"#N/A"},{"$error":"#DIV/0!"},{"$error":"#DIV/0!"},{"$error":"#DIV/0!"},{"$error":"#N/A"},{"$error":"#N/A"},{"$error":"#N/A"},null,null,500,3141.5926535897929,{"$error":"#DIV/0!"},{"$error":"#DIV/0!"},{"$error":"#DIV/0!"},{"$error":"#DIV/0!"},{"$error":"#DIV/0!"},{"$error":"#DIV/0!"},{"$error":"#DIV/0!"},{"$error":"#DIV/0!"},{"$error":"#DIV/0!"},{"$error":"#DIV/0!"},500,3141.5926535897929,{"$error":"#DIV/0!"},{"$error":"#DIV/0!"},{"$error":"#DIV/0!"},{"$error":"#DIV/0!"},{"$error":"#DIV/0!"},{"$error":"#DIV/0!"},{"$error":"#DIV/0!"},{"$error":"#DIV/0!"},{"$error":"#DIV/0!"},{"$error":"#DIV/0!"},500,3141.5926535897929,{"$error":"#DIV/0!"},{"$error":"#DIV/0!"},{"$error":"#DIV/0!"},{"$error":"#DIV/0!"},{"$error":"#DIV/0!"},{"$error":"#DIV/0!"},{"$error":"#DIV/0!"},{"$error":"#DIV/0!"},{"$error":"#DIV/0!"},{"$error":"#DIV/0!"},500,3141.5926535897929,{"$error":"#DIV/0!"},{"$error":"#DIV/0!"},{"$error":"#DIV/0!"},{"$error":"#DIV/0!"},{"$error":"#DIV/0!"},{"$error":"#DIV/0!"},{"$error":"#DIV/0!"},{"$error":"#DIV/0!"},{"$error":"#DIV/0!"},{"$error":"#DIV/0!"},500,3141.5926535897929,{"$error":"#DIV/0!"},{"$error":"#DIV/0!"},{"$error":"#DIV/0!"},{"$error":"#DIV/0!"},{"$error":"#DIV/0!"},{"$error":"#DIV/0!"},{"$error":"#DIV/0!"},{"$error":"#DIV/0!"},{"$error":"#DIV/0!"},{"$error":"#DIV/0!"},500,3141.5926535897929,{"$error":"#DIV/0!"},{"$error":"#DIV/0!"},{"$error":"#DIV/0!"},{"$error":"#DIV/0!"},{"$error":"#DIV/0!"},{"$error":"#DIV/0!"},{"$error":"#DIV/0!"},{"$error":"#DIV/0!"},{"$error":"#DIV/0!"},{"$error":"#DIV/0!"},null,{"$error":"#N/A"},{"$error":"#N/A"},{"$error":"#N/A"},{"$error":"#N/A"},{"$error":"#N/A"},{"$error":"#N/A"},null,{"$error":"#DIV/0!"},{"$error":"#DIV/0!"},{"$error":"#DIV/0!"},{"$error":"#DIV/0!"},{"$error":"#DIV/0!"},{"$error":"#DIV/0!"},false,0,{"$error":"#DIV/0!"},{"$error":"#DIV/0!"},{"$error":"#DIV/0!"},{"$error":"#DIV/0!"},{"$error":"#DIV/0!"},{"$error":"#DIV/0!"},{"$error":"#DIV/0!"},{"$error":"#DIV/0!"},{"$error":"#DIV/0!"},{"$error":"#DIV/0!"},{"$error":"#DIV/0!"},{"$error":"#DIV/0!"},0,0,0,0,0,0,0,0,0,0,0,0,{"$error":"#DIV/0!"},{"$error":"#DIV/0!"},{"$error":"#DIV/0!"},{"$error":"#DIV/0!"},{"$error":"#DIV/0!"},{"$error":"#DIV/0!"},{"$error":"#DIV/0!"},{"$error":"#DIV/0!"},{"$error":"#DIV/0!"},{"$error":"#DIV/0!"},{"$error":"#DIV/0!"},{"$error":"#DIV/0!"}]
[null,{"$f":"VLOOKUP(A27,A3:I6,2,FALSE)","v":{"$error":"#N/A"}},{"$f":"VLOOKUP(A27,A3:I6,3,FALSE)","v":{"$error":"#N/A"}},{"$f":"VLOOKUP(A27,A3:I6,4,FALSE)","v":{"$error":"#N/A"}},{"$f":"VLOOKUP(A27,A3:I6,5,FALSE)","v":{"$error":"#N/A"}},{"$f":"VLOOKUP(A27,A3:I6,6,FALSE)","v":{"$error":"#N/A"}},{"$f":"VLOOKUP(A27,A3:I6,7,FALSE)","v":{"$error":"#N/A"}},{"$f":"VLOOKUP(A27,A3:I6,8,FALSE)","v":{"$error":"#N/A"}},{"$f":"VLOOKUP(A27,A3:I6,9,FALSE)","v":{"$error":"#N/A"}},null,null,null,"Miscellaneous Foam - LAB",4857,null,null,null,null,null,null,null,null,null,630,3958.4067435231395,{"$error":"#N/A"},{"$error":"#N/A"},{"$error":"#N/A"},{"$error":"#N/A"},{"$error":"#DIV/0!"},{"$error":"#DIV/0!"},{"$error":"#DIV/0!"},{"$error":"#N/A"},{"$error":"#N/A"},{"$error":"#N/A"},630,3958.4067435231395,{"$error":"#N/A"},{"$error":"#N/A"},{"$error":"#N/A"},{"$error":"#N/A"},{"$error":"#DIV/0!"},{"$error":"#DIV/0!"},{"$error":"#DIV/0!"},{"$error":"#N/A"},{"$error":"#N/A"},{"$error":"#N/A"},630,3958.4067435231395,{"$error":"#N/A"},{"$error":"#N/A"},{"$error":"#N/A"},{"$error":"#N/A"},{"$error":"#DIV/0!"},{"$error":"#DIV/0!"},{"$error":"#DIV/0!"},{"$error":"#N/A"},{"$error":"#N/A"},{"$error":"#N/A"},630,3958.4067435231395,{"$error":"#N/A"},{"$error":"#N/A"},{"$error":"#N/A"},{"$error":"#N/A"},{"$error":"#DIV/0!"},{"$error":"#DIV/0!"},{"$error":"#DIV/0!"},{"$error":"#N/A"},{"$error":"#N/A"},{"$error":"#N/A"},630,3958.4067435231395,{"$error":"#N/A"},{"$error":"#N/A"},{"$error":"#N/A"},{"$error":"#N/A"},{"$error":"#DIV/0!"},{"$error":"#DIV/0!"},{"$error":"#DIV/0!"},{"$error":"#N/A"},{"$error":"#N/A"},{"$error":"#N/A"},630,3958.4067435231395,{"$error":"#N/A"},{"$error":"#N/A"},{"$error":"#N/A"},{"$error":"#N/A"},{"$error":"#DIV/0!"},{"$error":"#DIV/0!"},{"$error":"#DIV/0!"},{"$error":"#N/A"},{"$error":"#N/A"},{"$error":"#N/A"},null,null,630,3958.4067435231395,{"$error":"#DIV/0!"},{"$error":"#DIV/0!"},{"$error":"#DIV/0!"},{"$error":"#DIV/0!"},{"$error":"#DIV/0!"},{"$error":"#DIV/0!"},{"$error":"#DIV/0!"},{"$error":"#DIV/0!"},{"$error":"#DIV/0!"},{"$error":"#DIV/0!"},630,3958.4067435231395,{"$error":"#DIV/0!"},{"$error":"#DIV/0!"},{"$error":"#DIV/0!"},{"$error":"#DIV/0!"},{"$error":"#DIV/0!"},{"$error":"#DIV/0!"},{"$error":"#DIV/0!"},{"$error":"#DIV/0!"},{"$error":"#DIV/0!"},{"$error":"#DIV/0!"},630,3958.4067435231395,{"$error":"#DIV/0!"},{"$error":"#DIV/0!"},{"$error":"#DIV/0!"},{"$error":"#DIV/0!"},{"$error":"#DIV/0!"},{"$error":"#DIV/0!"},{"$error":"#DIV/0!"},{"$error":"#DIV/0!"},{"$error":"#DIV/0!"},{"$error":"#DIV/0!"},630,3958.4067435231395,{"$error":"#DIV/0!"},{"$error":"#DIV/0!"},{"$error":"#DIV/0!"},{"$error":"#DIV/0!"},{"$error":"#DIV/0!"},{"$error":"#DIV/0!"},{"$error":"#DIV/0!"},{"$error":"#DIV/0!"},{"$error":"#DIV/0!"},{"$error":"#DIV/0!"},630,3958.4067435231395,{"$error":"#DIV/0!"},{"$error":"#DIV/0!"},{"$error":"#DIV/0!"},{"$error":"#DIV/0!"},{"$error":"#DIV/0!"},{"$error":"#DIV/0!"},{"$error":"#DIV/0!"},{"$error":"#DIV/0!"},{"$error":"#DIV/0!"},{"$error":"#DIV/0!"},630,3958.4067435231395,{"$error":"#DIV/0!"},{"$error":"#DIV/0!"},{"$error":"#DIV/0!"},{"$error":"#DIV/0!"},{"$error":"#DIV/0!"},{"$error":"#DIV/0!"},{"$error":"#DIV/0!"},{"$error":"#DIV/0!"},{"$error":"#DIV/0!"},{"$error":"#DIV/0!"},null,{"$error":"#N/A"},{"$error":"#N/A"},{"$error":"#N/A"},{"$error":"#N/A"},{"$error":"#N/A"},{"$error":"#N/A"},null,{"$error":"#DIV/0!"},{"$error":"#DIV/0!"},{"$error":"#DIV/0!"},{"$error":"#DIV/0!"},{"$error":"#DIV/0!"},{"$error":"#DIV/0!"},false,0,null,null,null,null,630,3958.4067435231395,{"$error":"#N/A"},{"$error":"#N/A"},{"$error":"#N/A"},{"$error":"#N/A"},{"$error":"#DIV/0!"},{"$error":"#DIV/0!"},{"$error":"#DIV/0!"},{"$error":"#N/A"},{"$error":"#N/A"},{"$error":"#N/A"},630,3958.4067435231395,{"$error":"#N/A"},{"$error":"#N/A"},{"$error":"#N/A"},{"$error":"#N/A"},{"$error":"#DIV/0!"},{"$error":"#DIV/0!"},{"$error":"#DIV/0!"},{"$error":"#N/A"},{"$error":"#N/A"},{"$error":"#N/A"},630,3958.4067435231395,{"$error":"#N/A"},{"$error":"#N/A"},{"$error":"#N/A"},{"$error":"#N/A"},{"$error":"#DIV/0!"},{"$error":"#DIV/0!"},{"$error":"#DIV/0!"},{"$error":"#N/A"},{"$error":"#N/A"},{"$error":"#N/A"},630,3958.4067435231395,{"$error":"#N/A"},{"$error":"#N/A"},{"$error":"#N/A"},{"$error":"#N/A"},{"$error":"#DIV/0!"},{"$error":"#DIV/0!"},{"$error":"#DIV/0!"},{"$error":"#N/A"},{"$error":"#N/A"},{"$error":"#N/A"},630,3958.4067435231395,{"$error":"#N/A"},{"$error":"#N/A"},{"$error":"#N/A"},{"$error":"#N/A"},{"$error":"#DIV/0!"},{"$error":"#DIV/0!"},{"$error":"#DIV/0!"},{"$error":"#N/A"},{"$error":"#N/A"},{"$error":"#N/A"},630,3958.4067435231395,{"$error":"#N/A"},{"$error":"#N/A"},{"$error":"#N/A"},{"$error":"#N/A"},{"$error":"#DIV/0!"},{"$error":"#DIV/0!"},{"$error":"#DIV/0!"},{"$error":"#N/A"},{"$error":"#N/A"},{"$error":"#N/A"},null,null,630,3958.4067435231395,{"$error":"#DIV/0!"},{"$error":"#DIV/0!"},{"$error":"#DIV/0!"},{"$error":"#DIV/0!"},{"$error":"#DIV/0!"},{"$error":"#DIV/0!"},{"$error":"#DIV/0!"},{"$error":"#DIV/0!"},{"$error":"#DIV/0!"},{"$error":"#DIV/0!"},630,3958.4067435231395,{"$error":"#DIV/0!"},{"$error":"#DIV/0!"},{"$error":"#DIV/0!"},{"$error":"#DIV/0!"},{"$error":"#DIV/0!"},{"$error":"#DIV/0!"},{"$error":"#DIV/0!"},{"$error":"#DIV/0!"},{"$error":"#DIV/0!"},{"$error":"#DIV/0!"},630,3958.4067435231395,{"$error":"#DIV/0!"},{"$error":"#DIV/0!"},{"$error":"#DIV/0!"},{"$error":"#DIV/0!"},{"$error":"#DIV/0!"},{"$error":"#DIV/0!"},{"$error":"#DIV/0!"},{"$error":"#DIV/0!"},{"$error":"#DIV/0!"},{"$error":"#DIV/0!"},630,3958.4067435231395,{"$error":"#DIV/0!"},{"$error":"#DIV/0!"},{"$error":"#DIV/0!"},{"$error":"#DIV/0!"},{"$error":"#DIV/0!"},{"$error":"#DIV/0!"},{"$error":"#DIV/0!"},{"$error":"#DIV/0!"},{"$error":"#DIV/0!"},{"$error":"#DIV/0!"},630,3958.4067435231395,{"$error":"#DIV/0!"},{"$error":"#DIV/0!"},{"$error":"#DIV/0!"},{"$error":"#DIV/0!"},{"$error":"#DIV/0!"},{"$error":"#DIV/0!"},{"$error":"#DIV/0!"},{"$error":"#DIV/0!"},{"$error":"#DIV/0!"},{"$error":"#DIV/0!"},630,3958.4067435231395,{"$error":"#DIV/0!"},{"$error":"#DIV/0!"},{"$error":"#DIV/0!"},{"$error":"#DIV/0!"},{"$error":"#DIV/0!"},{"$error":"#DIV/0!"},{"$error":"#DIV/0!"},{"$error":"#DIV/0!"},{"$error":"#DIV/0!"},{"$error":"#DIV/0!"},null,{"$error":"#N/A"},{"$error":"#N/A"},{"$error":"#N/A"},{"$error":"#N/A"},{"$error":"#N/A"},{"$error":"#N/A"},null,{"$error":"#DIV/0!"},{"$error":"#DIV/0!"},{"$error":"#DIV/0!"},{"$error":"#DIV/0!"},{"$error":"#DIV/0!"},{"$error":"#DIV/0!"},false,0,{"$error":"#DIV/0!"},{"$error":"#DIV/0!"},{"$error":"#DIV/0!"},{"$error":"#DIV/0!"},{"$error":"#DIV/0!"},{"$error":"#DIV/0!"},{"$error":"#DIV/0!"},{"$error":"#DIV/0!"},{"$error":"#DIV/0!"},{"$error":"#DIV/0!"},{"$error":"#DIV/0!"},{"$error":"#DIV/0!"},0,0,0,0,0,0,0,0,0,0,0,0,{"$error":"#DIV/0!"},{"$error":"#DIV/0!"},{"$error":"#DIV/0!"},{"$error":"#DIV/0!"},{"$error":"#DIV/0!"},{"$error":"#DIV/0!"},{"$error":"#DIV/0!"},{"$error":"#DIV/0!"},{"$error":"#DIV/0!"},{"$error":"#DIV/0!"},{"$error":"#DIV/0!"},{"$error":"#DIV/0!"}]
["Material flow resistivity (R)",{"$f":"VLOOKUP(C28,'Path Considerations'!A24:B46,2,FALSE)","v":{"$error":"#N/A"}},null,null,null,null,null,null,null,null,null,null,null,null,null,null,null,null,null,null,null,null,null,800,5026.5482457436692,{"$error":"#N/A"},{"$error":"#N/A"},{"$error":"#N/A"},{"$error":"#N/A"},{"$error":"#DIV/0!"},{"$error":"#DIV/0!"},{"$error":"#DIV/0!"},{"$error":"#N/A"},{"$error":"#N/A"},{"$error":"#N/A"},800,5026.5482457436692,{"$error":"#N/A"},{"$error":"#N/A"},{"$error":"#N/A"},{"$error":"#N/A"},{"$error":"#DIV/0!"},{"$error":"#DIV/0!"},{"$error":"#DIV/0!"},{"$error":"#N/A"},{"$error":"#N/A"},{"$error":"#N/A"},800,5026.5482457436692,{"$error":"#N/A"},{"$error":"#N/A"},{"$error":"#N/A"},{"$error":"#N/A"},{"$error":"#DIV/0!"},{"$error":"#DIV/0!"},{"$error":"#DIV/0!"},{"$error":"#N/A"},{"$error":"#N/A"},{"$error":"#N/A"},800,5026.5482457436692,{"$error":"#N/A"},{"$error":"#N/A"},{"$error":"#N/A"},{"$error":"#N/A"},{"$error":"#DIV/0!"},{"$error":"#DIV/0!"},{"$error":"#DIV/0!"},{"$error":"#N/A"},{"$error":"#N/A"},{"$error":"#N/A"},800,5026.5482457436692,{"$error":"#N/A"},{"$error":"#N/A"},{"$error":"#N/A"},{"$error":"#N/A"},{"$error":"#DIV/0!"},{"$error":"#DIV/0!"},{"$error":"#DIV/0!"},{"$error":"#N/A"},{"$error":"#N/A"},{"$error":"#N/A"},800,5026.5482457436692,{"$error":"#N/A"},{"$error":"#N/A"},{"$error":"#N/A"},{"$error":"#N/A"},{"$error":"#DIV/0!"},{"$error":"#DIV/0!"},{"$error":"#DIV/0!"},{"$error":"#N/A"},{"$error":"#N/A"},{"$error":"#N/A"},null,null,800,5026.5482457436692,{"$error":"#DIV/0!"},{"$error":"#DIV/0!"},{"$error":"#DIV/0!"},{"$error":"#DIV/0!"},{"$error":"#DIV/0!"},{"$error":"#DIV/0!"},{"$error":"#DIV/0!"},{"$error":"#DIV/0!"},{"$error":"#DIV/0!"},{"$error":"#DIV/0!"},800,5026.5482457436692,{"$error":"#DIV/0!"},{"$error":"#DIV/0!"},{"$error":"#DIV/0!"},{"$error":"#DIV/0!"},{"$error":"#DIV/0!"},{"$error":"#DIV/0!"},{"$error":"#DIV/0!"},{"$error":"#DIV/0!"},{"$error":"#DIV/0!"},{"$error":"#DIV/0!"},800,5026.5482457436692,{"$error":"#DIV/0!"},{"$error":"#DIV/0!"},{"$error":"#DIV/0!"},{"$error":"#DIV/0!"},{"$error":"#DIV/0!"},{"$error":"#DIV/0!"},{"$error":"#DIV/0!"},{"$error":"#DIV/0!"},{"$error":"#DIV/0!"},{"$error":"#DIV/0!"},800,5026.5482457436692,{"$error":"#DIV/0!"},{"$error":"#DIV/0!"},{"$error":"#DIV/0!"},{"$error":"#DIV/0!"},{"$error":"#DIV/0!"},{"$error":"#DIV/0!"},{"$error":"#DIV/0!"},{"$error":"#DIV/0!"},{"$error":"#DIV/0!"},{"$error":"#DIV/0!"},800,5026.5482457436692,{"$error":"#DIV/0!"},{"$error":"#DIV/0!"},{"$error":"#DIV/0!"},{"$error":"#DIV/0!"},{"$error":"#DIV/0!"},{"$error":"#DIV/0!"},{"$error":"#DIV/0!"},{"$error":"#DIV/0!"},{"$error":"#DIV/0!"},{"$error":"#DIV/0!"},800,5026.5482457436692,{"$error":"#DIV/0!"},{"$error":"#DIV/0!"},{"$error":"#DIV/0!"},{"$error":"#DIV/0!"},{"$error":"#DIV/0!"},{"$error":"#DIV/0!"},{"$error":"#DIV/0!"},{"$error":"#DIV/0!"},{"$error":"#DIV/0!"},{"$error":"#DIV/0!"},null,{"$error":"#N/A"},{"$error":"#N/A"},{"$error":"#N/A"},{"$error":"#N/A"},{"$error":"#N/A"},{"$error":"#N/A"},null,{"$error":"#DIV/0!"},{"$error":"#DIV/0!"},{"$error":"#DIV/0!"},{"$error":"#DIV/0!"},{"$error":"#DIV/0!"},{"$error":"#DIV/0!"},false,0,null,null,null,null,800,5026.5482457436692,{"$error":"#N/A"},{"$error":"#N/A"},{"$error":"#N/A"},{"$error":"#N/A"},{"$error":"#DIV/0!"},{"$error":"#DIV/0!"},{"$error":"#DIV/0!"},{"$error":"#N/A"},{"$error":"#N/A"},{"$error":"#N/A"},800,5026.5482457436692,{"$error":"#N/A"},{"$error":"#N/A"},{"$error":"#N/A"},{"$error":"#N/A"},{"$error":"#DIV/0!"},{"$error":"#DIV/0!"},{"$error":"#DIV/0!"},{"$error":"#N/A"},{"$error":"#N/A"},{"$error":"#N/A"},800,5026.5482457436692,{"$error":"#N/A"},{"$error":"#N/A"},{"$error":"#N/A"},{"$error":"#N/A"},{"$error":"#DIV/0!"},{"$error":"#DIV/0!"},{"$error":"#DIV/0!"},{"$error":"#N/A"},{"$error":"#N/A"},{"$error":"#N/A"},800,5026.5482457436692,{"$error":"#N/A"},{"$error":"#N/A"},{"$error":"#N/A"},{"$error":"#N/A"},{"$error":"#DIV/0!"},{"$error":"#DIV/0!"},{"$error":"#DIV/0!"},{"$error":"#N/A"},{"$error":"#N/A"},{"$error":"#N/A"},800,5026.5482457436692,{"$error":"#N/A"},{"$error":"#N/A"},{"$error":"#N/A"},{"$error":"#N/A"},{"$error":"#DIV/0!"},{"$error":"#DIV/0!"},{"$error":"#DIV/0!"},{"$error":"#N/A"},{"$error":"#N/A"},{"$error":"#N/A"},800,5026.5482457436692,{"$error":"#N/A"},{"$error":"#N/A"},{"$error":"#N/A"},{"$error":"#N/A"},{"$error":"#DIV/0!"},{"$error":"#DIV/0!"},{"$error":"#DIV/0!"},{"$error":"#N/A"},{"$error":"#N/A"},{"$error":"#N/A"},null,null,800,5026.5482457436692,{"$error":"#DIV/0!"},{"$error":"#DIV/0!"},{"$error":"#DIV/0!"},{"$error":"#DIV/0!"},{"$error":"#DIV/0!"},{"$error":"#DIV/0!"},{"$error":"#DIV/0!"},{"$error":"#DIV/0!"},{"$error":"#DIV/0!"},{"$error":"#DIV/0!"},800,5026.5482457436692,{"$error":"#DIV/0!"},{"$error":"#DIV/0!"},{"$error":"#DIV/0!"},{"$error":"#DIV/0!"},{"$error":"#DIV/0!"},{"$error":"#DIV/0!"},{"$error":"#DIV/0!"},{"$error":"#DIV/0!"},{"$error":"#DIV/0!"},{"$error":"#DIV/0!"},800,5026.5482457436692,{"$error":"#DIV/0!"},{"$error":"#DIV/0!"},{"$error":"#DIV/0!"},{"$error":"#DIV/0!"},{"$error":"#DIV/0!"},{"$error":"#DIV/0!"},{"$error":"#DIV/0!"},{"$error":"#DIV/0!"},{"$error":"#DIV/0!"},{"$error":"#DIV/0!"},800,5026.5482457436692,{"$error":"#DIV/0!"},{"$error":"#DIV/0!"},{"$error":"#DIV/0!"},{"$error":"#DIV/0!"},{"$error":"#DIV/0!"},{"$error":"#DIV/0!"},{"$error":"#DIV/0!"},{"$error":"#DIV/0!"},{"$error":"#DIV/0!"},{"$error":"#DIV/0!"},800,5026.5482457436692,{"$error":"#DIV/0!"},{"$error":"#DIV/0!"},{"$error":"#DIV/0!"},{"$error":"#DIV/0!"},{"$error":"#DIV/0!"},{"$error":"#DIV/0!"},{"$error":"#DIV/0!"},{"$error":"#DIV/0!"},{"$error":"#DIV/0!"},{"$error":"#DIV/0!"},800,5026.5482457436692,{"$error":"#DIV/0!"},{"$error":"#DIV/0!"},{"$error":"#DIV/0!"},{"$error":"#DIV/0!"},{"$error":"#DIV/0!"},{"$error":"#DIV/0!"},{"$error":"#DIV/0!"},{"$error":"#DIV/0!"},{"$error":"#DIV/0!"},{"$error":"#DIV/0!"},null,{"$error":"#N/A"},{"$error":"#N/A"},{"$error":"#N/A"},{"$error":"#N/A"},{"$error":"#N/A"},{"$error":"#N/A"},null,{"$error":"#DIV/0!"},{"$error":"#DIV/0!"},{"$error":"#DIV/0!"},{"$error":"#DIV/0!"},{"$error":"#DIV/0!"},{"$error":"#DIV/0!"},false,0,{"$error":"#DIV/0!"},{"$error":"#DIV/0!"},{"$error":"#DIV/0!"},{"$error":"#DIV/0!"},{"$error":"#DIV/0!"},{"$error":"#DIV/0!"},{"$error":"#DIV/0!"},{"$error":"#DIV/0!"},{"$error":"#DIV/0!"},{"$error":"#DIV/0!"},{"$error":"#DIV/0!"},{"$error":"#DIV/0!"},0,0,0,0,0,0,0,0,0,0,0,0,{"$error":"#DIV/0!"},{"$error":"#DIV/0!"},{"$error":"#DIV/0!"},{"$error":"#DIV/0!"},{"$error":"#DIV/0!"},{"$error":"#DIV/0!"},{"$error":"#DIV/0!"},{"$error":"#DIV/0!"},{"$error":"#DIV/0!"},{"$error":"#DIV/0!"},{"$error":"#DIV/0!"},{"$error":"#DIV/0!"}]
["Absorption material specimen thickness  (in m)",null,null,null,null,null,null,null,null,null,null,null,null,null,null,null,null,null,null,null,null,null,null,1000,6283.1853071795858,{"$error":"#N/A"},{"$error":"#N/A"},{"$error":"#N/A"},{"$error":"#N/A"},{"$error":"#DIV/0!"},{"$error":"#DIV/0!"},{"$error":"#DIV/0!"},{"$error":"#N/A"},{"$error":"#N/A"},{"$error":"#N/A"},1000,6283.1853071795858,{"$error":"#N/A"},{"$error":"#N/A"},{"$error":"#N/A"},{"$error":"#N/A"},{"$error":"#DIV/0!"},{"$error":"#DIV/0!"},{"$error":"#DIV/0!"},{"$error":"#N/A"},{"$error":"#N/A"},{"$error":"#N/A"},1000,6283.1853071795858,{"$error":"#N/A"},{"$error":"#N/A"},{"$error":"#N/A"},{"$error":"#N/A"},{"$error":"#DIV/0!"},{"$error":"#DIV/0!"},{"$error":"#DIV/0!"},{"$error":"#N/A"},{"$error":"#N/A"},{"$error":"#N/A"},1000,6283.1853071795858,{"$error":"#N/A"},{"$error":"#N/A"},{"$error":"#N/A"},{"$error":"#N/A"},{"$error":"#DIV/0!"},{"$error":"#DIV/0!"},{"$error":"#DIV/0!"},{"$error":"#N/A"},{"$error":"#N/A"},{"$error":"#N/A"},1000,6283.1853071795858,{"$error":"#N/A"},{"$error":"#N/A"},{"$error":"#N/A"},{"$error":"#N/A"},{"$error":"#DIV/0!"},{"$error":"#DIV/0!"},{"$error":"#DIV/0!"},{"$error":"#N/A"},{"$error":"#N/A"},{"$error":"#N/A"},1000,6283.1853071795858,{"$error":"#N/A"},{"$error":"#N/A"},{"$error":"#N/A"},{"$error":"#N/A"},{"$error":"#DIV/0!"},{"$error":"#DIV/0!"},{"$error":"#DIV/0!"},{"$error":"#N/A"},{"$error":"#N/A"},{"$error":"#N/A"},null,null,1000,6283.1853071795858,{"$error":"#DIV/0!"},{"$error":"#DIV/0!"},{"$error":"#DIV/0!"},{"$error":"#DIV/0!"},{"$error":"#DIV/0!"},{"$error":"#DIV/0!"},{"$error":"#DIV/0!"},{"$error":"#DIV/0!"},{"$error":"#DIV/0!"},{"$error":"#DIV/0!"},1000,6283.1853071795858,{"$error":"#DIV/0!"},{"$error":"#DIV/0!"},{"$error":"#DIV/0!"},{"$error":"#DIV/0!"},{"$error":"#DIV/0!"},{"$error":"#DIV/0!"},{"$error":"#DIV/0!"},{"$error":"#DIV/0!"},{"$error":"#DIV/0!"},{"$error":"#DIV/0!"},1000,6283.1853071795858,{"$error":"#DIV/0!"},{"$error":"#DIV/0!"},{"$error":"#DIV/0!"},{"$error":"#DIV/0!"},{"$error":"#DIV/0!"},{"$error":"#DIV/0!"},{"$error":"#DIV/0!"},{"$error":"#DIV/0!"},{"$error":"#DIV/0!"},{"$error":"#DIV/0!"},1000,6283.1853071795858,{"$error":"#DIV/0!"},{"$error":"#DIV/0!"},{"$error":"#DIV/0!"},{"$error":"#DIV/0!"},{"$error":"#DIV/0!"},{"$error":"#DIV/0!"},{"$error":"#DIV/0!"},{"$error":"#DIV/0!"},{"$error":"#DIV/0!"},{"$error":"#DIV/0!"},1000,6283.1853071795858,{"$error":"#DIV/0!"},{"$error":"#DIV/0!"},{"$error":"#DIV/0!"},{"$error":"#DIV/0!"},{"$error":"#DIV/0!"},{"$error":"#DIV/0!"},{"$error":"#DIV/0!"},{"$error":"#DIV/0!"},{"$error":"#DIV/0!"},{"$error":"#DIV/0!"},1000,6283.1853071795858,{"$error":"#DIV/0!"},{"$error":"#DIV/0!"},{"$error":"#DIV/0!"},{"$error":"#DIV/0!"},{"$error":"#DIV/0!"},{"$error":"#DIV/0!"},{"$error":"#DIV/0!"},{"$error":"#DIV/0!"},{"$error":"#DIV/0!"},{"$error":"#DIV/0!"},null,{"$error":"#N/A"},{"$error":"#N/A"},{"$error":"#N/A"},{"$error":"#N/A"},{"$error":"#N/A"},{"$error":"#N/A"},null,{"$error":"#DIV/0!"},{"$error":"#DIV/0!"},{"$error":"#DIV/0!"},{"$error":"#DIV/0!"},{"$error":"#DIV/0!"},{"$error":"#DIV/0!"},false,0,null,null,null,null,1000,6283.1853071795858,{"$error":"#N/A"},{"$error":"#N/A"},{"$error":"#N/A"},{"$error":"#N/A"},{"$error":"#DIV/0!"},{"$error":"#DIV/0!"},{"$error":"#DIV/0!"},{"$error":"#N/A"},{"$error":"#N/A"},{"$error":"#N/A"},1000,6283.1853071795858,{"$error":"#N/A"},{"$error":"#N/A"},{"$error":"#N/A"},{"$error":"#N/A"},{"$error":"#DIV/0!"},{"$error":"#DIV/0!"},{"$error":"#DIV/0!"},{"$error":"#N/A"},{"$error":"#N/A"},{"$error":"#N/A"},1000,6283.1853071795858,{"$error":"#N/A"},{"$error":"#N/A"},{"$error":"#N/A"},{"$error":"#N/A"},{"$error":"#DIV/0!"},{"$error":"#DIV/0!"},{"$error":"#DIV/0!"},{"$error":"#N/A"},{"$error":"#N/A"},{"$error":"#N/A"},1000,6283.1853071795858,{"$error":"#N/A"},{"$error":"#N/A"},{"$error":"#N/A"},{"$error":"#N/A"},{"$error":"#DIV/0!"},{"$error":"#DIV/0!"},{"$error":"#DIV/0!"},{"$error":"#N/A"},{"$error":"#N/A"},{"$error":"#N/A"},1000,6283.1853071795858,{"$error":"#N/A"},{"$error":"#N/A"},{"$error":"#N/A"},{"$error":"#N/A"},{"$error":"#DIV/0!"},{"$error":"#DIV/0!"},{"$error":"#DIV/0!"},{"$error":"#N/A"},{"$error":"#N/A"},{"$error":"#N/A"},1000,6283.1853071795858,{"$error":"#N/A"},{"$error":"#N/A"},{"$error":"#N/A"},{"$error":"#N/A"},{"$error":"#DIV/0!"},{"$error":"#DIV/0!"},{"$error":"#DIV/0!"},{"$error":"#N/A"},{"$error":"#N/A"},{"$error":"#N/A"},null,null,1000,6283.1853071795858,{"$error":"#DIV/0!"},{"$error":"#DIV/0!"},{"$error":"#DIV/0!"},{"$error":"#DIV/0!"},{"$error":"#DIV/0!"},{"$error":"#DIV/0!"},{"$error":"#DIV/0!"},{"$error":"#DIV/0!"},{"$error":"#DIV/0!"},{"$error":"#DIV/0!"},1000,6283.1853071795858,{"$error":"#DIV/0!"},{"$error":"#DIV/0!"},{"$error":"#DIV/0!"},{"$error":"#DIV/0!"},{"$error":"#DIV/0!"},{"$error":"#DIV/0!"},{"$error":"#DIV/0!"},{"$error":"#DIV/0!"},{"$error":"#DIV/0!"},{"$error":"#DIV/0!"},1000,6283.1853071795858,{"$error":"#DIV/0!"},{"$error":"#DIV/0!"},{"$error":"#DIV/0!"},{"$error":"#DIV/0!"},{"$error":"#DIV/0!"},{"$error":"#DIV/0!"},{"$error":"#DIV/0!"},{"$error":"#DIV/0!"},{"$error":"#DIV/0!"},{"$error":"#DIV/0!"},1000,6283.1853071795858,{"$error":"#DIV/0!"},{"$error":"#DIV/0!"},{"$error":"#DIV/0!"},{"$error":"#DIV/0!"},{"$error":"#DIV/0!"},{"$error":"#DIV/0!"},{"$error":"#DIV/0!"},{"$error":"#DIV/0!"},{"$error":"#DIV/0!"},{"$error":"#DIV/0!"},1000,6283.1853071795858,{"$error":"#DIV/0!"},{"$error":"#DIV/0!"},{"$error":"#DIV/0!"},{"$error":"#DIV/0!"},{"$error":"#DIV/0!"},{"$error":"#DIV/0!"},{"$error":"#DIV/0!"},{"$error":"#DIV/0!"},{"$error":"#DIV/0!"},{"$error":"#DIV/0!"},1000,6283.1853071795858,{"$error":"#DIV/0!"},{"$error":"#DIV/0!"},{"$error":"#DIV/0!"},{"$error":"#DIV/0!"},{"$error":"#DIV/0!"},{"$error":"#DIV/0!"},{"$error":"#DIV/0!"},{"$error":"#DIV/0!"},{"$error":"#DIV/0!"},{"$error":"#DIV/0!"},null,{"$error":"#N/A"},{"$error":"#N/A"},{"$error":"#N/A"},{"$error":"#N/A"},{"$error":"#N/A"},{"$error":"#N/A"},null,{"$error":"#DIV/0!"},{"$error":"#DIV/0!"},{"$error":"#DIV/0!"},{"$error":"#DIV/0!"},{"$error":"#DIV/0!"},{"$error":"#DIV/0!"},false,0,{"$error":"#DIV/0!"},{"$error":"#DIV/0!"},{"$error":"#DIV/0!"},{"$error":"#DIV/0!"},{"$error":"#DIV/0!"},{"$error":"#DIV/0!"},{"$error":"#DIV/0!"},{"$error":"#DIV/0!"},{"$error":"#DIV/0!"},{"$error":"#DIV/0!"},{"$error":"#DIV/0!"},{"$error":"#DIV/0!"},0,0,0,0,0,0,0,0,0,0,0,0,{"$error":"#DIV/0!"},{"$error":"#DIV/0!"},{"$error":"#DIV/0!"},{"$error":"#DIV/0!"},{"$error":"#DIV/0!"},{"$error":"#DIV/0!"},{"$error":"#DIV/0!"},{"$error":"#DIV/0!"},{"$error":"#DIV/0!"},{"$error":"#DIV/0!"},{"$error":"#DIV/0!"},{"$error":"#DIV/0!"}]
[null,null,null,null,null,null,null,null,null,null,null,null,null,null,null,null,null,null,null,null,null,null,null,1250,7853.981633974483,{"$error":"#N/A"},{"$error":"#N/A"},{"$error":"#N/A"},{"$error":"#N/A"},{"$error":"#DIV/0!"},{"$error":"#DIV/0!"},{"$error":"#DIV/0!"},{"$error":"#N/A"},{"$error":"#N/A"},{"$error":"#N/A"},1250,7853.981633974483,{"$error":"#N/A"},{"$error":"#N/A"},{"$error":"#N/A"},{"$error":"#N/A"},{"$error":"#DIV/0!"},{"$error":"#DIV/0!"},{"$error":"#DIV/0!"},{"$error":"#N/A"},{"$error":"#N/A"},{"$error":"#N/A"},1250,7853.981633974483,{"$error":"#N/A"},{"$error":"#N/A"},{"$error":"#N/A"},{"$error":"#N/A"},{"$error":"#DIV/0!"},{"$error":"#DIV/0!"},{"$error":"#DIV/0!"},{"$error":"#N/A"},{"$error":"#N/A"},{"$error":"#N/A"},1250,7853.981633974483,{"$error":"#N/A"},{"$error":"#N/A"},{"$error":"#N/A"},{"$error":"#N/A"},{"$error":"#DIV/0!"},{"$error":"#DIV/0!"},{"$error":"#DIV/0!"},{"$error":"#N/A"},{"$error":"#N/A"},{"$error":"#N/A"},1250,7853.981633974483,{"$error":"#N/A"},{"$error":"#N/A"},{"$error":"#N/A"},{"$error":"#N/A"},{"$error":"#DIV/0!"},{"$error":"#DIV/0!"},{"$error":"#DIV/0!"},{"$error":"#N/A"},{"$error":"#N/A"},{"$error":"#N/A"},1250,7853.981633974483,{"$error":"#N/A"},{"$error":"#N/A"},{"$error":"#N/A"},{"$error":"#N/A"},{"$error":"#DIV/0!"},{"$error":"#DIV/0!"},{"$error":"#DIV/0!"},{"$error":"#N/A"},{"$error":"#N/A"},{"$error":"#N/A"},null,null,1250,7853.981633974483,{"$error":"#DIV/0!"},{"$error":"#DIV/0!"},{"$error":"#DIV/0!"},{"$error":"#DIV/0!"},{"$error":"#DIV/0!"},{"$error":"#DIV/0!"},{"$error":"#DIV/0!"},{"$error":"#DIV/0!"},{"$error":"#DIV/0!"},{"$error":"#DIV/0!"},1250,7853.981633974483,{"$error":"#DIV/0!"},{"$error":"#DIV/0!"},{"$error":"#DIV/0!"},{"$error":"#DIV/0!"},{"$error":"#DIV/0!"},{"$error":"#DIV/0!"},{"$error":"#DIV/0!"},{"$error":"#DIV/0!"},{"$error":"#DIV/0!"},{"$error":"#DIV/0!"},1250,7853.981633974483,{"$error":"#DIV/0!"},{"$error":"#DIV/0!"},{"$error":"#DIV/0!"},{"$error":"#DIV/0!"},{"$error":"#DIV/0!"},{"$error":"#DIV/0!"},{"$error":"#DIV/0!"},{"$error":"#DIV/0!"},{"$error":"#DIV/0!"},{"$error":"#DIV/0!"},1250,7853.981633974483,{"$error":"#DIV/0!"},{"$error":"#DIV/0!"},{"$error":"#DIV/0!"},{"$error":"#DIV/0!"},{"$error":"#DIV/0!"},{"$error":"#DIV/0!"},{"$error":"#DIV/0!"},{"$error":"#DIV/0!"},{"$error":"#DIV/0!"},{"$error":"#DIV/0!"},1250,7853.981633974483,{"$error":"#DIV/0!"},{"$error":"#DIV/0!"},{"$error":"#DIV/0!"},{"$error":"#DIV/0!"},{"$error":"#DIV/0!"},{"$error":"#DIV/0!"},{"$error":"#DIV/0!"},{"$error":"#DIV/0!"},{"$error":"#DIV/0!"},{"$error":"#DIV/0!"},1250,7853.981633974483,{"$error":"#DIV/0!"},{"$error":"#DIV/0!"},{"$error":"#DIV/0!"},{"$error":"#DIV/0!"},{"$error":"#DIV/0!"},{"$error":"#DIV/0!"},{"$error":"#DIV/0!"},{"$error":"#DIV/0!"},{"$error":"#DIV/0!"},{"$error":"#DIV/0!"},null,{"$error":"#N/A"},{"$error":"#N/A"},{"$error":"#N/A"},{"$error":"#N/A"},{"$error":"#N/A"},{"$error":"#N/A"},null,{"$error":"#DIV/0!"},{"$error":"#DIV/0!"},{"$error":"#DIV/0!"},{"$error":"#DIV/0!"},{"$error":"#DIV/0!"},{"$error":"#DIV/0!"},false,0,null,null,null,null,1250,7853.981633974483,{"$error":"#N/A"},{"$error":"#N/A"},{"$error":"#N/A"},{"$error":"#N/A"},{"$error":"#DIV/0!"},{"$error":"#DIV/0!"},{"$error":"#DIV/0!"},{"$error":"#N/A"},{"$error":"#N/A"},{"$error":"#N/A"},1250,7853.981633974483,{"$error":"#N/A"},{"$error":"#N/A"},{"$error":"#N/A"},{"$error":"#N/A"},{"$error":"#DIV/0!"},{"$error":"#DIV/0!"},{"$error":"#DIV/0!"},{"$error":"#N/A"},{"$error":"#N/A"},{"$error":"#N/A"},1250,7853.981633974483,{"$error":"#N/A"},{"$error":"#N/A"},{"$error":"#N/A"},{"$error":"#N/A"},{"$error":"#DIV/0!"},{"$error":"#DIV/0!"},{"$error":"#DIV/0!"},{"$error":"#N/A"},{"$error":"#N/A"},{"$error":"#N/A"},1250,7853.981633974483,{"$error":"#N/A"},{"$error":"#N/A"},{"$error":"#N/A"},{"$error":"#N/A"},{"$error":"#DIV/0!"},{"$error":"#DIV/0!"},{"$error":"#DIV/0!"},{"$error":"#N/A"},{"$error":"#N/A"},{"$error":"#N/A"},1250,7853.981633974483,{"$error":"#N/A"},{"$error":"#N/A"},{"$error":"#N/A"},{"$error":"#N/A"},{"$error":"#DIV/0!"},{"$error":"#DIV/0!"},{"$error":"#DIV/0!"},{"$error":"#N/A"},{"$error":"#N/A"},{"$error":"#N/A"},1250,7853.981633974483,{"$error":"#N/A"},{"$error":"#N/A"},{"$error":"#N/A"},{"$error":"#N/A"},{"$error":"#DIV/0!"},{"$error":"#DIV/0!"},{"$error":"#DIV/0!"},{"$error":"#N/A"},{"$error":"#N/A"},{"$error":"#N/A"},null,null,1250,7853.981633974483,{"$error":"#DIV/0!"},{"$error":"#DIV/0!"},{"$error":"#DIV/0!"},{"$error":"#DIV/0!"},{"$error":"#DIV/0!"},{"$error":"#DIV/0!"},{"$error":"#DIV/0!"},{"$error":"#DIV/0!"},{"$error":"#DIV/0!"},{"$error":"#DIV/0!"},1250,7853.981633974483,{"$error":"#DIV/0!"},{"$error":"#DIV/0!"},{"$error":"#DIV/0!"},{"$error":"#DIV/0!"},{"$error":"#DIV/0!"},{"$error":"#DIV/0!"},{"$error":"#DIV/0!"},{"$error":"#DIV/0!"},{"$error":"#DIV/0!"},{"$error":"#DIV/0!"},1250,7853.981633974483,{"$error":"#DIV/0!"},{"$error":"#DIV/0!"},{"$error":"#DIV/0!"},{"$error":"#DIV/0!"},{"$error":"#DIV/0!"},{"$error":"#DIV/0!"},{"$error":"#DIV/0!"},{"$error":"#DIV/0!"},{"$error":"#DIV/0!"},{"$error":"#DIV/0!"},1250,7853.981633974483,{"$error":"#DIV/0!"},{"$error":"#DIV/0!"},{"$error":"#DIV/0!"},{"$error":"#DIV/0!"},{"$error":"#DIV/0!"},{"$error":"#DIV/0!"},{"$error":"#DIV/0!"},{"$error":"#DIV/0!"},{"$error":"#DIV/0!"},{"$error":"#DIV/0!"},1250,7853.981633974483,{"$error":"#DIV/0!"},{"$error":"#DIV/0!"},{"$error":"#DIV/0!"},{"$error":"#DIV/0!"},{"$error":"#DIV/0!"},{"$error":"#DIV/0!"},{"$error":"#DIV/0!"},{"$error":"#DIV/0!"},{"$error":"#DIV/0!"},{"$error":"#DIV/0!"},1250,7853.981633974483,{"$error":"#DIV/0!"},{"$error":"#DIV/0!"},{"$error":"#DIV/0!"},{"$error":"#DIV/0!"},{"$error":"#DIV/0!"},{"$error":"#DIV/0!"},{"$error":"#DIV/0!"},{"$error":"#DIV/0!"},{"$error":"#DIV/0!"},{"$error":"#DIV/0!"},null,{"$error":"#N/A"},{"$error":"#N/A"},{"$error":"#N/A"},{"$error":"#N/A"},{"$error":"#N/A"},{"$error":"#N/A"},null,{"$error":"#DIV/0!"},{"$error":"#DIV/0!"},{"$error":"#DIV/0!"},{"$error":"#DIV/0!"},{"$error":"#DIV/0!"},{"$error":"#DIV/0!"},false,0,{"$error":"#DIV/0!"},{"$error":"#DIV/0!"},{"$error":"#DIV/0!"},{"$error":"#DIV/0!"},{"$error":"#DIV/0!"},{"$error":"#DIV/0!"},{"$error":"#DIV/0!"},{"$error":"#DIV/0!"},{"$error":"#DIV/0!"},{"$error":"#DIV/0!"},{"$error":"#DIV/0!"},{"$error":"#DIV/0!"},0,0,0,0,0,0,0,0,0,0,0,0,{"$error":"#DIV/0!"},{"$error":"#DIV/0!"},{"$error":"#DIV/0!"},{"$error":"#DIV/0!"},{"$error":"#DIV/0!"},{"$error":"#DIV/0!"},{"$error":"#DIV/0!"},{"$error":"#DIV/0!"},{"$error":"#DIV/0!"},{"$error":"#DIV/0!"},{"$error":"#DIV/0!"},{"$error":"#DIV/0!"}]
[" α3"," C1"," C2"," C3"," C4"," C5"," C6"," C7"," C8",null,null,null,null,null,null,null,null,null,null,null,null,null,null,1600,10053.096491487338,{"$error":"#N/A"},{"$error":"#N/A"},{"$error":"#N/A"},{"$error":"#N/A"},{"$error":"#DIV/0!"},{"$error":"#DIV/0!"},{"$error":"#DIV/0!"},{"$error":"#N/A"},{"$error":"#N/A"},{"$error":"#N/A"},1600,10053.096491487338,{"$error":"#N/A"},{"$error":"#N/A"},{"$error":"#N/A"},{"$error":"#N/A"},{"$error":"#DIV/0!"},{"$error":"#DIV/0!"},{"$error":"#DIV/0!"},{"$error":"#N/A"},{"$error":"#N/A"},{"$error":"#N/A"},1600,10053.096491487338,{"$error":"#N/A"},{"$error":"#N/A"},{"$error":"#N/A"},{"$error":"#N/A"},{"$error":"#DIV/0!"},{"$error":"#DIV/0!"},{"$error":"#DIV/0!"},{"$error":"#N/A"},{"$error":"#N/A"},{"$error":"#N/A"},1600,10053.096491487338,{"$error":"#N/A"},{"$error":"#N/A"},{"$error":"#N/A"},{"$error":"#N/A"},{"$error":"#DIV/0!"},{"$error":"#DIV/0!"},{"$error":"#DIV/0!"},{"$error":"#N/A"},{"$error":"#N/A"},{"$error":"#N/A"},1600,10053.096491487338,{"$error":"#N/A"},{"$error":"#N/A"},{"$error":"#N/A"},{"$error":"#N/A"},{"$error":"#DIV/0!"},{"$error":"#DIV/0!"},{"$error":"#DIV/0!"},{"$error":"#N/A"},{"$error":"#N/A"},{"$error":"#N/A"},1600,10053.096491487338,{"$error":"#N/A"},{"$error":"#N/A"},{"$error":"#N/A"},{"$error":"#N/A"},{"$error":"#DIV/0!"},{"$error":"#DIV/0!"},{"$error":"#DIV/0!"},{"$error":"#N/A"},{"$error":"#N/A"},{"$error":"#N/A"},null,null,1600,10053.096491487338,{"$error":"#DIV/0!"},{"$error":"#DIV/0!"},{"$error":"#DIV/0!"},{"$error":"#DIV/0!"},{"$error":"#DIV/0!"},{"$error":"#DIV/0!"},{"$error":"#DIV/0!"},{"$error":"#DIV/0!"},{"$error":"#DIV/0!"},{"$error":"#DIV/0!"},1600,10053.096491487338,{"$error":"#DIV/0!"},{"$error":"#DIV/0!"},{"$error":"#DIV/0!"},{"$error":"#DIV/0!"},{"$error":"#DIV/0!"},{"$error":"#DIV/0!"},{"$error":"#DIV/0!"},{"$error":"#DIV/0!"},{"$error":"#DIV/0!"},{"$error":"#DIV/0!"},1600,10053.096491487338,{"$error":"#DIV/0!"},{"$error":"#DIV/0!"},{"$error":"#DIV/0!"},{"$error":"#DIV/0!"},{"$error":"#DIV/0!"},{"$error":"#DIV/0!"},{"$error":"#DIV/0!"},{"$error":"#DIV/0!"},{"$error":"#DIV/0!"},{"$error":"#DIV/0!"},1600,10053.096491487338,{"$error":"#DIV/0!"},{"$error":"#DIV/0!"},{"$error":"#DIV/0!"},{"$error":"#DIV/0!"},{"$error":"#DIV/0!"},{"$error":"#DIV/0!"},{"$error":"#DIV/0!"},{"$error":"#DIV/0!"},{"$error":"#DIV/0!"},{"$error":"#DIV/0!"},1600,10053.096491487338,{"$error":"#DIV/0!"},{"$error":"#DIV/0!"},{"$error":"#DIV/0!"},{"$error":"#DIV/0!"},{"$error":"#DIV/0!"},{"$error":"#DIV/0!"},{"$error":"#DIV/0!"},{"$error":"#DIV/0!"},{"$error":"#DIV/0!"},{"$error":"#DIV/0!"},1600,10053.096491487338,{"$error":"#DIV/0!"},{"$error":"#DIV/0!"},{"$error":"#DIV/0!"},{"$error":"#DIV/0!"},{"$error":"#DIV/0!"},{"$error":"#DIV/0!"},{"$error":"#DIV/0!"},{"$error":"#DIV/0!"},{"$error":"#DIV/0!"},{"$error":"#DIV/0!"},null,{"$error":"#N/A"},{"$error":"#N/A"},{"$error":"#N/A"},{"$error":"#N/A"},{"$error":"#N/A"},{"$error":"#N/A"},null,{"$error":"#DIV/0!"},{"$error":"#DIV/0!"},{"$error":"#DIV/0!"},{"$error":"#DIV/0!"},{"$error":"#DIV/0!"},{"$error":"#DIV/0!"},false,0,null,null,null,null,1600,10053.096491487338,{"$error":"#N/A"},{"$error":"#N/A"},{"$error":"#N/A"},{"$error":"#N/A"},{"$error":"#DIV/0!"},{"$error":"#DIV/0!"},{"$error":"#DIV/0!"},{"$error":"#N/A"},{"$error":"#N/A"},{"$error":"#N/A"},1600,10053.096491487338,{"$error":"#N/A"},{"$error":"#N/A"},{"$error":"#N/A"},{"$error":"#N/A"},{"$error":"#DIV/0!"},{"$error":"#DIV/0!"},{"$error":"#DIV/0!"},{"$error":"#N/A"},{"$error":"#N/A"},{"$error":"#N/A"},1600,10053.096491487338,{"$error":"#N/A"},{"$error":"#N/A"},{"$error":"#N/A"},{"$error":"#N/A"},{"$error":"#DIV/0!"},{"$error":"#DIV/0!"},{"$error":"#DIV/0!"},{"$error":"#N/A"},{"$error":"#N/A"},{"$error":"#N/A"},1600,10053.096491487338,{"$error":"#N/A"},{"$error":"#N/A"},{"$error":"#N/A"},{"$error":"#N/A"},{"$error":"#DIV/0!"},{"$error":"#DIV/0!"},{"$error":"#DIV/0!"},{"$error":"#N/A"},{"$error":"#N/A"},{"$error":"#N/A"},1600,10053.096491487338,{"$error":"#N/A"},{"$error":"#N/A"},{"$error":"#N/A"},{"$error":"#N/A"},{"$error":"#DIV/0!"},{"$error":"#DIV/0!"},{"$error":"#DIV/0!"},{"$error":"#N/A"},{"$error":"#N/A"},{"$error":"#N/A"},1600,10053.096491487338,{"$error":"#N/A"},{"$error":"#N/A"},{"$error":"#N/A"},{"$error":"#N/A"},{"$error":"#DIV/0!"},{"$error":"#DIV/0!"},{"$error":"#DIV/0!"},{"$error":"#N/A"},{"$error":"#N/A"},{"$error":"#N/A"},null,null,1600,10053.096491487338,{"$error":"#DIV/0!"},{"$error":"#DIV/0!"},{"$error":"#DIV/0!"},{"$error":"#DIV/0!"},{"$error":"#DIV/0!"},{"$error":"#DIV/0!"},{"$error":"#DIV/0!"},{"$error":"#DIV/0!"},{"$error":"#DIV/0!"},{"$error":"#DIV/0!"},1600,10053.096491487338,{"$error":"#DIV/0!"},{"$error":"#DIV/0!"},{"$error":"#DIV/0!"},{"$error":"#DIV/0!"},{"$error":"#DIV/0!"},{"$error":"#DIV/0!"},{"$error":"#DIV/0!"},{"$error":"#DIV/0!"},{"$error":"#DIV/0!"},{"$error":"#DIV/0!"},1600,10053.096491487338,{"$error":"#DIV/0!"},{"$error":"#DIV/0!"},{"$error":"#DIV/0!"},{"$error":"#DIV/0!"},{"$error":"#DIV/0!"},{"$error":"#DIV/0!"},{"$error":"#DIV/0!"},{"$error":"#DIV/0!"},{"$error":"#DIV/0!"},{"$error":"#DIV/0!"},1600,10053.096491487338,{"$error":"#DIV/0!"},{"$error":"#DIV/0!"},{"$error":"#DIV/0!"},{"$error":"#DIV/0!"},{"$error":"#DIV/0!"},{"$error":"#DIV/0!"},{"$error":"#DIV/0!"},{"$error":"#DIV/0!"},{"$error":"#DIV/0!"},{"$error":"#DIV/0!"},1600,10053.096491487338,{"$error":"#DIV/0!"},{"$error":"#DIV/0!"},{"$error":"#DIV/0!"},{"$error":"#DIV/0!"},{"$error":"#DIV/0!"},{"$error":"#DIV/0!"},{"$error":"#DIV/0!"},{"$error":"#DIV/0!"},{"$error":"#DIV/0!"},{"$error":"#DIV/0!"},1600,10053.096491487338,{"$error":"#DIV/0!"},{"$error":"#DIV/0!"},{"$error":"#DIV/0!"},{"$error":"#DIV/0!"},{"$error":"#DIV/0!"},{"$error":"#DIV/0!"},{"$error":"#DIV/0!"},{"$error":"#DIV/0!"},{"$error":"#DIV/0!"},{"$error":"#DIV/0!"},null,{"$error":"#N/A"},{"$error":"#N/A"},{"$error":"#N/A"},{"$error":"#N/A"},{"$error":"#N/A"},{"$error":"#N/A"},null,{"$error":"#DIV/0!"},{"$error":"#DIV/0!"},{"$error":"#DIV/0!"},{"$error":"#DIV/0!"},{"$error":"#DIV/0!"},{"$error":"#DIV/0!"},false,0,{"$error":"#DIV/0!"},{"$error":"#DIV/0!"},{"$error":"#DIV/0!"},{"$error":"#DIV/0!"},{"$error":"#DIV/0!"},{"$error":"#DIV/0!"},{"$error":"#DIV/0!"},{"$error":"#DIV/0!"},{"$error":"#DIV/0!"},{"$error":"#DIV/0!"},{"$error":"#DIV/0!"},{"$error":"#DIV/0!"},0,0,0,0,0,0,0,0,0,0,0,0,{"$error":"#DIV/0!"},{"$error":"#DIV/0!"},{"$error":"#DIV/0!"},{"$error":"#DIV/0!"},{"$error":"#DIV/0!"},{"$error":"#DIV/0!"},{"$error":"#DIV/0!"},{"$error":"#DIV/0!"},{"$error":"#DIV/0!"},{"$error":"#DIV/0!"},{"$error":"#DIV/0!"},{"$error":"#DIV/0!"}]
[null,{"$f":"VLOOKUP(A32,A3:I6,2,FALSE)","v":{"$error":"#N/A"}},{"$f":"VLOOKUP(A32,A3:I6,3,FALSE)","v":{"$error":"#N/A"}},{"$f":"VLOOKUP(A32,A3:I6,4,FALSE)","v":{"$error":"#N/A"}},{"$f":"VLOOKUP(A32,A3:I6,5,FALSE)","v":{"$error":"#N/A"}},{"$f":"VLOOKUP(A32,A3:I6,6,FALSE)","v":{"$error":"#N/A"}},{"$f":"VLOOKUP(A32,A3:I6,7,FALSE)","v":{"$error":"#N/A"}},{"$f":"VLOOKUP(A32,A3:I6,8,FALSE)","v":{"$error":"#N/A"}},{"$f":"VLOOKUP(A32,A3:I6,9,FALSE)","v":{"$error":"#N/A"}},null,null,null,"Patch AREA","S1","S2","S3","S4","S5","S6",null,null,null,null,2000,12566.370614359172,{"$error":"#N/A"},{"$error":"#N/A"},{"$error":"#N/A"},{"$error":"#N/A"},{"$error":"#DIV/0!"},{"$error":"#DIV/0!"},{"$error":"#DIV/0!"},{"$error":"#N/A"},{"$error":"#N/A"},{"$error":"#N/A"},2000,12566.370614359172,{"$error":"#N/A"},{"$error":"#N/A"},{"$error":"#N/A"},{"$error":"#N/A"},{"$error":"#DIV/0!"},{"$error":"#DIV/0!"},{"$error":"#DIV/0!"},{"$error":"#N/A"},{"$error":"#N/A"},{"$error":"#N/A"},2000,12566.370614359172,{"$error":"#N/A"},{"$error":"#N/A"},{"$error":"#N/A"},{"$error":"#N/A"},{"$error":"#DIV/0!"},{"$error":"#DIV/0!"},{"$error":"#DIV/0!"},{"$error":"#N/A"},{"$error":"#N/A"},{"$error":"#N/A"},2000,12566.370614359172,{"$error":"#N/A"},{"$error":"#N/A"},{"$error":"#N/A"},{"$error":"#N/A"},{"$error":"#DIV/0!"},{"$error":"#DIV/0!"},{"$error":"#DIV/0!"},{"$error":"#N/A"},{"$error":"#N/A"},{"$error":"#N/A"},2000,12566.370614359172,{"$error":"#N/A"},{"$error":"#N/A"},{"$error":"#N/A"},{"$error":"#N/A"},{"$error":"#DIV/0!"},{"$error":"#DIV/0!"},{"$error":"#DIV/0!"},{"$error":"#N/A"},{"$error":"#N/A"},{"$error":"#N/A"},2000,12566.370614359172,{"$error":"#N/A"},{"$error":"#N/A"},{"$error":"#N/A"},{"$error":"#N/A"},{"$error":"#DIV/0!"},{"$error":"#DIV/0!"},{"$error":"#DIV/0!"},{"$error":"#N/A"},{"$error":"#N/A"},{"$error":"#N/A"},null,null,2000,12566.370614359172,{"$error":"#DIV/0!"},{"$error":"#DIV/0!"},{"$error":"#DIV/0!"},{"$error":"#DIV/0!"},{"$error":"#DIV/0!"},{"$error":"#DIV/0!"},{"$error":"#DIV/0!"},{"$error":"#DIV/0!"},{"$error":"#DIV/0!"},{"$error":"#DIV/0!"},2000,12566.370614359172,{"$error":"#DIV/0!"},{"$error":"#DIV/0!"},{"$error":"#DIV/0!"},{"$error":"#DIV/0!"},{"$error":"#DIV/0!"},{"$error":"#DIV/0!"},{"$error":"#DIV/0!"},{"$error":"#DIV/0!"},{"$error":"#DIV/0!"},{"$error":"#DIV/0!"},2000,12566.370614359172,{"$error":"#DIV/0!"},{"$error":"#DIV/0!"},{"$error":"#DIV/0!"},{"$error":"#DIV/0!"},{"$error":"#DIV/0!"},{"$error":"#DIV/0!"},{"$error":"#DIV/0!"},{"$error":"#DIV/0!"},{"$error":"#DIV/0!"},{"$error":"#DIV/0!"},2000,12566.370614359172,{"$error":"#DIV/0!"},{"$error":"#DIV/0!"},{"$error":"#DIV/0!"},{"$error":"#DIV/0!"},{"$error":"#DIV/0!"},{"$error":"#DIV/0!"},{"$error":"#DIV/0!"},{"$error":"#DIV/0!"},{"$error":"#DIV/0!"},{"$error":"#DIV/0!"},2000,12566.370614359172,{"$error":"#DIV/0!"},{"$error":"#DIV/0!"},{"$error":"#DIV/0!"},{"$error":"#DIV/0!"},{"$error":"#DIV/0!"},{"$error":"#DIV/0!"},{"$error":"#DIV/0!"},{"$error":"#DIV/0!"},{"$error":"#DIV/0!"},{"$error":"#DIV/0!"},2000,12566.370614359172,{"$error":"#DIV/0!"},{"$error":"#DIV/0!"},{"$error":"#DIV/0!"},{"$error":"#DIV/0!"},{"$error":"#DIV/0!"},{"$error":"#DIV/0!"},{"$error":"#DIV/0!"},{"$error":"#DIV/0!"},{"$error":"#DIV/0!"},{"$error":"#DIV/0!"},null,{"$error":"#N/A"},{"$error":"#N/A"},{"$error":"#N/A"},{"$error":"#N/A"},{"$error":"#N/A"},{"$error":"#N/A"},null,{"$error":"#DIV/0!"},{"$error":"#DIV/0!"},{"$error":"#DIV/0!"},{"$error":"#DIV/0!"},{"$error":"#DIV/0!"},{"$error":"#DIV/0!"},false,0,null,null,null,null,2000,12566.370614359172,{"$error":"#N/A"},{"$error":"#N/A"},{"$error":"#N/A"},{"$error":"#N/A"},{"$error":"#DIV/0!"},{"$error":"#DIV/0!"},{"$error":"#DIV/0!"},{"$error":"#N/A"},{"$error":"#N/A"},{"$error":"#N/A"},2000,12566.370614359172,{"$error":"#N/A"},{"$error":"#N/A"},{"$error":"#N/A"},{"$error":"#N/A"},{"$error":"#DIV/0!"},{"$error":"#DIV/0!"},{"$error":"#DIV/0!"},{"$error":"#N/A"},{"$error":"#N/A"},{"$error":"#N/A"},2000,12566.370614359172,{"$error":"#N/A"},{"$error":"#N/A"},{"$error":"#N/A"},{"$error":"#N/A"},{"$error":"#DIV/0!"},{"$error":"#DIV/0!"},{"$error":"#DIV/0!"},{"$error":"#N/A"},{"$error":"#N/A"},{"$error":"#N/A"},2000,12566.370614359172,{"$error":"#N/A"},{"$error":"#N/A"},{"$error":"#N/A"},{"$error":"#N/A"},{"$error":"#DIV/0!"},{"$error":"#DIV/0!"},{"$error":"#DIV/0!"},{"$error":"#N/A"},{"$error":"#N/A"},{"$error":"#N/A"},2000,12566.370614359172,{"$error":"#N/A"},{"$error":"#N/A"},{"$error":"#N/A"},{"$error":"#N/A"},{"$error":"#DIV/0!"},{"$error":"#DIV/0!"},{"$error":"#DIV/0!"},{"$error":"#N/A"},{"$error":"#N/A"},{"$error":"#N/A"},2000,12566.370614359172,{"$error":"#N/A"},{"$error":"#N/A"},{"$error":"#N/A"},{"$error":"#N/A"},{"$error":"#DIV/0!"},{"$error":"#DIV/0!"},{"$error":"#DIV/0!"},{"$error":"#N/A"},{"$error":"#N/A"},{"$error":"#N/A"},null,null,2000,12566.370614359172,{"$error":"#DIV/0!"},{"$error":"#DIV/0!"},{"$error":"#DIV/0!"},{"$error":"#DIV/0!"},{"$error":"#DIV/0!"},{"$error":"#DIV/0!"},{"$error":"#DIV/0!"},{"$error":"#DIV/0!"},{"$error":"#DIV/0!"},{"$error":"#DIV/0!"},2000,12566.370614359172,{"$error":"#DIV/0!"},{"$error":"#DIV/0!"},{"$error":"#DIV/0!"},{"$error":"#DIV/0!"},{"$error":"#DIV/0!"},{"$error":"#DIV/0!"},{"$error":"#DIV/0!"},{"$error":"#DIV/0!"},{"$error":"#DIV/0!"},{"$error":"#DIV/0!"},2000,12566.370614359172,{"$error":"#DIV/0!"},{"$error":"#DIV/0!"},{"$error":"#DIV/0!"},{"$error":"#DIV/0!"},{"$error":"#DIV/0!"},{"$error":"#DIV/0!"},{"$error":"#DIV/0!"},{"$error":"#DIV/0!"},{"$error":"#DIV/0!"},{"$error":"#DIV/0!"},2000,12566.370614359172,{"$error":"#DIV/0!"},{"$error":"#DIV/0!"},{"$error":"#DIV/0!"},{"$error":"#DIV/0!"},{"$error":"#DIV/0!"},{"$error":"#DIV/0!"},{"$error":"#DIV/0!"},{"$error":"#DIV/0!"},{"$error":"#DIV/0!"},{"$error":"#DIV/0!"},2000,12566.370614359172,{"$error":"#DIV/0!"},{"$error":"#DIV/0!"},{"$error":"#DIV/0!"},{"$error":"#DIV/0!"},{"$error":"#DIV/0!"},{"$error":"#DIV/0!"},{"$error":"#DIV/0!"},{"$error":"#DIV/0!"},{"$error":"#DIV/0!"},{"$error":"#DIV/0!"},2000,12566.370614359172,{"$error":"#DIV/0!"},{"$error":"#DIV/0!"},{"$error":"#DIV/0!"},{"$error":"#DIV/0!"},{"$error":"#DIV/0!"},{"$error":"#DIV/0!"},{"$error":"#DIV/0!"},{"$error":"#DIV/0!"},{"$error":"#DIV/0!"},{"$error":"#DIV/0!"},null,{"$error":"#N/A"},{"$error":"#N/A"},{"$error":"#N/A"},{"$error":"#N/A"},{"$error":"#N/A"},{"$error":"#N/A"},null,{"$error":"#DIV/0!"},{"$error":"#DIV/0!"},{"$error":"#DIV/0!"},{"$error":"#DIV/0!"},{"$error":"#DIV/0!"},{"$error":"#DIV/0!"},false,0,{"$error":"#DIV/0!"},{"$error":"#DIV/0!"},{"$error":"#DIV/0!"},{"$error":"#DIV/0!"},{"$error":"#DIV/0!"},{"$error":"#DIV/0!"},{"$error":"#DIV/0!"},{"$error":"#DIV/0!"},{"$error":"#DIV/0!"},{"$error":"#DIV/0!"},{"$error":"#DIV/0!"},{"$error":"#DIV/0!"},0,0,0,0,0,0,0,0,0,0,0,0,{"$error":"#DIV/0!"},{"$error":"#DIV/0!"},{"$error":"#DIV/0!"},{"$error":"#DIV/0!"},{"$error":"#DIV/0!"},{"$error":"#DIV/0!"},{"$error":"#DIV/0!"},{"$error":"#DIV/0!"},{"$error":"#DIV/0!"},{"$error":"#DIV/0!"},{"$error":"#DIV/0!"},{"$error":"#DIV/0!"}]
["Material flow resistivity (R)",{"$f":"VLOOKUP(C33,'Path Considerations'!A24:B46,2,FALSE)","v":{"$error":"#N/A"}},null,null,null,null,null,null,null,null,null,null,"Source-Foam",null,null,null,null,null,null,null,null,null,null,2500,15707.963267948966,{"$error":"#N/A"},{"$error":"#N/A"},{"$error":"#N/A"},{"$error":"#N/A"},{"$error":"#DIV/0!"},{"$error":"#DIV/0!"},{"$error":"#DIV/0!"},{"$error":"#N/A"},{"$error":"#N/A"},{"$error":"#N/A"},2500,15707.963267948966,{"$error":"#N/A"},{"$error":"#N/A"},{"$error":"#N/A"},{"$error":"#N/A"},{"$error":"#DIV/0!"},{"$error":"#DIV/0!"},{"$error":"#DIV/0!"},{"$error":"#N/A"},{"$error":"#N/A"},{"$error":"#N/A"},2500,15707.963267948966,{"$error":"#N/A"},{"$error":"#N/A"},{"$error":"#N/A"},{"$error":"#N/A"},{"$error":"#DIV/0!"},{"$error":"#DIV/0!"},{"$error":"#DIV/0!"},{"$error":"#N/A"},{"$error":"#N/A"},{"$error":"#N/A"},2500,15707.963267948966,{"$error":"#N/A"},{"$error":"#N/A"},{"$error":"#N/A"},{"$error":"#N/A"},{"$error":"#DIV/0!"},{"$error":"#DIV/0!"},{"$error":"#DIV/0!"},{"$error":"#N/A"},{"$error":"#N/A"},{"$error":"#N/A"},2500,15707.963267948966,{"$error":"#N/A"},{"$error":"#N/A"},{"$error":"#N/A"},{"$error":"#N/A"},{"$error":"#DIV/0!"},{"$error":"#DIV/0!"},{"$error":"#DIV/0!"},{"$error":"#N/A"},{"$error":"#N/A"},{"$error":"#N/A"},2500,15707.963267948966,{"$error":"#N/A"},{"$error":"#N/A"},{"$error":"#N/A"},{"$error":"#N/A"},{"$error":"#DIV/0!"},{"$error":"#DIV/0!"},{"$error":"#DIV/0!"},{"$error":"#N/A"},{"$error":"#N/A"},{"$error":"#N/A"},null,null,2500,15707.963267948966,{"$error":"#DIV/0!"},{"$error":"#DIV/0!"},{"$error":"#DIV/0!"},{"$error":"#DIV/0!"},{"$error":"#DIV/0!"},{"$error":"#DIV/0!"},{"$error":"#DIV/0!"},{"$error":"#DIV/0!"},{"$error":"#DIV/0!"},{"$error":"#DIV/0!"},2500,15707.963267948966,{"$error":"#DIV/0!"},{"$error":"#DIV/0!"},{"$error":"#DIV/0!"},{"$error":"#DIV/0!"},{"$error":"#DIV/0!"},{"$error":"#DIV/0!"},{"$error":"#DIV/0!"},{"$error":"#DIV/0!"},{"$error":"#DIV/0!"},{"$error":"#DIV/0!"},2500,15707.963267948966,{"$error":"#DIV/0!"},{"$error":"#DIV/0!"},{"$error":"#DIV/0!"},{"$error":"#DIV/0!"},{"$error":"#DIV/0!"},{"$error":"#DIV/0!"},{"$error":"#DIV/0!"},{"$error":"#DIV/0!"},{"$error":"#DIV/0!"},{"$error":"#DIV/0!"},2500,15707.963267948966,{"$error":"#DIV/0!"},{"$error":"#DIV/0!"},{"$error":"#DIV/0!"},{"$error":"#DIV/0!"},{"$error":"#DIV/0!"},{"$error":"#DIV/0!"},{"$error":"#DIV/0!"},{"$error":"#DIV/0!"},{"$error":"#DIV/0!"},{"$error":"#DIV/0!"},2500,15707.963267948966,{"$error":"#DIV/0!"},{"$error":"#DIV/0!"},{"$error":"#DIV/0!"},{"$error":"#DIV/0!"},{"$error":"#DIV/0!"},{"$error":"#DIV/0!"},{"$error":"#DIV/0!"},{"$error":"#DIV/0!"},{"$error":"#DIV/0!"},{"$error":"#DIV/0!"},2500,15707.963267948966,{"$error":"#DIV/0!"},{"$error":"#DIV/0!"},{"$error":"#DIV/0!"},{"$error":"#DIV/0!"},{"$error":"#DIV/0!"},{"$error":"#DIV/0!"},{"$error":"#DIV/0!"},{"$error":"#DIV/0!"},{"$error":"#DIV/0!"},{"$error":"#DIV/0!"},null,{"$error":"#N/A"},{"$error":"#N/A"},{"$error":"#N/A"},{"$error":"#N/A"},{"$error":"#N/A"},{"$error":"#N/A"},null,{"$error":"#DIV/0!"},{"$error":"#DIV/0!"},{"$error":"#DIV/0!"},{"$error":"#DIV/0!"},{"$error":"#DIV/0!"},{"$error":"#DIV/0!"},false,0,null,null,null,null,2500,15707.963267948966,{"$error":"#N/A"},{"$error":"#N/A"},{"$error":"#N/A"},{"$error":"#N/A"},{"$error":"#DIV/0!"},{"$error":"#DIV/0!"},{"$error":"#DIV/0!"},{"$error":"#N/A"},{"$error":"#N/A"},{"$error":"#N/A"},2500,15707.963267948966,{"$error":"#N/A"},{"$error":"#N/A"},{"$error":"#N/A"},{"$error":"#N/A"},{"$error":"#DIV/0!"},{"$error":"#DIV/0!"},{"$error":"#DIV/0!"},{"$error":"#N/A"},{"$error":"#N/A"},{"$error":"#N/A"},2500,15707.963267948966,{"$error":"#N/A"},{"$error":"#N/A"},{"$error":"#N/A"},{"$error":"#N/A"},{"$error":"#DIV/0!"},{"$error":"#DIV/0!"},{"$error":"#DIV/0!"},{"$error":"#N/A"},{"$error":"#N/A"},{"$error":"#N/A"},2500,15707.963267948966,{"$error":"#N/A"},{"$error":"#N/A"},{"$error":"#N/A"},{"$error":"#N/A"},{"$error":"#DIV/0!"},{"$error":"#DIV/0!"},{"$error":"#DIV/0!"},{"$error":"#N/A"},{"$error":"#N/A"},{"$error":"#N/A"},2500,15707.963267948966,{"$error":"#N/A"},{"$error":"#N/A"},{"$error":"#N/A"},{"$error":"#N/A"},{"$error":"#DIV/0!"},{"$error":"#DIV/0!"},{"$error":"#DIV/0!"},{"$error":"#N/A"},{"$error":"#N/A"},{"$error":"#N/A"},2500,15707.963267948966,{"$error":"#N/A"},{"$error":"#N/A"},{"$error":"#N/A"},{"$error":"#N/A"},{"$error":"#DIV/0!"},{"$error":"#DIV/0!"},{"$error":"#DIV/0!"},{"$error":"#N/A"},{"$error":"#N/A"},{"$error":"#N/A"},null,null,2500,15707.963267948966,{"$error":"#DIV/0!"},{"$error":"#DIV/0!"},{"$error":"#DIV/0!"},{"$error":"#DIV/0!"},{"$error":"#DIV/0!"},{"$error":"#DIV/0!"},{"$error":"#DIV/0!"},{"$error":"#DIV/0!"},{"$error":"#DIV/0!"},{"$error":"#DIV/0!"},2500,15707.963267948966,{"$error":"#DIV/0!"},{"$error":"#DIV/0!"},{"$error":"#DIV/0!"},{"$error":"#DIV/0!"},{"$error":"#DIV/0!"},{"$error":"#DIV/0!"},{"$error":"#DIV/0!"},{"$error":"#DIV/0!"},{"$error":"#DIV/0!"},{"$error":"#DIV/0!"},2500,15707.963267948966,{"$error":"#DIV/0!"},{"$error":"#DIV/0!"},{"$error":"#DIV/0!"},{"$error":"#DIV/0!"},{"$error":"#DIV/0!"},{"$error":"#DIV/0!"},{"$error":"#DIV/0!"},{"$error":"#DIV/0!"},{"$error":"#DIV/0!"},{"$error":"#DIV/0!"},2500,15707.963267948966,{"$error":"#DIV/0!"},{"$error":"#DIV/0!"},{"$error":"#DIV/0!"},{"$error":"#DIV/0!"},{"$error":"#DIV/0!"},{"$error":"#DIV/0!"},{"$error":"#DIV/0!"},{"$error":"#DIV/0!"},{"$error":"#DIV/0!"},{"$error":"#DIV/0!"},2500,15707.963267948966,{"$error":"#DIV/0!"},{"$error":"#DIV/0!"},{"$error":"#DIV/0!"},{"$error":"#DIV/0!"},{"$error":"#DIV/0!"},{"$error":"#DIV/0!"},{"$error":"#DIV/0!"},{"$error":"#DIV/0!"},{"$error":"#DIV/0!"},{"$error":"#DIV/0!"},2500,15707.963267948966,{"$error":"#DIV/0!"},{"$error":"#DIV/0!"},{"$error":"#DIV/0!"},{"$error":"#DIV/0!"},{"$error":"#DIV/0!"},{"$error":"#DIV/0!"},{"$error":"#DIV/0!"},{"$error":"#DIV/0!"},{"$error":"#DIV/0!"},{"$error":"#DIV/0!"},null,{"$error":"#N/A"},{"$error":"#N/A"},{"$error":"#N/A"},{"$error":"#N/A"},{"$error":"#N/A"},{"$error":"#N/A"},null,{"$error":"#DIV/0!"},{"$error":"#DIV/0!"},{"$error":"#DIV/0!"},{"$error":"#DIV/0!"},{"$error":"#DIV/0!"},{"$error":"#DIV/0!"},false,0,{"$error":"#DIV/0!"},{"$error":"#DIV/0!"},{"$error":"#DIV/0!"},{"$error":"#DIV/0!"},{"$error":"#DIV/0!"},{"$error":"#DIV/0!"},{"$error":"#DIV/0!"},{"$error":"#DIV/0!"},{"$error":"#DIV/0!"},{"$error":"#DIV/0!"},{"$error":"#DIV/0!"},{"$error":"#DIV/0!"},0,0,0,0,0,0,0,0,0,0,0,0,{"$error":"#DIV/0!"},{"$error":"#DIV/0!"},{"$error":"#DIV/0!"},{"$error":"#DIV/0!"},{"$error":"#DIV/0!"},{"$error":"#DIV/0!"},{"$error":"#DIV/0!"},{"$error":"#DIV/0!"},{"$error":"#DIV/0!"},{"$error":"#DIV/0!"},{"$error":"#DIV/0!"},{"$error":"#DIV/0!"}]
["Absorption material specimen thickness  (in m)",null,null,null,null,null,null,null,null,null,null,null,"Source-MPP",null,null,null,null,null,null,null,null,null,null,3150,19792.033717615697,{"$error":"#N/A"},{"$error":"#N/A"},{"$error":"#N/A"},{"$error":"#N/A"},{"$error":"#DIV/0!"},{"$error":"#DIV/0!"},{"$error":"#DIV/0!"},{"$error":"#N/A"},{"$error":"#N/A"},{"$error":"#N/A"},3150,19792.033717615697,{"$error":"#N/A"},{"$error":"#N/A"},{"$error":"#N/A"},{"$error":"#N/A"},{"$error":"#DIV/0!"},{"$error":"#DIV/0!"},{"$error":"#DIV/0!"},{"$error":"#N/A"},{"$error":"#N/A"},{"$error":"#N/A"},3150,19792.033717615697,{"$error":"#N/A"},{"$error":"#N/A"},{"$error":"#N/A"},{"$error":"#N/A"},{"$error":"#DIV/0!"},{"$error":"#DIV/0!"},{"$error":"#DIV/0!"},{"$error":"#N/A"},{"$error":"#N/A"},{"$error":"#N/A"},3150,19792.033717615697,{"$error":"#N/A"},{"$error":"#N/A"},{"$error":"#N/A"},{"$error":"#N/A"},{"$error":"#DIV/0!"},{"$error":"#DIV/0!"},{"$error":"#DIV/0!"},{"$error":"#N/A"},{"$error":"#N/A"},{"$error":"#N/A"},3150,19792.033717615697,{"$error":"#N/A"},{"$error":"#N/A"},{"$error":"#N/A"},{"$error":"#N/A"},{"$error":"#DIV/0!"},{"$error":"#DIV/0!"},{"$error":"#DIV/0!"},{"$error":"#N/A"},{"$error":"#N/A"},{"$error":"#N/A"},3150,19792.033717615697,{"$error":"#N/A"},{"$error":"#N/A"},{"$error":"#N/A"},{"$error":"#N/A"},{"$error":"#DIV/0!"},{"$error":"#DIV/0!"},{"$error":"#DIV/0!"},{"$error":"#N/A"},{"$error":"#N/A"},{"$error":"#N/A"},null,null,3150,19792.033717615697,{"$error":"#DIV/0!"},{"$error":"#DIV/0!"},{"$error":"#DIV/0!"},{"$error":"#DIV/0!"},{"$error":"#DIV/0!"},{"$error":"#DIV/0!"},{"$error":"#DIV/0!"},{"$error":"#DIV/0!"},{"$error":"#DIV/0!"},{"$error":"#DIV/0!"},3150,19792.033717615697,{"$error":"#DIV/0!"},{"$error":"#DIV/0!"},{"$error":"#DIV/0!"},{"$error":"#DIV/0!"},{"$error":"#DIV/0!"},{"$error":"#DIV/0!"},{"$error":"#DIV/0!"},{"$error":"#DIV/0!"},{"$error":"#DIV/0!"},{"$error":"#DIV/0!"},3150,19792.033717615697,{"$error":"#DIV/0!"},{"$error":"#DIV/0!"},{"$error":"#DIV/0!"},{"$error":"#DIV/0!"},{"$error":"#DIV/0!"},{"$error":"#DIV/0!"},{"$error":"#DIV/0!"},{"$error":"#DIV/0!"},{"$error":"#DIV/0!"},{"$error":"#DIV/0!"},3150,19792.033717615697,{"$error":"#DIV/0!"},{"$error":"#DIV/0!"},{"$error":"#DIV/0!"},{"$error":"#DIV/0!"},{"$error":"#DIV/0!"},{"$error":"#DIV/0!"},{"$error":"#DIV/0!"},{"$error":"#DIV/0!"},{"$error":"#DIV/0!"},{"$error":"#DIV/0!"},3150,19792.033717615697,{"$error":"#DIV/0!"},{"$error":"#DIV/0!"},{"$error":"#DIV/0!"},{"$error":"#DIV/0!"},{"$error":"#DIV/0!"},{"$error":"#DIV/0!"},{"$error":"#DIV/0!"},{"$error":"#DIV/0!"},{"$error":"#DIV/0!"},{"$error":"#DIV/0!"},3150,19792.033717615697,{"$error":"#DIV/0!"},{"$error":"#DIV/0!"},{"$error":"#DIV/0!"},{"$error":"#DIV/0!"},{"$error":"#DIV/0!"},{"$error":"#DIV/0!"},{"$error":"#DIV/0!"},{"$error":"#DIV/0!"},{"$error":"#DIV/0!"},{"$error":"#DIV/0!"},null,{"$error":"#N/A"},{"$error":"#N/A"},{"$error":"#N/A"},{"$error":"#N/A"},{"$error":"#N/A"},{"$error":"#N/A"},null,{"$error":"#DIV/0!"},{"$error":"#DIV/0!"},{"$error":"#DIV/0!"},{"$error":"#DIV/0!"},{"$error":"#DIV/0!"},{"$error":"#DIV/0!"},false,0,null,null,null,null,3150,19792.033717615697,{"$error":"#N/A"},{"$error":"#N/A"},{"$error":"#N/A"},{"$error":"#N/A"},{"$error":"#DIV/0!"},{"$error":"#DIV/0!"},{"$error":"#DIV/0!"},{"$error":"#N/A"},{"$error":"#N/A"},{"$error":"#N/A"},3150,19792.033717615697,{"$error":"#N/A"},{"$error":"#N/A"},{"$error":"#N/A"},{"$error":"#N/A"},{"$error":"#DIV/0!"},{"$error":"#DIV/0!"},{"$error":"#DIV/0!"},{"$error":"#N/A"},{"$error":"#N/A"},{"$error":"#N/A"},3150,19792.033717615697,{"$error":"#N/A"},{"$error":"#N/A"},{"$error":"#N/A"},{"$error":"#N/A"},{"$error":"#DIV/0!"},{"$error":"#DIV/0!"},{"$error":"#DIV/0!"},{"$error":"#N/A"},{"$error":"#N/A"},{"$error":"#N/A"},3150,19792.033717615697,{"$error":"#N/A"},{"$error":"#N/A"},{"$error":"#N/A"},{"$error":"#N/A"},{"$error":"#DIV/0!"},{"$error":"#DIV/0!"},{"$error":"#DIV/0!"},{"$error":"#N/A"},{"$error":"#N/A"},{"$error":"#N/A"},3150,19792.033717615697,{"$error":"#N/A"},{"$error":"#N/A"},{"$error":"#N/A"},{"$error":"#N/A"},{"$error":"#DIV/0!"},{"$error":"#DIV/0!"},{"$error":"#DIV/0!"},{"$error":"#N/A"},{"$error":"#N/A"},{"$error":"#N/A"},3150,19792.033717615697,{"$error":"#N/A"},{"$error":"#N/A"},{"$error":"#N/A"},{"$error":"#N/A"},{"$error":"#DIV/0!"},{"$error":"#DIV/0!"},{"$error":"#DIV/0!"},{"$error":"#N/A"},{"$error":"#N/A"},{"$error":"#N/A"},null,null,3150,19792.033717615697,{"$error":"#DIV/0!"},{"$error":"#DIV/0!"},{"$error":"#DIV/0!"},{"$error":"#DIV/0!"},{"$error":"#DIV/0!"},{"$error":"#DIV/0!"},{"$error":"#DIV/0!"},{"$error":"#DIV/0!"},{"$error":"#DIV/0!"},{"$error":"#DIV/0!"},3150,19792.033717615697,{"$error":"#DIV/0!"},{"$error":"#DIV/0!"},{"$error":"#DIV/0!"},{"$error":"#DIV/0!"},{"$error":"#DIV/0!"},{"$error":"#DIV/0!"},{"$error":"#DIV/0!"},{"$error":"#DIV/0!"},{"$error":"#DIV/0!"},{"$error":"#DIV/0!"},3150,19792.033717615697,{"$error":"#DIV/0!"},{"$error":"#DIV/0!"},{"$error":"#DIV/0!"},{"$error":"#DIV/0!"},{"$error":"#DIV/0!"},{"$error":"#DIV/0!"},{"$error":"#DIV/0!"},{"$error":"#DIV/0!"},{"$error":"#DIV/0!"},{"$error":"#DIV/0!"},3150,19792.033717615697,{"$error":"#DIV/0!"},{"$error":"#DIV/0!"},{"$error":"#DIV/0!"},{"$error":"#DIV/0!"},{"$error":"#DIV/0!"},{"$error":"#DIV/0!"},{"$error":"#DIV/0!"},{"$error":"#DIV/0!"},{"$error":"#DIV/0!"},{"$error":"#DIV/0!"},3150,19792.033717615697,{"$error":"#DIV/0!"},{"$error":"#DIV/0!"},{"$error":"#DIV/0!"},{"$error":"#DIV/0!"},{"$error":"#DIV/0!"},{"$error":"#DIV/0!"},{"$error":"#DIV/0!"},{"$error":"#DIV/0!"},{"$error":"#DIV/0!"},{"$error":"#DIV/0!"},3150,19792.033717615697,{"$error":"#DIV/0!"},{"$error":"#DIV/0!"},{"$error":"#DIV/0!"},{"$error":"#DIV/0!"},{"$error":"#DIV/0!"},{"$error":"#DIV/0!"},{"$error":"#DIV/0!"},{"$error":"#DIV/0!"},{"$error":"#DIV/0!"},{"$error":"#DIV/0!"},null,{"$error":"#N/A"},{"$error":"#N/A"},{"$error":"#N/A"},{"$error":"#N/A"},{"$error":"#N/A"},{"$error":"#N/A"},null,{"$error":"#DIV/0!"},{"$error":"#DIV/0!"},{"$error":"#DIV/0!"},{"$error":"#DIV/0!"},{"$error":"#DIV/0!"},{"$error":"#DIV/0!"},false,0,{"$error":"#DIV/0!"},{"$error":"#DIV/0!"},{"$error":"#DIV/0!"},{"$error":"#DIV/0!"},{"$error":"#DIV/0!"},{"$error":"#DIV/0!"},{"$error":"#DIV/0!"},{"$error":"#DIV/0!"},{"$error":"#DIV/0!"},{"$error":"#DIV/0!"},{"$error":"#DIV/0!"},{"$error":"#DIV/0!"},0,0,0,0,0,0,0,0,0,0,0,0,{"$error":"#DIV/0!"},{"$error":"#DIV/0!"},{"$error":"#DIV/0!"},{"$error":"#DIV/0!"},{"$error":"#DIV/0!"},{"$error":"#DIV/0!"},{"$error":"#DIV/0!"},{"$error":"#DIV/0!"},{"$error":"#DIV/0!"},{"$error":"#DIV/0!"},{"$error":"#DIV/0!"},{"$error":"#DIV/0!"}]
[null,null,null,null,null,null,null,null,null,null,null,null,"Receiver-Foam",null,null,null,null,null,null,null,null,null,null,4000,25132.741228718343,{"$error":"#N/A"},{"$error":"#N/A"},{"$error":"#N/A"},{"$error":"#N/A"},{"$error":"#DIV/0!"},{"$error":"#DIV/0!"},{"$error":"#DIV/0!"},{"$error":"#N/A"},{"$error":"#N/A"},{"$error":"#N/A"},4000,25132.741228718343,{"$error":"#N/A"},{"$error":"#N/A"},{"$error":"#N/A"},{"$error":"#N/A"},{"$error":"#DIV/0!"},{"$error":"#DIV/0!"},{"$error":"#DIV/0!"},{"$error":"#N/A"},{"$error":"#N/A"},{"$error":"#N/A"},4000,25132.741228718343,{"$error":"#N/A"},{"$error":"#N/A"},{"$error":"#N/A"},{"$error":"#N/A"},{"$error":"#DIV/0!"},{"$error":"#DIV/0!"},{"$error":"#DIV/0!"},{"$error":"#N/A"},{"$error":"#N/A"},{"$error":"#N/A"},4000,25132.741228718343,{"$error":"#N/A"},{"$error":"#N/A"},{"$error":"#N/A"},{"$error":"#N/A"},{"$error":"#DIV/0!"},{"$error":"#DIV/0!"},{"$error":"#DIV/0!"},{"$error":"#N/A"},{"$error":"#N/A"},{"$error":"#N/A"},4000,25132.741228718343,{"$error":"#N/A"},{"$error":"#N/A"},{"$error":"#N/A"},{"$error":"#N/A"},{"$error":"#DIV/0!"},{"$error":"#DIV/0!"},{"$error":"#DIV/0!"},{"$error":"#N/A"},{"$error":"#N/A"},{"$error":"#N/A"},4000,25132.741228718343,{"$error":"#N/A"},{"$error":"#N/A"},{"$error":"#N/A"},{"$error":"#N/A"},{"$error":"#DIV/0!"},{"$error":"#DIV/0!"},{"$error":"#DIV/0!"},{"$error":"#N/A"},{"$error":"#N/A"},{"$error":"#N/A"},null,null,4000,25132.741228718343,{"$error":"#DIV/0!"},{"$error":"#DIV/0!"},{"$error":"#DIV/0!"},{"$error":"#DIV/0!"},{"$error":"#DIV/0!"},{"$error":"#DIV/0!"},{"$error":"#DIV/0!"},{"$error":"#DIV/0!"},{"$error":"#DIV/0!"},{"$error":"#DIV/0!"},4000,25132.741228718343,{"$error":"#DIV/0!"},{"$error":"#DIV/0!"},{"$error":"#DIV/0!"},{"$error":"#DIV/0!"},{"$error":"#DIV/0!"},{"$error":"#DIV/0!"},{"$error":"#DIV/0!"},{"$error":"#DIV/0!"},{"$error":"#DIV/0!"},{"$error":"#DIV/0!"},4000,25132.741228718343,{"$error":"#DIV/0!"},{"$error":"#DIV/0!"},{"$error":"#DIV/0!"},{"$error":"#DIV/0!"},{"$error":"#DIV/0!"},{"$error":"#DIV/0!"},{"$error":"#DIV/0!"},{"$error":"#DIV/0!"},{"$error":"#DIV/0!"},{"$error":"#DIV/0!"},4000,25132.741228718343,{"$error":"#DIV/0!"},{"$error":"#DIV/0!"},{"$error":"#DIV/0!"},{"$error":"#DIV/0!"},{"$error":"#DIV/0!"},{"$error":"#DIV/0!"},{"$error":"#DIV/0!"},{"$error":"#DIV/0!"},{"$error":"#DIV/0!"},{"$error":"#DIV/0!"},4000,25132.741228718343,{"$error":"#DIV/0!"},{"$error":"#DIV/0!"},{"$error":"#DIV/0!"},{"$error":"#DIV/0!"},{"$error":"#DIV/0!"},{"$error":"#DIV/0!"},{"$error":"#DIV/0!"},{"$error":"#DIV/0!"},{"$error":"#DIV/0!"},{"$error":"#DIV/0!"},4000,25132.741228718343,{"$error":"#DIV/0!"},{"$error":"#DIV/0!"},{"$error":"#DIV/0!"},{"$error":"#DIV/0!"},{"$error":"#DIV/0!"},{"$error":"#DIV/0!"},{"$error":"#DIV/0!"},{"$error":"#DIV/0!"},{"$error":"#DIV/0!"},{"$error":"#DIV/0!"},null,{"$error":"#N/A"},{"$error":"#N/A"},{"$error":"#N/A"},{"$error":"#N/A"},{"$error":"#N/A"},{"$error":"#N/A"},null,{"$error":"#DIV/0!"},{"$error":"#DIV/0!"},{"$error":"#DIV/0!"},{"$error":"#DIV/0!"},{"$error":"#DIV/0!"},{"$error":"#DIV/0!"},false,0,null,null,null,null,4000,25132.741228718343,{"$error":"#N/A"},{"$error":"#N/A"},{"$error":"#N/A"},{"$error":"#N/A"},{"$error":"#DIV/0!"},{"$error":"#DIV/0!"},{"$error":"#DIV/0!"},{"$error":"#N/A"},{"$error":"#N/A"},{"$error":"#N/A"},4000,25132.741228718343,{"$error":"#N/A"},{"$error":"#N/A"},{"$error":"#N/A"},{"$error":"#N/A"},{"$error":"#DIV/0!"},{"$error":"#DIV/0!"},{"$error":"#DIV/0!"},{"$error":"#N/A"},{"$error":"#N/A"},{"$error":"#N/A"},4000,25132.741228718343,{"$error":"#N/A"},{"$error":"#N/A"},{"$error":"#N/A"},{"$error":"#N/A"},{"$error":"#DIV/0!"},{"$error":"#DIV/0!"},{"$error":"#DIV/0!"},{"$error":"#N/A"},{"$error":"#N/A"},{"$error":"#N/A"},4000,25132.741228718343,{"$error":"#N/A"},{"$error":"#N/A"},{"$error":"#N/A"},{"$error":"#N/A"},{"$error":"#DIV/0!"},{"$error":"#DIV/0!"},{"$error":"#DIV/0!"},{"$error":"#N/A"},{"$error":"#N/A"},{"$error":"#N/A"},4000,25132.741228718343,{"$error":"#N/A"},{"$error":"#N/A"},{"$error":"#N/A"},{"$error":"#N/A"},{"$error":"#DIV/0!"},{"$error":"#DIV/0!"},{"$error":"#DIV/0!"},{"$error":"#N/A"},{"$error":"#N/A"},{"$error":"#N/A"},4000,25132.741228718343,{"$error":"#N/A"},{"$error":"#N/A"},{"$error":"#N/A"},{"$error":"#N/A"},{"$error":"#DIV/0!"},{"$error":"#DIV/0!"},{"$error":"#DIV/0!"},{"$error":"#N/A"},{"$error":"#N/A"},{"$error":"#N/A"},null,null,4000,25132.741228718343,{"$error":"#DIV/0!"},{"$error":"#DIV/0!"},{"$error":"#DIV/0!"},{"$error":"#DIV/0!"},{"$error":"#DIV/0!"},{"$error":"#DIV/0!"},{"$error":"#DIV/0!"},{"$error":"#DIV/0!"},{"$error":"#DIV/0!"},{"$error":"#DIV/0!"},4000,25132.741228718343,{"$error":"#DIV/0!"},{"$error":"#DIV/0!"},{"$error":"#DIV/0!"},{"$error":"#DIV/0!"},{"$error":"#DIV/0!"},{"$error":"#DIV/0!"},{"$error":"#DIV/0!"},{"$error":"#DIV/0!"},{"$error":"#DIV/0!"},{"$error":"#DIV/0!"},4000,25132.741228718343,{"$error":"#DIV/0!"},{"$error":"#DIV/0!"},{"$error":"#DIV/0!"},{"$error":"#DIV/0!"},{"$error":"#DIV/0!"},{"$error":"#DIV/0!"},{"$error":"#DIV/0!"},{"$error":"#DIV/0!"},{"$error":"#DIV/0!"},{"$error":"#DIV/0!"},4000,25132.741228718343,{"$error":"#DIV/0!"},{"$error":"#DIV/0!"},{"$error":"#DIV/0!"},{"$error":"#DIV/0!"},{"$error":"#DIV/0!"},{"$error":"#DIV/0!"},{"$error":"#DIV/0!"},{"$error":"#DIV/0!"},{"$error":"#DIV/0!"},{"$error":"#DIV/0!"},4000,25132.741228718343,{"$error":"#DIV/0!"},{"$error":"#DIV/0!"},{"$error":"#DIV/0!"},{"$error":"#DIV/0!"},{"$error":"#DIV/0!"},{"$error":"#DIV/0!"},{"$error":"#DIV/0!"},{"$error":"#DIV/0!"},{"$error":"#DIV/0!"},{"$error":"#DIV/0!"},4000,25132.741228718343,{"$error":"#DIV/0!"},{"$error":"#DIV/0!"},{"$error":"#DIV/0!"},{"$error":"#DIV/0!"},{"$error":"#DIV/0!"},{"$error":"#DIV/0!"},{"$error":"#DIV/0!"},{"$error":"#DIV/0!"},{"$error":"#DIV/0!"},{"$error":"#DIV/0!"},null,{"$error":"#N/A"},{"$error":"#N/A"},{"$error":"#N/A"},{"$error":"#N/A"},{"$error":"#N/A"},{"$error":"#N/A"},null,{"$error":"#DIV/0!"},{"$error":"#DIV/0!"},{"$error":"#DIV/0!"},{"$error":"#DIV/0!"},{"$error":"#DIV/0!"},{"$error":"#DIV/0!"},false,0,{"$error":"#DIV/0!"},{"$error":"#DIV/0!"},{"$error":"#DIV/0!"},{"$error":"#DIV/0!"},{"$error":"#DIV/0!"},{"$error":"#DIV/0!"},{"$error":"#DIV/0!"},{"$error":"#DIV/0!"},{"$error":"#DIV/0!"},{"$error":"#DIV/0!"},{"$error":"#DIV/0!"},{"$error":"#DIV/0!"},0,0,0,0,0,0,0,0,0,0,0,0,{"$error":"#DIV/0!"},{"$error":"#DIV/0!"},{"$error":"#DIV/0!"},{"$error":"#DIV/0!"},{"$error":"#DIV/0!"},{"$error":"#DIV/0!"},{"$error":"#DIV/0!"},{"$error":"#DIV/0!"},{"$error":"#DIV/0!"},{"$error":"#DIV/0!"},{"$error":"#DIV/0!"},{"$error":"#DIV/0!"}]
[" α4"," C1"," C2"," C3"," C4"," C5"," C6"," C7"," C8",null,null,null,"Receiver-MPP",null,null,null,null,null,null,null,null,null,null,5000,31415.926535897932,{"$error":"#N/A"},{"$error":"#N/A"},{"$error":"#N/A"},{"$error":"#N/A"},{"$error":"#DIV/0!"},{"$error":"#DIV/0!"},{"$error":"#DIV/0!"},{"$error":"#N/A"},{"$error":"#N/A"},{"$error":"#N/A"},5000,31415.926535897932,{"$error":"#N/A"},{"$error":"#N/A"},{"$error":"#N/A"},{"$error":"#N/A"},{"$error":"#DIV/0!"},{"$error":"#DIV/0!"},{"$error":"#DIV/0!"},{"$error":"#N/A"},{"$error":"#N/A"},{"$error":"#N/A"},5000,31415.926535897932,{"$error":"#N/A"},{"$error":"#N/A"},{"$error":"#N/A"},{"$error":"#N/A"},{"$error":"#DIV/0!"},{"$error":"#DIV/0!"},{"$error":"#DIV/0!"},{"$error":"#N/A"},{"$error":"#N/A"},{"$error":"#N/A"},5000,31415.926535897932,{"$error":"#N/A"},{"$error":"#N/A"},{"$error":"#N/A"},{"$error":"#N/A"},{"$error":"#DIV/0!"},{"$error":"#DIV/0!"},{"$error":"#DIV/0!"},{"$error":"#N/A"},{"$error":"#N/A"},{"$error":"#N/A"},5000,31415.926535897932,{"$error":"#N/A"},{"$error":"#N/A"},{"$error":"#N/A"},{"$error":"#N/A"},{"$error":"#DIV/0!"},{"$error":"#DIV/0!"},{"$error":"#DIV/0!"},{"$error":"#N/A"},{"$error":"#N/A"},{"$error":"#N/A"},5000,31415.926535897932,{"$error":"#N/A"},{"$error":"#N/A"},{"$error":"#N/A"},{"$error":"#N/A"},{"$error":"#DIV/0!"},{"$error":"#DIV/0!"},{"$error":"#DIV/0!"},{"$error":"#N/A"},{"$error":"#N/A"},{"$error":"#N/A"},null,null,5000,31415.926535897932,{"$error":"#DIV/0!"},{"$error":"#DIV/0!"},{"$error":"#DIV/0!"},{"$error":"#DIV/0!"},{"$error":"#DIV/0!"},{"$error":"#DIV/0!"},{"$error":"#DIV/0!"},{"$error":"#DIV/0!"},{"$error":"#DIV/0!"},{"$error":"#DIV/0!"},5000,31415.926535897932,{"$error":"#DIV/0!"},{"$error":"#DIV/0!"},{"$error":"#DIV/0!"},{"$error":"#DIV/0!"},{"$error":"#DIV/0!"},{"$error":"#DIV/0!"},{"$error":"#DIV/0!"},{"$error":"#DIV/0!"},{"$error":"#DIV/0!"},{"$error":"#DIV/0!"},5000,31415.926535897932,{"$error":"#DIV/0!"},{"$error":"#DIV/0!"},{"$error":"#DIV/0!"},{"$error":"#DIV/0!"},{"$error":"#DIV/0!"},{"$error":"#DIV/0!"},{"$error":"#DIV/0!"},{"$error":"#DIV/0!"},{"$error":"#DIV/0!"},{"$error":"#DIV/0!"},5000,31415.926535897932,{"$error":"#DIV/0!"},{"$error":"#DIV/0!"},{"$error":"#DIV/0!"},{"$error":"#DIV/0!"},{"$error":"#DIV/0!"},{"$error":"#DIV/0!"},{"$error":"#DIV/0!"},{"$error":"#DIV/0!"},{"$error":"#DIV/0!"},{"$error":"#DIV/0!"},5000,31415.926535897932,{"$error":"#DIV/0!"},{"$error":"#DIV/0!"},{"$error":"#DIV/0!"},{"$error":"#DIV/0!"},{"$error":"#DIV/0!"},{"$error":"#DIV/0!"},{"$error":"#DIV/0!"},{"$error":"#DIV/0!"},{"$error":"#DIV/0!"},{"$error":"#DIV/0!"},5000,31415.926535897932,{"$error":"#DIV/0!"},{"$error":"#DIV/0!"},{"$error":"#DIV/0!"},{"$error":"#DIV/0!"},{"$error":"#DIV/0!"},{"$error":"#DIV/0!"},{"$error":"#DIV/0!"},{"$error":"#DIV/0!"},{"$error":"#DIV/0!"},{"$error":"#DIV/0!"},null,{"$error":"#N/A"},{"$error":"#N/A"},{"$error":"#N/A"},{"$error":"#N/A"},{"$error":"#N/A"},{"$error":"#N/A"},null,{"$error":"#DIV/0!"},{"$error":"#DIV/0!"},{"$error":"#DIV/0!"},{"$error":"#DIV/0!"},{"$error":"#DIV/0!"},{"$error":"#DIV/0!"},false,0,null,null,null,null,5000,31415.926535897932,{"$error":"#N/A"},{"$error":"#N/A"},{"$error":"#N/A"},{"$error":"#N/A"},{"$error":"#DIV/0!"},{"$error":"#DIV/0!"},{"$error":"#DIV/0!"},{"$error":"#N/A"},{"$error":"#N/A"},{"$error":"#N/A"},5000,31415.926535897932,{"$error":"#N/A"},{"$error":"#N/A"},{"$error":"#N/A"},{"$error":"#N/A"},{"$error":"#DIV/0!"},{"$error":"#DIV/0!"},{"$error":"#DIV/0!"},{"$error":"#N/A"},{"$error":"#N/A"},{"$error":"#N/A"},5000,31415.926535897932,{"$error":"#N/A"},{"$error":"#N/A"},{"$error":"#N/A"},{"$error":"#N/A"},{"$error":"#DIV/0!"},{"$error":"#DIV/0!"},{"$error":"#DIV/0!"},{"$error":"#N/A"},{"$error":"#N/A"},{"$error":"#N/A"},5000,31415.926535897932,{"$error":"#N/A"},{"$error":"#N/A"},{"$error":"#N/A"},{"$error":"#N/A"},{"$error":"#DIV/0!"},{"$error":"#DIV/0!"},{"$error":"#DIV/0!"},{"$error":"#N/A"},{"$error":"#N/A"},{"$error":"#N/A"},5000,31415.926535897932,{"$error":"#N/A"},{"$error":"#N/A"},{"$error":"#N/A"},{"$error":"#N/A"},{"$error":"#DIV/0!"},{"$error":"#DIV/0!"},{"$error":"#DIV/0!"},{"$error":"#N/A"},{"$error":"#N/A"},{"$error":"#N/A"},5000,31415.926535897932,{"$error":"#N/A"},{"$error":"#N/A"},{"$error":"#N/A"},{"$error":"#N/A"},{"$error":"#DIV/0!"},{"$error":"#DIV/0!"},{"$error":"#DIV/0!"},{"$error":"#N/A"},{"$error":"#N/A"},{"$error":"#N/A"},null,null,5000,31415.926535897932,{"$error":"#DIV/0!"},{"$error":"#DIV/0!"},{"$error":"#DIV/0!"},{"$error":"#DIV/0!"},{"$error":"#DIV/0!"},{"$error":"#DIV/0!"},{"$error":"#DIV/0!"},{"$error":"#DIV/0!"},{"$error":"#DIV/0!"},{"$error":"#DIV/0!"},5000,31415.926535897932,{"$error":"#DIV/0!"},{"$error":"#DIV/0!"},{"$error":"#DIV/0!"},{"$error":"#DIV/0!"},{"$error":"#DIV/0!"},{"$error":"#DIV/0!"},{"$error":"#DIV/0!"},{"$error":"#DIV/0!"},{"$error":"#DIV/0!"},{"$error":"#DIV/0!"},5000,31415.926535897932,{"$error":"#DIV/0!"},{"$error":"#DIV/0!"},{"$error":"#DIV/0!"},{"$error":"#DIV/0!"},{"$error":"#DIV/0!"},{"$error":"#DIV/0!"},{"$error":"#DIV/0!"},{"$error":"#DIV/0!"},{"$error":"#DIV/0!"},{"$error":"#DIV/0!"},5000,31415.926535897932,{"$error":"#DIV/0!"},{"$error":"#DIV/0!"},{"$error":"#DIV/0!"},{"$error":"#DIV/0!"},{"$error":"#DIV/0!"},{"$error":"#DIV/0!"},{"$error":"#DIV/0!"},{"$error":"#DIV/0!"},{"$error":"#DIV/0!"},{"$error":"#DIV/0!"},5000,31415.926535897932,{"$error":"#DIV/0!"},{"$error":"#DIV/0!"},{"$error":"#DIV/0!"},{"$error":"#DIV/0!"},{"$error":"#DIV/0!"},{"$error":"#DIV/0!"},{"$error":"#DIV/0!"},{"$error":"#DIV/0!"},{"$error":"#DIV/0!"},{"$error":"#DIV/0!"},5000,31415.926535897932,{"$error":"#DIV/0!"},{"$error":"#DIV/0!"},{"$error":"#DIV/0!"},{"$error":"#DIV/0!"},{"$error":"#DIV/0!"},{"$error":"#DIV/0!"},{"$error":"#DIV/0!"},{"$error":"#DIV/0!"},{"$error":"#DIV/0!"},{"$error":"#DIV/0!"},null,{"$error":"#N/A"},{"$error":"#N/A"},{"$error":"#N/A"},{"$error":"#N/A"},{"$error":"#N/A"},{"$error":"#N/A"},null,{"$error":"#DIV/0!"},{"$error":"#DIV/0!"},{"$error":"#DIV/0!"},{"$error":"#DIV/0!"},{"$error":"#DIV/0!"},{"$error":"#DIV/0!"},false,0,{"$error":"#DIV/0!"},{"$error":"#DIV/0!"},{"$error":"#DIV/0!"},{"$error":"#DIV/0!"},{"$error":"#DIV/0!"},{"$error":"#DIV/0!"},{"$error":"#DIV/0!"},{"$error":"#DIV/0!"},{"$error":"#DIV/0!"},{"$error":"#DIV/0!"},{"$error":"#DIV/0!"},{"$error":"#DIV/0!"},0,0,0,0,0,0,0,0,0,0,0,0,{"$error":"#DIV/0!"},{"$error":"#DIV/0!"},{"$error":"#DIV/0!"},{"$error":"#DIV/0!"},{"$error":"#DIV/0!"},{"$error":"#DIV/0!"},{"$error":"#DIV/0!"},{"$error":"#DIV/0!"},{"$error":"#DIV/0!"},{"$error":"#DIV/0!"},{"$error":"#DIV/0!"},{"$error":"#DIV/0!"}]
[null,{"$f":"VLOOKUP(A37,A3:I6,2,FALSE)","v":{"$error":"#N/A"}},{"$f":"VLOOKUP(A37,A3:I6,3,FALSE)","v":{"$error":"#N/A"}},{"$f":"VLOOKUP(A37,A3:I6,4,FALSE)","v":{"$error":"#N/A"}},{"$f":"VLOOKUP(A37,A3:I6,5,FALSE)","v":{"$error":"#N/A"}},{"$f":"VLOOKUP(A37,A3:I6,6,FALSE)","v":{"$error":"#N/A"}},{"$f":"VLOOKUP(A37,A3:I6,7,FALSE)","v":{"$error":"#N/A"}},{"$f":"VLOOKUP(A37,A3:I6,8,FALSE)","v":{"$error":"#N/A"}},{"$f":"VLOOKUP(A37,A3:I6,9,FALSE)","v":{"$error":"#N/A"}},null,null,null,null,null,null,null,null,null,null,null,null,null,null,6300,39584.067435231394,{"$error":"#N/A"},{"$error":"#N/A"},{"$error":"#N/A"},{"$error":"#N/A"},{"$error":"#DIV/0!"},{"$error":"#DIV/0!"},{"$error":"#DIV/0!"},{"$error":"#N/A"},{"$error":"#N/A"},{"$error":"#N/A"},6300,39584.067435231394,{"$error":"#N/A"},{"$error":"#N/A"},{"$error":"#N/A"},{"$error":"#N/A"},{"$error":"#DIV/0!"},{"$error":"#DIV/0!"},{"$error":"#DIV/0!"},{"$error":"#N/A"},{"$error":"#N/A"},{"$error":"#N/A"},6300,39584.067435231394,{"$error":"#N/A"},{"$error":"#N/A"},{"$error":"#N/A"},{"$error":"#N/A"},{"$error":"#DIV/0!"},{"$error":"#DIV/0!"},{"$error":"#DIV/0!"},{"$error":"#N/A"},{"$error":"#N/A"},{"$error":"#N/A"},6300,39584.067435231394,{"$error":"#N/A"},{"$error":"#N/A"},{"$error":"#N/A"},{"$error":"#N/A"},{"$error":"#DIV/0!"},{"$error":"#DIV/0!"},{"$error":"#DIV/0!"},{"$error":"#N/A"},{"$error":"#N/A"},{"$error":"#N/A"},6300,39584.067435231394,{"$error":"#N/A"},{"$error":"#N/A"},{"$error":"#N/A"},{"$error":"#N/A"},{"$error":"#DIV/0!"},{"$error":"#DIV/0!"},{"$error":"#DIV/0!"},{"$error":"#N/A"},{"$error":"#N/A"},{"$error":"#N/A"},6300,39584.067435231394,{"$error":"#N/A"},{"$error":"#N/A"},{"$error":"#N/A"},{"$error":"#N/A"},{"$error":"#DIV/0!"},{"$error":"#DIV/0!"},{"$error":"#DIV/0!"},{"$error":"#N/A"},{"$error":"#N/A"},{"$error":"#N/A"},null,null,6300,39584.067435231394,{"$error":"#DIV/0!"},{"$error":"#DIV/0!"},{"$error":"#DIV/0!"},{"$error":"#DIV/0!"},{"$error":"#DIV/0!"},{"$error":"#DIV/0!"},{"$error":"#DIV/0!"},{"$error":"#DIV/0!"},{"$error":"#DIV/0!"},{"$error":"#DIV/0!"},6300,39584.067435231394,{"$error":"#DIV/0!"},{"$error":"#DIV/0!"},{"$error":"#DIV/0!"},{"$error":"#DIV/0!"},{"$error":"#DIV/0!"},{"$error":"#DIV/0!"},{"$error":"#DIV/0!"},{"$error":"#DIV/0!"},{"$error":"#DIV/0!"},{"$error":"#DIV/0!"},6300,39584.067435231394,{"$error":"#DIV/0!"},{"$error":"#DIV/0!"},{"$error":"#DIV/0!"},{"$error":"#DIV/0!"},{"$error":"#DIV/0!"},{"$error":"#DIV/0!"},{"$error":"#DIV/0!"},{"$error":"#DIV/0!"},{"$error":"#DIV/0!"},{"$error":"#DIV/0!"},6300,39584.067435231394,{"$error":"#DIV/0!"},{"$error":"#DIV/0!"},{"$error":"#DIV/0!"},{"$error":"#DIV/0!"},{"$error":"#DIV/0!"},{"$error":"#DIV/0!"},{"$error":"#DIV/0!"},{"$error":"#DIV/0!"},{"$error":"#DIV/0!"},{"$error":"#DIV/0!"},6300,39584.067435231394,{"$error":"#DIV/0!"},{"$error":"#DIV/0!"},{"$error":"#DIV/0!"},{"$error":"#DIV/0!"},{"$error":"#DIV/0!"},{"$error":"#DIV/0!"},{"$error":"#DIV/0!"},{"$error":"#DIV/0!"},{"$error":"#DIV/0!"},{"$error":"#DIV/0!"},6300,39584.067435231394,{"$error":"#DIV/0!"},{"$error":"#DIV/0!"},{"$error":"#DIV/0!"},{"$error":"#DIV/0!"},{"$error":"#DIV/0!"},{"$error":"#DIV/0!"},{"$error":"#DIV/0!"},{"$error":"#DIV/0!"},{"$error":"#DIV/0!"},{"$error":"#DIV/0!"},null,{"$error":"#N/A"},{"$error":"#N/A"},{"$error":"#N/A"},{"$error":"#N/A"},{"$error":"#N/A"},{"$error":"#N/A"},null,{"$error":"#DIV/0!"},{"$error":"#DIV/0!"},{"$error":"#DIV/0!"},{"$error":"#DIV/0!"},{"$error":"#DIV/0!"},{"$error":"#DIV/0!"},false,0,null,null,null,null,6300,39584.067435231394,{"$error":"#N/A"},{"$error":"#N/A"},{"$error":"#N/A"},{"$error":"#N/A"},{"$error":"#DIV/0!"},{"$error":"#DIV/0!"},{"$error":"#DIV/0!"},{"$error":"#N/A"},{"$error":"#N/A"},{"$error":"#N/A"},6300,39584.067435231394,{"$error":"#N/A"},{"$error":"#N/A"},{"$error":"#N/A"},{"$error":"#N/A"},{"$error":"#DIV/0!"},{"$error":"#DIV/0!"},{"$error":"#DIV/0!"},{"$error":"#N/A"},{"$error":"#N/A"},{"$error":"#N/A"},6300,39584.067435231394,{"$error":"#N/A"},{"$error":"#N/A"},{"$error":"#N/A"},{"$error":"#N/A"},{"$error":"#DIV/0!"},{"$error":"#DIV/0!"},{"$error":"#DIV/0!"},{"$error":"#N/A"},{"$error":"#N/A"},{"$error":"#N/A"},6300,39584.067435231394,{"$error":"#N/A"},{"$error":"#N/A"},{"$error":"#N/A"},{"$error":"#N/A"},{"$error":"#DIV/0!"},{"$error":"#DIV/0!"},{"$error":"#DIV/0!"},{"$error":"#N/A"},{"$error":"#N/A"},{"$error":"#N/A"},6300,39584.067435231394,{"$error":"#N/A"},{"$error":"#N/A"},{"$error":"#N/A"},{"$error":"#N/A"},{"$error":"#DIV/0!"},{"$error":"#DIV/0!"},{"$error":"#DIV/0!"},{"$error":"#N/A"},{"$error":"#N/A"},{"$error":"#N/A"},6300,39584.067435231394,{"$error":"#N/A"},{"$error":"#N/A"},{"$error":"#N/A"},{"$error":"#N/A"},{"$error":"#DIV/0!"},{"$error":"#DIV/0!"},{"$error":"#DIV/0!"},{"$error":"#N/A"},{"$error":"#N/A"},{"$error":"#N/A"},null,null,6300,39584.067435231394,{"$error":"#DIV/0!"},{"$error":"#DIV/0!"},{"$error":"#DIV/0!"},{"$error":"#DIV/0!"},{"$error":"#DIV/0!"},{"$error":"#DIV/0!"},{"$error":"#DIV/0!"},{"$error":"#DIV/0!"},{"$error":"#DIV/0!"},{"$error":"#DIV/0!"},6300,39584.067435231394,{"$error":"#DIV/0!"},{"$error":"#DIV/0!"},{"$error":"#DIV/0!"},{"$error":"#DIV/0!"},{"$error":"#DIV/0!"},{"$error":"#DIV/0!"},{"$error":"#DIV/0!"},{"$error":"#DIV/0!"},{"$error":"#DIV/0!"},{"$error":"#DIV/0!"},6300,39584.067435231394,{"$error":"#DIV/0!"},{"$error":"#DIV/0!"},{"$error":"#DIV/0!"},{"$error":"#DIV/0!"},{"$error":"#DIV/0!"},{"$error":"#DIV/0!"},{"$error":"#DIV/0!"},{"$error":"#DIV/0!"},{"$error":"#DIV/0!"},{"$error":"#DIV/0!"},6300,39584.067435231394,{"$error":"#DIV/0!"},{"$error":"#DIV/0!"},{"$error":"#DIV/0!"},{"$error":"#DIV/0!"},{"$error":"#DIV/0!"},{"$error":"#DIV/0!"},{"$error":"#DIV/0!"},{"$error":"#DIV/0!"},{"$error":"#DIV/0!"},{"$error":"#DIV/0!"},6300,39584.067435231394,{"$error":"#DIV/0!"},{"$error":"#DIV/0!"},{"$error":"#DIV/0!"},{"$error":"#DIV/0!"},{"$error":"#DIV/0!"},{"$error":"#DIV/0!"},{"$error":"#DIV/0!"},{"$error":"#DIV/0!"},{"$error":"#DIV/0!"},{"$error":"#DIV/0!"},6300,39584.067435231394,{"$error":"#DIV/0!"},{"$error":"#DIV/0!"},{"$error":"#DIV/0!"},{"$error":"#DIV/0!"},{"$error":"#DIV/0!"},{"$error":"#DIV/0!"},{"$error":"#DIV/0!"},{"$error":"#DIV/0!"},{"$error":"#DIV/0!"},{"$error":"#DIV/0!"},null,{"$error":"#N/A"},{"$error":"#N/A"},{"$error":"#N/A"},{"$error":"#N/A"},{"$error":"#N/A"},{"$error":"#N/A"},null,{"$error":"#DIV/0!"},{"$error":"#DIV/0!"},{"$error":"#DIV/0!"},{"$error":"#DIV/0!"},{"$error":"#DIV/0!"},{"$error":"#DIV/0!"},false,0,{"$error":"#DIV/0!"},{"$error":"#DIV/0!"},{"$error":"#DIV/0!"},{"$error":"#DIV/0!"},{"$error":"#DIV/0!"},{"$error":"#DIV/0!"},{"$error":"#DIV/0!"},{"$error":"#DIV/0!"},{"$error":"#DIV/0!"},{"$error":"#DIV/0!"},{"$error":"#DIV/0!"},{"$error":"#DIV/0!"},0,0,0,0,0,0,0,0,0,0,0,0,{"$error":"#DIV/0!"},{"$error":"#DIV/0!"},{"$error":"#DIV/0!"},{"$error":"#DIV/0!"},{"$error":"#DIV/0!"},{"$error":"#DIV/0!"},{"$error":"#DIV/0!"},{"$error":"#DIV/0!"},{"$error":"#DIV/0!"},{"$error":"#DIV/0!"},{"$error":"#DIV/0!"},{"$error":"#DIV/0!"}]
["Material flow resistivity (R)",{"$f":"VLOOKUP(C38,'Path Considerations'!A24:B46,2,FALSE)","v":{"$error":"#N/A"}},null,null,null,null,null,null,null,null,null,null,null,null,null,null,null,null,null,null,null,null,null,8000,50265.482457436687,{"$error":"#N/A"},{"$error":"#N/A"},{"$error":"#N/A"},{"$error":"#N/A"},{"$error":"#DIV/0!"},{"$error":"#DIV/0!"},{"$error":"#DIV/0!"},{"$error":"#N/A"},{"$error":"#N/A"},{"$error":"#N/A"},8000,50265.482457436687,{"$error":"#N/A"},{"$error":"#N/A"},{"$error":"#N/A"},{"$error":"#N/A"},{"$error":"#DIV/0!"},{"$error":"#DIV/0!"},{"$error":"#DIV/0!"},{"$error":"#N/A"},{"$error":"#N/A"},{"$error":"#N/A"},8000,50265.482457436687,{"$error":"#N/A"},{"$error":"#N/A"},{"$error":"#N/A"},{"$error":"#N/A"},{"$error":"#DIV/0!"},{"$error":"#DIV/0!"},{"$error":"#DIV/0!"},{"$error":"#N/A"},{"$error":"#N/A"},{"$error":"#N/A"},8000,50265.482457436687,{"$error":"#N/A"},{"$error":"#N/A"},{"$error":"#N/A"},{"$error":"#N/A"},{"$error":"#DIV/0!"},{"$error":"#DIV/0!"},{"$error":"#DIV/0!"},{"$error":"#N/A"},{"$error":"#N/A"},{"$error":"#N/A"},8000,50265.482457436687,{"$error":"#N/A"},{"$error":"#N/A"},{"$error":"#N/A"},{"$error":"#N/A"},{"$error":"#DIV/0!"},{"$error":"#DIV/0!"},{"$error":"#DIV/0!"},{"$error":"#N/A"},{"$error":"#N/A"},{"$error":"#N/A"},8000,50265.482457436687,{"$error":"#N/A"},{"$error":"#N/A"},{"$error":"#N/A"},{"$error":"#N/A"},{"$error":"#DIV/0!"},{"$error":"#DIV/0!"},{"$error":"#DIV/0!"},{"$error":"#N/A"},{"$error":"#N/A"},{"$error":"#N/A"},null,null,8000,50265.482457436687,{"$error":"#DIV/0!"},{"$error":"#DIV/0!"},{"$error":"#DIV/0!"},{"$error":"#DIV/0!"},{"$error":"#DIV/0!"},{"$error":"#DIV/0!"},{"$error":"#DIV/0!"},{"$error":"#DIV/0!"},{"$error":"#DIV/0!"},{"$error":"#DIV/0!"},8000,50265.482457436687,{"$error":"#DIV/0!"},{"$error":"#DIV/0!"},{"$error":"#DIV/0!"},{"$error":"#DIV/0!"},{"$error":"#DIV/0!"},{"$error":"#DIV/0!"},{"$error":"#DIV/0!"},{"$error":"#DIV/0!"},{"$error":"#DIV/0!"},{"$error":"#DIV/0!"},8000,50265.482457436687,{"$error":"#DIV/0!"},{"$error":"#DIV/0!"},{"$error":"#DIV/0!"},{"$error":"#DIV/0!"},{"$error":"#DIV/0!"},{"$error":"#DIV/0!"},{"$error":"#DIV/0!"},{"$error":"#DIV/0!"},{"$error":"#DIV/0!"},{"$error":"#DIV/0!"},8000,50265.482457436687,{"$error":"#DIV/0!"},{"$error":"#DIV/0!"},{"$error":"#DIV/0!"},{"$error":"#DIV/0!"},{"$error":"#DIV/0!"},{"$error":"#DIV/0!"},{"$error":"#DIV/0!"},{"$error":"#DIV/0!"},{"$error":"#DIV/0!"},{"$error":"#DIV/0!"},8000,50265.482457436687,{"$error":"#DIV/0!"},{"$error":"#DIV/0!"},{"$error":"#DIV/0!"},{"$error":"#DIV/0!"},{"$error":"#DIV/0!"},{"$error":"#DIV/0!"},{"$error":"#DIV/0!"},{"$error":"#DIV/0!"},{"$error":"#DIV/0!"},{"$error":"#DIV/0!"},8000,50265.482457436687,{"$error":"#DIV/0!"},{"$error":"#DIV/0!"},{"$error":"#DIV/0!"},{"$error":"#DIV/0!"},{"$error":"#DIV/0!"},{"$error":"#DIV/0!"},{"$error":"#DIV/0!"},{"$error":"#DIV/0!"},{"$error":"#DIV/0!"},{"$error":"#DIV/0!"},null,{"$error":"#N/A"},{"$error":"#N/A"},{"$error":"#N/A"},{"$error":"#N/A"},{"$error":"#N/A"},{"$error":"#N/A"},null,{"$error":"#DIV/0!"},{"$error":"#DIV/0!"},{"$error":"#DIV/0!"},{"$error":"#DIV/0!"},{"$error":"#DIV/0!"},{"$error":"#DIV/0!"},false,0,null,null,null,null,8000,50265.482457436687,{"$error":"#N/A"},{"$error":"#N/A"},{"$error":"#N/A"},{"$error":"#N/A"},{"$error":"#DIV/0!"},{"$error":"#DIV/0!"},{"$error":"#DIV/0!"},{"$error":"#N/A"},{"$error":"#N/A"},{"$error":"#N/A"},8000,50265.482457436687,{"$error":"#N/A"},{"$error":"#N/A"},{"$error":"#N/A"},{"$error":"#N/A"},{"$error":"#DIV/0!"},{"$error":"#DIV/0!"},{"$error":"#DIV/0!"},{"$error":"#N/A"},{"$error":"#N/A"},{"$error":"#N/A"},8000,50265.482457436687,{"$error":"#N/A"},{"$error":"#N/A"},{"$error":"#N/A"},{"$error":"#N/A"},{"$error":"#DIV/0!"},{"$error":"#DIV/0!"},{"$error":"#DIV/0!"},{"$error":"#N/A"},{"$error":"#N/A"},{"$error":"#N/A"},8000,50265.482457436687,{"$error":"#N/A"},{"$error":"#N/A"},{"$error":"#N/A"},{"$error":"#N/A"},{"$error":"#DIV/0!"},{"$error":"#DIV/0!"},{"$error":"#DIV/0!"},{"$error":"#N/A"},{"$error":"#N/A"},{"$error":"#N/A"},8000,50265.482457436687,{"$error":"#N/A"},{"$error":"#N/A"},{"$error":"#N/A"},{"$error":"#N/A"},{"$error":"#DIV/0!"},{"$error":"#DIV/0!"},{"$error":"#DIV/0!"},{"$error":"#N/A"},{"$error":"#N/A"},{"$error":"#N/A"},8000,50265.482457436687,{"$error":"#N/A"},{"$error":"#N/A"},{"$error":"#N/A"},{"$error":"#N/A"},{"$error":"#DIV/0!"},{"$error":"#DIV/0!"},{"$error":"#DIV/0!"},{"$error":"#N/A"},{"$error":"#N/A"},{"$error":"#N/A"},null,null,8000,50265.482457436687,{"$error":"#DIV/0!"},{"$error":"#DIV/0!"},{"$error":"#DIV/0!"},{"$error":"#DIV/0!"},{"$error":"#DIV/0!"},{"$error":"#DIV/0!"},{"$error":"#DIV/0!"},{"$error":"#DIV/0!"},{"$error":"#DIV/0!"},{"$error":"#DIV/0!"},8000,50265.482457436687,{"$error":"#DIV/0!"},{"$error":"#DIV/0!"},{"$error":"#DIV/0!"},{"$error":"#DIV/0!"},{"$error":"#DIV/0!"},{"$error":"#DIV/0!"},{"$error":"#DIV/0!"},{"$error":"#DIV/0!"},{"$error":"#DIV/0!"},{"$error":"#DIV/0!"},8000,50265.482457436687,{"$error":"#DIV/0!"},{"$error":"#DIV/0!"},{"$error":"#DIV/0!"},{"$error":"#DIV/0!"},{"$error":"#DIV/0!"},{"$error":"#DIV/0!"},{"$error":"#DIV/0!"},{"$error":"#DIV/0!"},{"$error":"#DIV/0!"},{"$error":"#DIV/0!"},8000,50265.482457436687,{"$error":"#DIV/0!"},{"$error":"#DIV/0!"},{"$error":"#DIV/0!"},{"$error":"#DIV/0!"},{"$error":"#DIV/0!"},{"$error":"#DIV/0!"},{"$error":"#DIV/0!"},{"$error":"#DIV/0!"},{"$error":"#DIV/0!"},{"$error":"#DIV/0!"},8000,50265.482457436687,{"$error":"#DIV/0!"},{"$error":"#DIV/0!"},{"$error":"#DIV/0!"},{"$error":"#DIV/0!"},{"$error":"#DIV/0!"},{"$error":"#DIV/0!"},{"$error":"#DIV/0!"},{"$error":"#DIV/0!"},{"$error":"#DIV/0!"},{"$error":"#DIV/0!"},8000,50265.482457436687,{"$error":"#DIV/0!"},{"$error":"#DIV/0!"},{"$error":"#DIV/0!"},{"$error":"#DIV/0!"},{"$error":"#DIV/0!"},{"$error":"#DIV/0!"},{"$error":"#DIV/0!"},{"$error":"#DIV/0!"},{"$error":"#DIV/0!"},{"$error":"#DIV/0!"},null,{"$error":"#N/A"},{"$error":"#N/A"},{"$error":"#N/A"},{"$error":"#N/A"},{"$error":"#N/A"},{"$error":"#N/A"},null,{"$error":"#DIV/0!"},{"$error":"#DIV/0!"},{"$error":"#DIV/0!"},{"$error":"#DIV/0!"},{"$error":"#DIV/0!"},{"$error":"#DIV/0!"},false,0,{"$error":"#DIV/0!"},{"$error":"#DIV/0!"},{"$error":"#DIV/0!"},{"$error":"#DIV/0!"},{"$error":"#DIV/0!"},{"$error":"#DIV/0!"},{"$error":"#DIV/0!"},{"$error":"#DIV/0!"},{"$error":"#DIV/0!"},{"$error":"#DIV/0!"},{"$error":"#DIV/0!"},{"$error":"#DIV/0!"},0,0,0,0,0,0,0,0,0,0,0,0,{"$error":"#DIV/0!"},{"$error":"#DIV/0!"},{"$error":"#DIV/0!"},{"$error":"#DIV/0!"},{"$error":"#DIV/0!"},{"$error":"#DIV/0!"},{"$error":"#DIV/0!"},{"$error":"#DIV/0!"},{"$error":"#DIV/0!"},{"$error":"#DIV/0!"},{"$error":"#DIV/0!"},{"$error":"#DIV/0!"}]
["Absorption material specimen thickness  (in m)",null,null,null,null,null,null,null,null,null,null,null,null,null,null,null,null,null,null,null,null,null,null,10000,62831.853071795864,{"$error":"#N/A"},{"$error":"#N/A"},{"$error":"#N/A"},{"$error":"#N/A"},{"$error":"#DIV/0!"},{"$error":"#DIV/0!"},{"$error":"#DIV/0!"},{"$error":"#N/A"},{"$error":"#N/A"},{"$error":"#N/A"},10000,62831.853071795864,{"$error":"#N/A"},{"$error":"#N/A"},{"$error":"#N/A"},{"$error":"#N/A"},{"$error":"#DIV/0!"},{"$error":"#DIV/0!"},{"$error":"#DIV/0!"},{"$error":"#N/A"},{"$error":"#N/A"},{"$error":"#N/A"},10000,62831.853071795864,{"$error":"#N/A"},{"$error":"#N/A"},{"$error":"#N/A"},{"$error":"#N/A"},{"$error":"#DIV/0!"},{"$error":"#DIV/0!"},{"$error":"#DIV/0!"},{"$error":"#N/A"},{"$error":"#N/A"},{"$error":"#N/A"},10000,62831.853071795864,{"$error":"#N/A"},{"$error":"#N/A"},{"$error":"#N/A"},{"$error":"#N/A"},{"$error":"#DIV/0!"},{"$error":"#DIV/0!"},{"$error":"#DIV/0!"},{"$error":"#N/A"},{"$error":"#N/A"},{"$error":"#N/A"},10000,62831.853071795864,{"$error":"#N/A"},{"$error":"#N/A"},{"$error":"#N/A"},{"$error":"#N/A"},{"$error":"#DIV/0!"},{"$error":"#DIV/0!"},{"$error":"#DIV/0!"},{"$error":"#N/A"},{"$error":"#N/A"},{"$error":"#N/A"},10000,62831.853071795864,{"$error":"#N/A"},{"$error":"#N/A"},{"$error":"#N/A"},{"$error":"#N/A"},{"$error":"#DIV/0!"},{"$error":"#DIV/0!"},{"$error":"#DIV/0!"},{"$error":"#N/A"},{"$error":"#N/A"},{"$error":"#N/A"},null,null,10000,62831.853071795864,{"$error":"#DIV/0!"},{"$error":"#DIV/0!"},{"$error":"#DIV/0!"},{"$error":"#DIV/0!"},{"$error":"#DIV/0!"},{"$error":"#DIV/0!"},{"$error":"#DIV/0!"},{"$error":"#DIV/0!"},{"$error":"#DIV/0!"},{"$error":"#DIV/0!"},10000,62831.853071795864,{"$error":"#DIV/0!"},{"$error":"#DIV/0!"},{"$error":"#DIV/0!"},{"$error":"#DIV/0!"},{"$error":"#DIV/0!"},{"$error":"#DIV/0!"},{"$error":"#DIV/0!"},{"$error":"#DIV/0!"},{"$error":"#DIV/0!"},{"$error":"#DIV/0!"},10000,62831.853071795864,{"$error":"#DIV/0!"},{"$error":"#DIV/0!"},{"$error":"#DIV/0!"},{"$error":"#DIV/0!"},{"$error":"#DIV/0!"},{"$error":"#DIV/0!"},{"$error":"#DIV/0!"},{"$error":"#DIV/0!"},{"$error":"#DIV/0!"},{"$error":"#DIV/0!"},10000,62831.853071795864,{"$error":"#DIV/0!"},{"$error":"#DIV/0!"},{"$error":"#DIV/0!"},{"$error":"#DIV/0!"},{"$error":"#DIV/0!"},{"$error":"#DIV/0!"},{"$error":"#DIV/0!"},{"$error":"#DIV/0!"},{"$error":"#DIV/0!"},{"$error":"#DIV/0!"},10000,62831.853071795864,{"$error":"#DIV/0!"},{"$error":"#DIV/0!"},{"$error":"#DIV/0!"},{"$error":"#DIV/0!"},{"$error":"#DIV/0!"},{"$error":"#DIV/0!"},{"$error":"#DIV/0!"},{"$error":"#DIV/0!"},{"$error":"#DIV/0!"},{"$error":"#DIV/0!"},10000,62831.853071795864,{"$error":"#DIV/0!"},{"$error":"#DIV/0!"},{"$error":"#DIV/0!"},{"$error":"#DIV/0!"},{"$error":"#DIV/0!"},{"$error":"#DIV/0!"},{"$error":"#DIV/0!"},{"$error":"#DIV/0!"},{"$error":"#DIV/0!"},{"$error":"#DIV/0!"},null,{"$error":"#N/A"},{"$error":"#N/A"},{"$error":"#N/A"},{"$error":"#N/A"},{"$error":"#N/A"},{"$error":"#N/A"},null,{"$error":"#DIV/0!"},{"$error":"#DIV/0!"},{"$error":"#DIV/0!"},{"$error":"#DIV/0!"},{"$error":"#DIV/0!"},{"$error":"#DIV/0!"},false,0,null,null,null,null,10000,62831.853071795864,{"$error":"#N/A"},{"$error":"#N/A"},{"$error":"#N/A"},{"$error":"#N/A"},{"$error":"#DIV/0!"},{"$error":"#DIV/0!"},{"$error":"#DIV/0!"},{"$error":"#N/A"},{"$error":"#N/A"},{"$error":"#N/A"},10000,62831.853071795864,{"$error":"#N/A"},{"$error":"#N/A"},{"$error":"#N/A"},{"$error":"#N/A"},{"$error":"#DIV/0!"},{"$error":"#DIV/0!"},{"$error":"#DIV/0!"},{"$error":"#N/A"},{"$error":"#N/A"},{"$error":"#N/A"},10000,62831.853071795864,{"$error":"#N/A"},{"$error":"#N/A"},{"$error":"#N/A"},{"$error":"#N/A"},{"$error":"#DIV/0!"},{"$error":"#DIV/0!"},{"$error":"#DIV/0!"},{"$error":"#N/A"},{"$error":"#N/A"},{"$error":"#N/A"},10000,62831.853071795864,{"$error":"#N/A"},{"$error":"#N/A"},{"$error":"#N/A"},{"$error":"#N/A"},{"$error":"#DIV/0!"},{"$error":"#DIV/0!"},{"$error":"#DIV/0!"},{"$error":"#N/A"},{"$error":"#N/A"},{"$error":"#N/A"},10000,62831.853071795864,{"$error":"#N/A"},{"$error":"#N/A"},{"$error":"#N/A"},{"$error":"#N/A"},{"$error":"#DIV/0!"},{"$error":"#DIV/0!"},{"$error":"#DIV/0!"},{"$error":"#N/A"},{"$error":"#N/A"},{"$error":"#N/A"},10000,62831.853071795864,{"$error":"#N/A"},{"$error":"#N/A"},{"$error":"#N/A"},{"$error":"#N/A"},{"$error":"#DIV/0!"},{"$error":"#DIV/0!"},{"$error":"#DIV/0!"},{"$error":"#N/A"},{"$error":"#N/A"},{"$error":"#N/A"},null,null,10000,62831.853071795864,{"$error":"#DIV/0!"},{"$error":"#DIV/0!"},{"$error":"#DIV/0!"},{"$error":"#DIV/0!"},{"$error":"#DIV/0!"},{"$error":"#DIV/0!"},{"$error":"#DIV/0!"},{"$error":"#DIV/0!"},{"$error":"#DIV/0!"},{"$error":"#DIV/0!"},10000,62831.853071795864,{"$error":"#DIV/0!"},{"$error":"#DIV/0!"},{"$error":"#DIV/0!"},{"$error":"#DIV/0!"},{"$error":"#DIV/0!"},{"$error":"#DIV/0!"},{"$error":"#DIV/0!"},{"$error":"#DIV/0!"},{"$error":"#DIV/0!"},{"$error":"#DIV/0!"},10000,62831.853071795864,{"$error":"#DIV/0!"},{"$error":"#DIV/0!"},{"$error":"#DIV/0!"},{"$error":"#DIV/0!"},{"$error":"#DIV/0!"},{"$error":"#DIV/0!"},{"$error":"#DIV/0!"},{"$error":"#DIV/0!"},{"$error":"#DIV/0!"},{"$error":"#DIV/0!"},10000,62831.853071795864,{"$error":"#DIV/0!"},{"$error":"#DIV/0!"},{"$error":"#DIV/0!"},{"$error":"#DIV/0!"},{"$error":"#DIV/0!"},{"$error":"#DIV/0!"},{"$error":"#DIV/0!"},{"$error":"#DIV/0!"},{"$error":"#DIV/0!"},{"$error":"#DIV/0!"},10000,62831.853071795864,{"$error":"#DIV/0!"},{"$error":"#DIV/0!"},{"$error":"#DIV/0!"},{"$error":"#DIV/0!"},{"$error":"#DIV/0!"},{"$error":"#DIV/0!"},{"$error":"#DIV/0!"},{"$error":"#DIV/0!"},{"$error":"#DIV/0!"},{"$error":"#DIV/0!"},10000,62831.853071795864,{"$error":"#DIV/0!"},{"$error":"#DIV/0!"},{"$error":"#DIV/0!"},{"$error":"#DIV/0!"},{"$error":"#DIV/0!"},{"$error":"#DIV/0!"},{"$error":"#DIV/0!"},{"$error":"#DIV/0!"},{"$error":"#DIV/0!"},{"$error":"#DIV/0!"},null,{"$error":"#N/A"},{"$error":"#N/A"},{"$error":"#N/A"},{"$error":"#N/A"},{"$error":"#N/A"},{"$error":"#N/A"},null,{"$error":"#DIV/0!"},{"$error":"#DIV/0!"},{"$error":"#DIV/0!"},{"$error":"#DIV/0!"},{"$error":"#DIV/0!"},{"$error":"#DIV/0!"},false,0,{"$error":"#DIV/0!"},{"$error":"#DIV/0!"},{"$error":"#DIV/0!"},{"$error":"#DIV/0!"},{"$error":"#DIV/0!"},{"$error":"#DIV/0!"},{"$error":"#DIV/0!"},{"$error":"#DIV/0!"},{"$error":"#DIV/0!"},{"$error":"#DIV/0!"},{"$error":"#DIV/0!"},{"$error":"#DIV/0!"},0,0,0,0,0,0,0,0,0,0,0,0,{"$error":"#DIV/0!"},{"$error":"#DIV/0!"},{"$error":"#DIV/0!"},{"$error":"#DIV/0!"},{"$error":"#DIV/0!"},{"$error":"#DIV/0!"},{"$error":"#DIV/0!"},{"$error":"#DIV/0!"},{"$error":"#DIV/0!"},{"$error":"#DIV/0!"},{"$error":"#DIV/0!"},{"$error":"#DIV/0!"}]
[]
[" α5"," C1"," C2"," C3"," C4"," C5"," C6"," C7"," C8"]
[null,{"$f":"VLOOKUP(A42,A3:I6,2,FALSE)","v":{"$error":"#N/A"}},{"$f":"VLOOKUP(A42,A3:I6,3,FALSE)","v":{"$error":"#N/A"}},{"$f":"VLOOKUP(A42,A3:I6,4,FALSE)","v":{"$error":"#N/A"}},{"$f":"VLOOKUP(A42,A3:I6,5,FALSE)","v":{"$error":"#N/A"}},{"$f":"VLOOKUP(A42,A3:I6,6,FALSE)","v":{"$error":"#N/A"}},{"$f":"VLOOKUP(A42,A3:I6,7,FALSE)","v":{"$error":"#N/A"}},{"$f":"VLOOKUP(A42,A3:I6,8,FALSE)","v":{"$error":"#N/A"}},{"$f":"VLOOKUP(A42,A3:I6,9,FALSE)","v":{"$error":"#N/A"}}]
["Material flow resistivity (R)",{"$f":"VLOOKUP(C43,'Path Considerations'!A24:B46,2,FALSE)","v":{"$error":"#N/A"}}]
["Absorption material specimen thickness  (in m)"]
[]
[" α6"," C1"," C2"," C3"," C4"," C5"," C6"," C7"," C8"]
[null,{"$f":"VLOOKUP(A47,A3:I6,2,FALSE)","v":{"$error":"#N/A"}},{"$f":"VLOOKUP(A47,A3:I6,3,FALSE)","v":{"$error":"#N/A"}},{"$f":"VLOOKUP(A47,A3:I6,4,FALSE)","v":{"$error":"#N/A"}},{"$f":"VLOOKUP(A47,A3:I6,5,FALSE)","v":{"$error":"#N/A"}},{"$f":"VLOOKUP(A47,A3:I6,6,FALSE)","v":{"$error":"#N/A"}},{"$f":"VLOOKUP(A47,A3:I6,7,FALSE)","v":{"$error":"#N/A"}},{"$f":"VLOOKUP(A47,A3:I6,8,FALSE)","v":{"$error":"#N/A"}},{"$f":"VLOOKUP(A47,A3:I6,9,FALSE)","v":{"$error":"#N/A"}}]
["Material flow resistivity (R)",{"$f":"VLOOKUP(C48,'Path Considerations'!A24:B46,2,FALSE)","v":{"$error":"#N/A"}}]
["Absorption material specimen thickness  (in m)"]
["Material",null,null,null,null,null,null,"No of Patches"]
["RECEIVER"]
[" α1"," C1"," C2"," C3"," C4"," C5"," C6"," C7"," C8"]
[null,{"$f":"VLOOKUP(A53,A3:I6,2,FALSE)","v":{"$error":"#N/A"}},{"$f":"VLOOKUP(A53,A3:I6,3,FALSE)","v":{"$error":"#N/A"}},{"$f":"VLOOKUP(A53,A3:I6,4,FALSE)","v":{"$error":"#N/A"}},{"$f":"VLOOKUP(A53,A3:I6,5,FALSE)","v":{"$error":"#N/A"}},{"$f":"VLOOKUP(A53,A3:I6,6,FALSE)","v":{"$error":"#N/A"}},{"$f":"VLOOKUP(A53,A3:I6,7,FALSE)","v":{"$error":"#N/A"}},{"$f":"VLOOKUP(A53,A3:I6,8,FALSE)","v":{"$error":"#N/A"}},{"$f":"VLOOKUP(A53,A3:I6,9,FALSE)","v":{"$error":"#N/A"}}]
["Material flow resistivity (R)",{"$f":"VLOOKUP(C54,'Path Considerations'!A24:B46,2,FALSE)","v":{"$error":"#N/A"}}]
["Absorption material specimen thickness  (in m)"]
["Mass Density (ρ)"]
["Speed of Sound (c)"]
[]
[" α2"," C1"," C2"," C3"," C4"," C5"," C6"," C7"," C8"]
[null,{"$f":"VLOOKUP(A60,A3:I6,2,FALSE)","v":{"$error":"#N/A"}},{"$f":"VLOOKUP(A60,A3:I6,3,FALSE)","v":{"$error":"#N/A"}},{"$f":"VLOOKUP(A60,A3:I6,4,FALSE)","v":{"$error":"#N/A"}},{"$f":"VLOOKUP(A60,A3:I6,5,FALSE)","v":{"$error":"#N/A"}},{"$f":"VLOOKUP(A60,A3:I6,6,FALSE)","v":{"$error":"#N/A"}},{"$f":"VLOOKUP(A60,A3:I6,7,FALSE)","v":{"$error":"#N/A"}},{"$f":"VLOOKUP(A60,A3:I6,8,FALSE)","v":{"$error":"#N/A"}},{"$f":"VLOOKUP(A60,A3:I6,9,FALSE)","v":{"$error":"#N/A"}}]
["Material flow resistivity (R)",{"$f":"VLOOKUP(C61,'Path Considerations'!A24:B46,2,FALSE)","v":{"$error":"#N/A"}}]
["Absorption material specimen thickness  (in m)"]
[]
[" α3"," C1"," C2"," C3"," C4"," C5"," C6"," C7"," C8"]
[null,{"$f":"VLOOKUP(A65,A3:I6,2,FALSE)","v":{"$error":"#N/A"}},{"$f":"VLOOKUP(A65,A3:I6,3,FALSE)","v":{"$error":"#N/A"}},{"$f":"VLOOKUP(A65,A3:I6,4,FALSE)","v":{"$error":"#N/A"}},{"$f":"VLOOKUP(A65,A3:I6,5,FALSE)","v":{"$error":"#N/A"}},{"$f":"VLOOKUP(A65,A3:I6,6,FALSE)","v":{"$error":"#N/A"}},{"$f":"VLOOKUP(A65,A3:I6,7,FALSE)","v":{"$error":"#N/A"}},{"$f":"VLOOKUP(A65,A3:I6,8,FALSE)","v":{"$error":"#N/A"}},{"$f":"VLOOKUP(A65,A3:I6,9,FALSE)","v":{"$error":"#N/A"}}]
["Material flow resistivity (R)",{"$f":"VLOOKUP(C66,'Path Considerations'!A24:B46,2,FALSE)","v":{"$error":"#N/A"}}]
["Absorption material specimen thickness  (in m)"]
[]
[" α4"," C1"," C2"," C3"," C4"," C5"," C6"," C7"," C8"]
[null,{"$f":"VLOOKUP(A70,A3:I6,2,FALSE)","v":{"$error":"#N/A"}},{"$f":"VLOOKUP(A70,A3:I6,3,FALSE)","v":{"$error":"#N/A"}},{"$f":"VLOOKUP(A70,A3:I6,4,FALSE)","v":{"$error":"#N/A"}},{"$f":"VLOOKUP(A70,A3:I6,5,FALSE)","v":{"$error":"#N/A"}},{"$f":"VLOOKUP(A70,A3:I6,6,FALSE)","v":{"$error":"#N/A"}},{"$f":"VLOOKUP(A70,A3:I6,7,FALSE)","v":{"$error":"#N/A"}},{"$f":"VLOOKUP(A70,A3:I6,8,FALSE)","v":{"$error":"#N/A"}},{"$f":"VLOOKUP(A70,A3:I6,9,FALSE)","v":{"$error":"#N/A"}}]
["Material flow resistivity (R)",{"$f":"VLOOKUP(C71,'Path Considerations'!A24:B46,2,FALSE)","v":{"$error":"#N/A"}}]
["Absorption material specimen thickness  (in m)"]
[]
[" α5"," C1"," C2"," C3"," C4"," C5"," C6"," C7"," C8"]
[null,{"$f":"VLOOKUP(A75,A3:I6,2,FALSE)","v":{"$error":"#N/A"}},{"$f":"VLOOKUP(A75,A3:I6,3,FALSE)","v":{"$error":"#N/A"}},{"$f":"VLOOKUP(A75,A3:I6,4,FALSE)","v":{"$error":"#N/A"}},{"$f":"VLOOKUP(A75,A3:I6,5,FALSE)","v":{"$error":"#N/A"}},{"$f":"VLOOKUP(A75,A3:I6,6,FALSE)","v":{"$error":"#N/A"}},{"$f":"VLOOKUP(A75,A3:I6,7,FALSE)","v":{"$error":"#N/A"}},{"$f":"VLOOKUP(A75,A3:I6,8,FALSE)","v":{"$error":"#N/A"}},{"$f":"VLOOKUP(A75,A3:I6,9,FALSE)","v":{"$error":"#N/A"}}]
["Material flow resistivity (R)",{"$f":"VLOOKUP(C76,'Path Considerations'!A24:B46,2,FALSE)","v":{"$error":"#N/A"}}]
["Absorption material specimen thickness  (in m)"]
[]
[" α6"," C1"," C2"," C3"," C4"," C5"," C6"," C7"," C8"]
[null,{"$f":"VLOOKUP(A80,A3:I6,2,FALSE)","v":{"$error":"#N/A"}},{"$f":"VLOOKUP(A80,A3:I6,3,FALSE)","v":{"$error":"#N/A"}},{"$f":"VLOOKUP(A80,A3:I6,4,FALSE)","v":{"$error":"#N/A"}},{"$f":"VLOOKUP(A80,A3:I6,5,FALSE)","v":{"$error":"#N/A"}},{"$f":"VLOOKUP(A80,A3:I6,6,FALSE)","v":{"$error":"#N/A"}},{"$f":"VLOOKUP(A80,A3:I6,7,FALSE)","v":{"$error":"#N/A"}},{"$f":"VLOOKUP(A80,A3:I6,8,FALSE)","v":{"$error":"#N/A"}},{"$f":"VLOOKUP(A80,A3:I6,9,FALSE)","v":{"$error":"#N/A"}}]
["Material flow resistivity (R)",{"$f":"VLOOKUP(C81,'Path Considerations'!A24:B46,2,FALSE)","v":{"$error":"#N/A"}}]
["Absorption material specimen thickness  (in m)"]
[]
[]
["SOURCE - MPP"]
[" α1"]
["Viscosity of medium (η)"]
["Perforation Hole Diameter (d)"]
["Thickness (t)"]
["Porosity (σ)"]
["Cavity Depth (D)"]
[]
[" α2"]
["Perforation Hole Diameter (d)"]
["Thickness (t)"]
["Porosity (σ)"]
["Cavity Depth (D)"]
[]
[" α3"]
["Perforation Hole Diameter (d)"]
["Thickness (t)"]
["Porosity (σ)"]
["Cavity Depth (D)"]
[]
[" α4"]
["Perforation Hole Diameter (d)"]
["Thickness (t)"]
["Porosity (σ)"]
["Cavity Depth (D)"]
[]
[" α5"]
["Perforation Hole Diameter (d)"]
["Thickness (t)"]
["Porosity (σ)"]
["Cavity Depth (D)"]
[]
[" α6"]
["Perforation Hole Diameter (d)"]
["Thickness (t)"]
["Porosity (σ)"]
["Cavity Depth (D)"]
[]
[]
["RECEIVER - MPP"]
["Receiver MPP"]
[" α1"]
["Viscosity of medium (η)"]
["Perforation Hole Diameter (d)"]
["Thickness (t)"]
["Porosity (σ)"]
["Cavity Depth (D)"]
[]
[" α2"]
["Perforation Hole Diameter (d)"]
["Thickness (t)"]
["Porosity (σ)"]
["Cavity Depth (D)"]
[]
[" α3"]
["Perforation Hole Diameter (d)"]
["Thickness (t)"]
["Porosity (σ)"]
["Cavity Depth (D)"]
[]
[" α4"]
["Perforation Hole Diameter (d)"]
["Thickness (t)"]
["Porosity (σ)"]
["Cavity Depth (D)"]
[]
[" α5"]
["Perforation Hole Diameter (d)"]
["Thickness (t)"]
["Porosity (σ)"]
["Cavity Depth (D)"]
[]
[" α6"]
["Perforation Hole Diameter (d)"]
["Thickness (t)"]
["Porosity (σ)"]
["Cavity Depth (D)"]

{"sheet":"Transmissibility","index":9,"n_rows":39,"n_cols":41,"rows_kept":39,"cut":false,"hidden":false,"merged":[[0,14,0,20],[0,21,0,27]]}
[null,null,null,null,null,null,null,null,null,null,null,null,null,null,"Source Side Panel",null,null,null,null,null,null,"Receiver Side Panel"]
[null,null,null,null,null,null,null,null,null,null,null,null,null,"f (Hz)","τ1","τ2","τ3","τ4","τ5","τ6","τs","τ1","τ2","τ3","τ4","τ5","τ6","τr",null,"1 Patch - τs","2 Patch - τs","3 Patch - τs","4 Patch - τs","5 Patch - τs","6 Patch - τs","1 Patch - τr","2 Patch - τr","3 Patch - τr","4 Patch - τr","5 Patch - τr","6 Patch - τr"]
[null,null,null,null,null,null,null,null,null,null,null,null,null,2.5,{"$f":"(($C$7*$C$8)/(PI()*N3*$C$25))^2","v":{"$error":"#N/A"}},{"$f":"(($C$7*$C$8)/(PI()*N3*$D$25))^2","v":{"$error":"#N/A"}},{"$f":"(($C$7*$C$8)/(PI()*N3*$E$25))^2","v":{"$error":"#N/A"}},{"$f":"(($C$7*$C$8)/(PI()*N3*$F$25))^2","v":{"$error":"#N/A"}},{"$f":"(($C$7*$C$8)/(PI()*N3*$G$25))^2","v":{"$error":"#N/A"}},{"$f":"(($C$7*$C$8)/(PI()*N3*$H$25))^2","v":{"$error":"#N/A"}},{"$f":"IF($K$19=1,AD3,IF($K$19=2,AE3,IF($K$19=3,AF3,IF($K$19=4,AG3,IF($K$19=5,AH3,IF($K$19=6,AI3))))))","v":{"$error":"#N/A"}},{"$f":"(($C$11*$C$12)/(PI()*N3*$C$29))^2","v":{"$error":"#N/A"}},{"$f":"(($C$11*$C$12)/(PI()*N3*$D$29))^2","v":{"$error":"#N/A"}},{"$f":"(($C$11*$C$12)/(PI()*N3*$E$29))^2","v":{"$error":"#N/A"}},{"$f":"(($C$11*$C$12)/(PI()*N3*$F$29))^2","v":{"$error":"#N/A"}},{"$f":"(($C$11*$C$12)/(PI()*N3*$G$29))^2","v":{"$error":"#N/A"}},{"$f":"(($C$11*$C$12)/(PI()*N3*$H$29))^2","v":{"$error":"#N/A"}},{"$f":"IF($K$20=1,AJ3,IF($K$20=2,AK3,IF($K$20=3,AL3,IF($K$20=4,AM3,IF($K$20=5,AN3,IF($K$20=6,AO3))))))","v":false},null,{"$f":"(O3*$C$19)/$I$19","v":{"$error":"#N/A"}},{"$f":"((O3*$C$19)+(P3*$D$19))/$I$19","v":{"$error":"#N/A"}},{"$f":"((O3*$C$19)+(P3*$D$19)+(Q3*$E$19))/$I$19","v":{"$error":"#N/A"}},{"$f":"((O3*$C$19)+(P3*$D$19)+(Q3*$E$19)+(R3*$F$19))/$I$19","v":{"$error":"#N/A"}},{"$f":"((O3*$C$19)+(P3*$D$19)+(Q3*$E$19)+(R3*$F$19)+(S3*$G$19))/$I$19","v":{"$error":"#N/A"}},{"$f":"((O3*$C$19)+(P3*$D$19)+(Q3*$E$19)+(R3*$F$19)+(S3*$G$19)+(T3*$H$19))/$I$19","v":{"$error":"#N/A"}},{"$f":"(V3*$C$20)/$I$20","v":{"$error":"#N/A"}},{"$f":"((V3*$C$20)+(W3*$D$20))/$I$20","v":{"$error":"#N/A"}},{"$f":"((V3*$C$20)+(W3*$D$20)+(X3*$E$20))/$I$20","v":{"$error":"#N/A"}},{"$f":"((V3*$C$20)+(W3*$D$20)+(X3*$E$20)+(Y3*$F$20))/$I$20","v":{"$error":"#N/A"}},{"$f":"((V3*$C$20)+(W3*$D$20)+(X3*$E$20)+(Y3*$F$20)+(Z3*$G$20))/$I$20","v":{"$error":"#N/A"}},{"$f":"((V3*$C$20)+(W3*$D$20)+(X3*$E$20)+(Y3*$F$20)+(Z3*$G$20)+(AA3*$H$20))/$I$20","v":{"$error":"#N/A"}}]
[null,null,null,null,null,null,null,null,null,null,null,null,null,3.15,{"$f":"(($C$7*$C$8)/(PI()*N4*$C$25))^2","v":{"$error":"#N/A"}},{"$f":"(($C$7*$C$8)/(PI()*N4*$D$25))^2","v":{"$error":"#N/A"}},{"$f":"(($C$7*$C$8)/(PI()*N4*$E$25))^2","v":{"$error":"#N/A"}},{"$f":"(($C$7*$C$8)/(PI()*N4*$F$25))^2","v":{"$error":"#N/A"}},{"$f":"(($C$7*$C$8)/(PI()*N4*$G$25))^2","v":{"$error":"#N/A"}},{"$f":"(($C$7*$C$8)/(PI()*N4*$H$25))^2","v":{"$error":"#N/A"}},{"$f":"IF($K$19=1,AD4,IF($K$19=2,AE4,IF($K$19=3,AF4,IF($K$19=4,AG4,IF($K$19=5,AH4,IF($K$19=6,AI4))))))","v":{"$error":"#N/A"}},{"$f":"(($C$11*$C$12)/(PI()*N4*$C$29))^2","v":{"$error":"#N/A"}},{"$f":"(($C$11*$C$12)/(PI()*N4*$D$29))^2","v":{"$error":"#N/A"}},{"$f":"(($C$11*$C$12)/(PI()*N4*$E$29))^2","v":{"$error":"#N/A"}},{"$f":"(($C$11*$C$12)/(PI()*N4*$F$29))^2","v":{"$error":"#N/A"}},{"$f":"(($C$11*$C$12)/(PI()*N4*$G$29))^2","v":{"$error":"#N/A"}},{"$f":"(($C$11*$C$12)/(PI()*N4*$H$29))^2","v":{"$error":"#N/A"}},{"$f":"IF($K$20=1,AJ4,IF($K$20=2,AK4,IF($K$20=3,AL4,IF($K$20=4,AM4,IF($K$20=5,AN4,IF($K$20=6,AO4))))))","v":false},null,{"$f":"(O4*$C$19)/$I$19","v":{"$error":"#N/A"}},{"$f":"((O4*$C$19)+(P4*$D$19))/$I$19","v":{"$error":"#N/A"}},{"$f":"((O4*$C$19)+(P4*$D$19)+(Q4*$E$19))/$I$19","v":{"$error":"#N/A"}},{"$f":"((O4*$C$19)+(P4*$D$19)+(Q4*$E$19)+(R4*$F$19))/$I$19","v":{"$error":"#N/A"}},{"$f":"((O4*$C$19)+(P4*$D$19)+(Q4*$E$19)+(R4*$F$19)+(S4*$G$19))/$I$19","v":{"$error":"#N/A"}},{"$f":"((O4*$C$19)+(P4*$D$19)+(Q4*$E$19)+(R4*$F$19)+(S4*$G$19)+(T4*$H$19))/$I$19","v":{"$error":"#N/A"}},{"$f":"(V4*$C$20)/$I$20","v":{"$error":"#N/A"}},{"$f":"((V4*$C$20)+(W4*$D$20))/$I$20","v":{"$error":"#N/A"}},{"$f":"((V4*$C$20)+(W4*$D$20)+(X4*$E$20))/$I$20","v":{"$error":"#N/A"}},{"$f":"((V4*$C$20)+(W4*$D$20)+(X4*$E$20)+(Y4*$F$20))/$I$20","v":{"$error":"#N/A"}},{"$f":"((V4*$C$20)+(W4*$D$20)+(X4*$E$20)+(Y4*$F$20)+(Z4*$G$20))/$I$20","v":{"$error":"#N/A"}},{"$f":"((V4*$C$20)+(W4*$D$20)+(X4*$E$20)+(Y4*$F$20)+(Z4*$G$20)+(AA4*$H$20))/$I$20","v":{"$error":"#N/A"}}]
[null,null,null,null,null,null,null,null,null,null,null,null,null,4,{"$error":"#N/A"},{"$error":"#N/A"},{"$error":"#N/A"},{"$error":"#N/A"},{"$error":"#N/A"},{"$error":"#N/A"},{"$error":"#N/A"},{"$error":"#N/A"},{"$error":"#N/A"},{"$error":"#N/A"},{"$error":"#N/A"},{"$error":"#N/A"},{"$error":"#N/A"},false,null,{"$error":"#N/A"},{"$error":"#N/A"},{"$error":"#N/A"},{"$error":"#N/A"},{"$error":"#N/A"},{"$error":"#N/A"},{"$error":"#N/A"},{"$error":"#N/A"},{"$error":"#N/A"},{"$error":"#N/A"},{"$error":"#N/A"},{"$error":"#N/A"}]
[null,"SOURCE",null,null,null,null,null,null,null,null,null,null,null,5,{"$error":"#N/A"},{"$error":"#N/A"},{"$error":"#N/A"},{"$error":"#N/A"},{"$error":"#N/A"},{"$error":"#N/A"},{"$error":"#N/A"},{"$error":"#N/A"},{"$error":"#N/A"},{"$error":"#N/A"},{"$error":"#N/A"},{"$error":"#N/A"},{"$error":"#N/A"},false,null,{"$error":"#N/A"},{"$error":"#N/A"},{"$error":"#N/A"},{"$error":"#N/A"},{"$error":"#N/A"},{"$error":"#N/A"},{"$error":"#N/A"},{"$error":"#N/A"},{"$error":"#N/A"},{"$error":"#N/A"},{"$error":"#N/A"},{"$error":"#N/A"}]
[null,"Density of medium(ρ0)",null,null,null,null,null,null,null,null,null,null,null,6.3,{"$error":"#N/A"},{"$error":"#N/A"},{"$error":"#N/A"},{"$error":"#N/A"},{"$error":"#N/A"},{"$error":"#N/A"},{"$error":"#N/A"},{"$error":"#N/A"},{"$error":"#N/A"},{"$error":"#N/A"},{"$error":"#N/A"},{"$error":"#N/A"},{"$error":"#N/A"},false,null,{"$error":"#N/A"},{"$error":"#N/A"},{"$error":"#N/A"},{"$error":"#N/A"},{"$error":"#N/A"},{"$error":"#N/A"},{"$error":"#N/A"},{"$error":"#N/A"},{"$error":"#N/A"},{"$error":"#N/A"},{"$error":"#N/A"},{"$error":"#N/A"}]
[null,"Speed of Sound (c)",null,null,null,null,null,null,null,null,null,null,null,8,{"$error":"#N/A"},{"$error":"#N/A"},{"$error":"#N/A"},{"$error":"#N/A"},{"$error":"#N/A"},{"$error":"#N/A"},{"$error":"#N/A"},{"$error":"#N/A"},{"$error":"#N/A"},{"$error":"#N/A"},{"$error":"#N/A"},{"$error":"#N/A"},{"$error":"#N/A"},false,null,{"$error":"#N/A"},{"$error":"#N/A"},{"$error":"#N/A"},{"$error":"#N/A"},{"$error":"#N/A"},{"$error":"#N/A"},{"$error":"#N/A"},{"$error":"#N/A"},{"$error":"#N/A"},{"$error":"#N/A"},{"$error":"#N/A"},{"$error":"#N/A"}]
[null,null,null,null,null,null,null,null,null,null,null,null,null,10,{"$error":"#N/A"},{"$error":"#N/A"},{"$error":"#N/A"},{"$error":"#N/A"},{"$error":"#N/A"},{"$error":"#N/A"},{"$error":"#N/A"},{"$error":"#N/A"},{"$error":"#N/A"},{"$error":"#N/A"},{"$error":"#N/A"},{"$error":"#N/A"},{"$error":"#N/A"},false,null,{"$error":"#N/A"},{"$error":"#N/A"},{"$error":"#N/A"},{"$error":"#N/A"},{"$error":"#N/A"},{"$error":"#N/A"},{"$error":"#N/A"},{"$error":"#N/A"},{"$error":"#N/A"},{"$error":"#N/A"},{"$error":"#N/A"},{"$error":"#N/A"}]
[null,"Receiver",null,null,null,null,null,null,null,null,null,null,null,12.5,{"$error":"#N/A"},{"$error":"#N/A"},{"$error":"#N/A"},{"$error":"#N/A"},{"$error":"#N/A"},{"$error":"#N/A"},{"$error":"#N/A"},{"$error":"#N/A"},{"$error":"#N/A"},{"$error":"#N/A"},{"$error":"#N/A"},{"$error":"#N/A"},{"$error":"#N/A"},false,null,{"$error":"#N/A"},{"$error":"#N/A"},{"$error":"#N/A"},{"$error":"#N/A"},{"$error":"#N/A"},{"$error":"#N/A"},{"$error":"#N/A"},{"$error":"#N/A"},{"$error":"#N/A"},{"$error":"#N/A"},{"$error":"#N/A"},{"$error":"#N/A"}]
[null,"Density of medium(ρ0)",null,null,null,null,null,null,null,null,null,null,null,16,{"$error":"#N/A"},{"$error":"#N/A"},{"$error":"#N/A"},{"$error":"#N/A"},{"$error":"#N/A"},{"$error":"#N/A"},{"$error":"#N/A"},{"$error":"#N/A"},{"$error":"#N/A"},{"$error":"#N/A"},{"$error":"#N/A"},{"$error":"#N/A"},{"$error":"#N/A"},false,null,{"$error":"#N/A"},{"$error":"#N/A"},{"$error":"#N/A"},{"$error":"#N/A"},{"$error":"#N/A"},{"$error":"#N/A"},{"$error":"#N/A"},{"$error":"#N/A"},{"$error":"#N/A"},{"$error":"#N/A"},{"$error":"#N/A"},{"$error":"#N/A"}]
[null,"Speed of Sound (c)",null,null,null,null,null,null,null,null,null,null,null,20,{"$error":"#N/A"},{"$error":"#N/A"},{"$error":"#N/A"},{"$error":"#N/A"},{"$error":"#N/A"},{"$error":"#N/A"},{"$error":"#N/A"},{"$error":"#N/A"},{"$error":"#N/A"},{"$error":"#N/A"},{"$error":"#N/A"},{"$error":"#N/A"},{"$error":"#N/A"},false,null,{"$error":"#N/A"},{"$error":"#N/A"},{"$error":"#N/A"},{"$error":"#N/A"},{"$error":"#N/A"},{"$error":"#N/A"},{"$error":"#N/A"},{"$error":"#N/A"},{"$error":"#N/A"},{"$error":"#N/A"},{"$error":"#N/A"},{"$error":"#N/A"}]
[null,null,null,null,null,null,null,null,null,null,null,null,null,25,{"$error":"#N/A"},{"$error":"#N/A"},{"$error":"#N/A"},{"$error":"#N/A"},{"$error":"#N/A"},{"$error":"#N/A"},{"$error":"#N/A"},{"$error":"#N/A"},{"$error":"#N/A"},{"$error":"#N/A"},{"$error":"#N/A"},{"$error":"#N/A"},{"$error":"#N/A"},false,null,{"$error":"#N/A"},{"$error":"#N/A"},{"$error":"#N/A"},{"$error":"#N/A"},{"$error":"#N/A"},{"$error":"#N/A"},{"$error":"#N/A"},{"$error":"#N/A"},{"$error":"#N/A"},{"$error":"#N/A"},{"$error":"#N/A"},{"$error":"#N/A"}]
[null,null,null,null,null,null,null,null,null,null,null,null,null,31.5,{"$error":"#N/A"},{"$error":"#N/A"},{"$error":"#N/A"},{"$error":"#N/A"},{"$error":"#N/A"},{"$error":"#N/A"},{"$error":"#N/A"},{"$error":"#N/A"},{"$error":"#N/A"},{"$error":"#N/A"},{"$error":"#N/A"},{"$error":"#N/A"},{"$error":"#N/A"},false,null,{"$error":"#N/A"},{"$error":"#N/A"},{"$error":"#N/A"},{"$error":"#N/A"},{"$error":"#N/A"},{"$error":"#N/A"},{"$error":"#N/A"},{"$error":"#N/A"},{"$error":"#N/A"},{"$error":"#N/A"},{"$error":"#N/A"},{"$error":"#N/A"}]
[null,null,null,null,null,null,null,null,null,null,null,null,null,40,{"$error":"#N/A"},{"$error":"#N/A"},{"$error":"#N/A"},{"$error":"#N/A"},{"$error":"#N/A"},{"$error":"#N/A"},{"$error":"#N/A"},{"$error":"#N/A"},{"$error":"#N/A"},{"$error":"#N/A"},{"$error":"#N/A"},{"$error":"#N/A"},{"$error":"#N/A"},false,null,{"$error":"#N/A"},{"$error":"#N/A"},{"$error":"#N/A"},{"$error":"#N/A"},{"$error":"#N/A"},{"$error":"#N/A"},{"$error":"#N/A"},{"$error":"#N/A"},{"$error":"#N/A"},{"$error":"#N/A"},{"$error":"#N/A"},{"$error":"#N/A"}]
[null,null,null,null,null,null,null,null,null,null,null,null,null,50,{"$error":"#N/A"},{"$error":"#N/A"},{"$error":"#N/A"},{"$error":"#N/A"},{"$error":"#N/A"},{"$error":"#N/A"},{"$error":"#N/A"},{"$error":"#N/A"},{"$error":"#N/A"},{"$error":"#N/A"},{"$error":"#N/A"},{"$error":"#N/A"},{"$error":"#N/A"},false,null,{"$error":"#N/A"},{"$error":"#N/A"},{"$error":"#N/A"},{"$error":"#N/A"},{"$error":"#N/A"},{"$error":"#N/A"},{"$error":"#N/A"},{"$error":"#N/A"},{"$error":"#N/A"},{"$error":"#N/A"},{"$error":"#N/A"},{"$error":"#N/A"}]
[null,null,null,null,null,null,null,null,null,null,null,null,null,63,{"$error":"#N/A"},{"$error":"#N/A"},{"$error":"#N/A"},{"$error":"#N/A"},{"$error":"#N/A"},{"$error":"#N/A"},{"$error":"#N/A"},{"$error":"#N/A"},{"$error":"#N/A"},{"$error":"#N/A"},{"$error":"#N/A"},{"$error":"#N/A"},{"$error":"#N/A"},false,null,{"$error":"#N/A"},{"$error":"#N/A"},{"$error":"#N/A"},{"$error":"#N/A"},{"$error":"#N/A"},{"$error":"#N/A"},{"$error":"#N/A"},{"$error":"#N/A"},{"$error":"#N/A"},{"$error":"#N/A"},{"$error":"#N/A"},{"$error":"#N/A"}]
[null,"Patch AREA","S1","S2","S3","S4","S5","S6","Stotal",null,"No of Patches",null,null,80,{"$error":"#N/A"},{"$error":"#N/A"},{"$error":"#N/A"},{"$error":"#N/A"},{"$error":"#N/A"},{"$error":"#N/A"},{"$error":"#N/A"},{"$error":"#N/A"},{"$error":"#N/A"},{"$error":"#N/A"},{"$error":"#N/A"},{"$error":"#N/A"},{"$error":"#N/A"},false,null,{"$error":"#N/A"},{"$error":"#N/A"},{"$error":"#N/A"},{"$error":"#N/A"},{"$error":"#N/A"},{"$error":"#N/A"},{"$error":"#N/A"},{"$error":"#N/A"},{"$error":"#N/A"},{"$error":"#N/A"},{"$error":"#N/A"},{"$error":"#N/A"}]
[null,"Source Panel Wall",null,null,null,null,null,null,null,null,1,null,null,100,{"$error":"#N/A"},{"$error":"#N/A"},{"$error":"#N/A"},{"$error":"#N/A"},{"$error":"#N/A"},{"$error":"#N/A"},{"$error":"#N/A"},{"$error":"#N/A"},{"$error":"#N/A"},{"$error":"#N/A"},{"$error":"#N/A"},{"$error":"#N/A"},{"$error":"#N/A"},false,null,{"$error":"#N/A"},{"$error":"#N/A"},{"$error":"#N/A"},{"$error":"#N/A"},{"$error":"#N/A"},{"$error":"#N/A"},{"$error":"#N/A"},{"$error":"#N/A"},{"$error":"#N/A"},{"$error":"#N/A"},{"$error":"#N/A"},{"$error":"#N/A"}]
[null,"Receiver Panel Wall",null,null,null,null,null,null,null,null,null,null,null,125,{"$error":"#N/A"},{"$error":"#N/A"},{"$error":"#N/A"},{"$error":"#N/A"},{"$error":"#N/A"},{"$error":"#N/A"},{"$error":"#N/A"},{"$error":"#N/A"},{"$error":"#N/A"},{"$error":"#N/A"},{"$error":"#N/A"},{"$error":"#N/A"},{"$error":"#N/A"},false,null,{"$error":"#N/A"},{"$error":"#N/A"},{"$error":"#N/A"},{"$error":"#N/A"},{"$error":"#N/A"},{"$error":"#N/A"},{"$error":"#N/A"},{"$error":"#N/A"},{"$error":"#N/A"},{"$error":"#N/A"},{"$error":"#N/A"},{"$error":"#N/A"}]
[null,null,null,null,null,null,null,null,null,null,null,null,null,160,{"$error":"#N/A"},{"$error":"#N/A"},{"$error":"#N/A"},{"$error":"#N/A"},{"$error":"#N/A"},{"$error":"#N/A"},{"$error":"#N/A"},{"$error":"#N/A"},{"$error":"#N/A"},{"$error":"#N/A"},{"$error":"#N/A"},{"$error":"#N/A"},{"$error":"#N/A"},false,null,{"$error":"#N/A"},{"$error":"#N/A"},{"$error":"#N/A"},{"$error":"#N/A"},{"$error":"#N/A"},{"$error":"#N/A"},{"$error":"#N/A"},{"$error":"#N/A"},{"$error":"#N/A"},{"$error":"#N/A"},{"$error":"#N/A"},{"$error":"#N/A"}]
[null,"Source Panel Material",null,null,null,null,null,null,null,null,null,null,null,200,{"$error":"#N/A"},{"$error":"#N/A"},{"$error":"#N/A"},{"$error":"#N/A"},{"$error":"#N/A"},{"$error":"#N/A"},{"$error":"#N/A"},{"$error":"#N/A"},{"$error":"#N/A"},{"$error":"#N/A"},{"$error":"#N/A"},{"$error":"#N/A"},{"$error":"#N/A"},false,null,{"$error":"#N/A"},{"$error":"#N/A"},{"$error":"#N/A"},{"$error":"#N/A"},{"$error":"#N/A"},{"$error":"#N/A"},{"$error":"#N/A"},{"$error":"#N/A"},{"$error":"#N/A"},{"$error":"#N/A"},{"$error":"#N/A"},{"$error":"#N/A"}]
[null,"Panel Material Density (ρ)",{"$f":"VLOOKUP(C22,'Path Considerations'!A49:B55,2,FALSE)","v":{"$error":"#N/A"}},{"$f":"VLOOKUP(D22,'Path Considerations'!A49:B55,2,FALSE)","v":{"$error":"#N/A"}},{"$f":"VLOOKUP(E22,'Path Considerations'!A49:B55,2,FALSE)","v":{"$error":"#N/A"}},{"$f":"VLOOKUP(F22,'Path Considerations'!A49:B55,2,FALSE)","v":{"$error":"#N/A"}},{"$f":"VLOOKUP(G22,'Path Considerations'!A49:B55,2,FALSE)","v":{"$error":"#N/A"}},{"$f":"VLOOKUP(H22,'Path Considerations'!A49:B55,2,FALSE)","v":{"$error":"#N/A"}},null,null,null,null,null,250,{"$error":"#N/A"},{"$error":"#N/A"},{"$error":"#N/A"},{"$error":"#N/A"},{"$error":"#N/A"},{"$error":"#N/A"},{"$error":"#N/A"},{"$error":"#N/A"},{"$error":"#N/A"},{"$error":"#N/A"},{"$error":"#N/A"},{"$error":"#N/A"},{"$error":"#N/A"},false,null,{"$error":"#N/A"},{"$error":"#N/A"},{"$error":"#N/A"},{"$error":"#N/A"},{"$error":"#N/A"},{"$error":"#N/A"},{"$error":"#N/A"},{"$error":"#N/A"},{"$error":"#N/A"},{"$error":"#N/A"},{"$error":"#N/A"},{"$error":"#N/A"}]
[null,"Panel Thickness (ts)",null,null,null,null,null,null,null,null,null,null,null,315,{"$error":"#N/A"},{"$error":"#N/A"},{"$error":"#N/A"},{"$error":"#N/A"},{"$error":"#N/A"},{"$error":"#N/A"},{"$error":"#N/A"},{"$error":"#N/A"},{"$error":"#N/A"},{"$error":"#N/A"},{"$error":"#N/A"},{"$error":"#N/A"},{"$error":"#N/A"},false,null,{"$error":"#N/A"},{"$error":"#N/A"},{"$error":"#N/A"},{"$error":"#N/A"},{"$error":"#N/A"},{"$error":"#N/A"},{"$error":"#N/A"},{"$error":"#N/A"},{"$error":"#N/A"},{"$error":"#N/A"},{"$error":"#N/A"},{"$error":"#N/A"}]
[null,"Panel SurfaceDensity (ρs)",{"$f":"C23*C24","v":{"$error":"#N/A"}},{"$error":"#N/A"},{"$error":"#N/A"},{"$error":"#N/A"},{"$error":"#N/A"},{"$error":"#N/A"},null,null,null,null,null,400,{"$error":"#N/A"},{"$error":"#N/A"},{"$error":"#N/A"},{"$error":"#N/A"},{"$error":"#N/A"},{"$error":"#N/A"},{"$error":"#N/A"},{"$error":"#N/A"},{"$error":"#N/A"},{"$error":"#N/A"},{"$error":"#N/A"},{"$error":"#N/A"},{"$error":"#N/A"},false,null,{"$error":"#N/A"},{"$error":"#N/A"},{"$error":"#N/A"},{"$error":"#N/A"},{"$error":"#N/A"},{"$error":"#N/A"},{"$error":"#N/A"},{"$error":"#N/A"},{"$error":"#N/A"},{"$error":"#N/A"},{"$error":"#N/A"},{"$error":"#N/A"}]
[null,"Receiver Panel Material",null,null,null,null,null,null,null,null,null,null,null,500,{"$error":"#N/A"},{"$error":"#N/A"},{"$error":"#N/A"},{"$error":"#N/A"},{"$error":"#N/A"},{"$error":"#N/A"},{"$error":"#N/A"},{"$error":"#N/A"},{"$error":"#N/A"},{"$error":"#N/A"},{"$error":"#N/A"},{"$error":"#N/A"},{"$error":"#N/A"},false,null,{"$error":"#N/A"},{"$error":"#N/A"},{"$error":"#N/A"},{"$error":"#N/A"},{"$error":"#N/A"},{"$error":"#N/A"},{"$error":"#N/A"},{"$error":"#N/A"},{"$error":"#N/A"},{"$error":"#N/A"},{"$error":"#N/A"},{"$error":"#N/A"}]
[null,"Panel Material Density (ρ)",{"$f":"VLOOKUP(C26,'Path Considerations'!A49:B55,2,FALSE)","v":{"$error":"#N/A"}},{"$f":"VLOOKUP(D26,'Path Considerations'!A49:B55,2,FALSE)","v":{"$error":"#N/A"}},{"$f":"VLOOKUP(E26,'Path Considerations'!A49:B55,2,FALSE)","v":{"$error":"#N/A"}},{"$f":"VLOOKUP(F26,'Path Considerations'!A49:B55,2,FALSE)","v":{"$error":"#N/A"}},{"$f":"VLOOKUP(G26,'Path Considerations'!A49:B55,2,FALSE)","v":{"$error":"#N/A"}},{"$f":"VLOOKUP(H26,'Path Considerations'!A49:B55,2,FALSE)","v":{"$error":"#N/A"}},null,null,null,null,null,630,{"$error":"#N/A"},{"$error":"#N/A"},{"$error":"#N/A"},{"$error":"#N/A"},{"$error":"#N/A"},{"$error":"#N/A"},{"$error":"#N/A"},{"$error":"#N/A"},{"$error":"#N/A"},{"$error":"#N/A"},{"$error":"#N/A"},{"$error":"#N/A"},{"$error":"#N/A"},false,null,{"$error":"#N/A"},{"$error":"#N/A"},{"$error":"#N/A"},{"$error":"#N/A"},{"$error":"#N/A"},{"$error":"#N/A"},{"$error":"#N/A"},{"$error":"#N/A"},{"$error":"#N/A"},{"$error":"#N/A"},{"$error":"#N/A"},{"$error":"#N/A"}]
[null,"Panel Thickness (ts)",null,null,null,null,null,null,null,null,null,null,null,800,{"$error":"#N/A"},{"$error":"#N/A"},{"$error":"#N/A"},{"$error":"#N/A"},{"$error":"#N/A"},{"$error":"#N/A"},{"$error":"#N/A"},{"$error":"#N/A"},{"$error":"#N/A"},{"$error":"#N/A"},{"$error":"#N/A"},{"$error":"#N/A"},{"$error":"#N/A"},false,null,{"$error":"#N/A"},{"$error":"#N/A"},{"$error":"#N/A"},{"$error":"#N/A"},{"$error":"#N/A"},{"$error":"#N/A"},{"$error":"#N/A"},{"$error":"#N/A"},{"$error":"#N/A"},{"$error":"#N/A"},{"$error":"#N/A"},{"$error":"#N/A"}]
[null,"Panel SurfaceDensity (ρs)",{"$f":"C27*C28","v":{"$error":"#N/A"}},{"$error":"#N/A"},{"$error":"#N/A"},{"$error":"#N/A"},{"$error":"#N/A"},{"$error":"#N/A"},null,null,null,null,null,1000,{"$error":"#N/A"},{"$error":"#N/A"},{"$error":"#N/A"},{"$error":"#N/A"},{"$error":"#N/A"},{"$error":"#N/A"},{"$error":"#N/A"},{"$error":"#N/A"},{"$error":"#N/A"},{"$error":"#N/A"},{"$error":"#N/A"},{"$error":"#N/A"},{"$error":"#N/A"},false,null,{"$error":"#N/A"},{"$error":"#N/A"},{"$error":"#N/A"},{"$error":"#N/A"},{"$error":"#N/A"},{"$error":"#N/A"},{"$error":"#N/A"},{"$error":"#N/A"},{"$error":"#N/A"},{"$error":"#N/A"},{"$error":"#N/A"},{"$error":"#N/A"}]
[null,null,null,null,null,null,null,null,null,null,null,null,null,1250,{"$error":"#N/A"},{"$error":"#N/A"},{"$error":"#N/A"},{"$error":"#N/A"},{"$error":"#N/A"},{"$error":"#N/A"},{"$error":"#N/A"},{"$error":"#N/A"},{"$error":"#N/A"},{"$error":"#N/A"},{"$error":"#N/A"},{"$error":"#N/A"},{"$error":"#N/A"},false,null,{"$error":"#N/A"},{"$error":"#N/A"},{"$error":"#N/A"},{"$error":"#N/A"},{"$error":"#N/A"},{"$error":"#N/A"},{"$error":"#N/A"},{"$error":"#N/A"},{"$error":"#N/A"},{"$error":"#N/A"},{"$error":"#N/A"},{"$error":"#N/A"}]
[null,null,null,null,null,null,null,null,null,null,null,null,null,1600,{"$error":"#N/A"},{"$error":"#N/A"},{"$error":"#N/A"},{"$error":"#N/A"},{"$error":"#N/A"},{"$error":"#N/A"},{"$error":"#N/A"},{"$error":"#N/A"},{"$error":"#N/A"},{"$error":"#N/A"},{"$error":"#N/A"},{"$error":"#N/A"},{"$error":"#N/A"},false,null,{"$error":"#N/A"},{"$error":"#N/A"},{"$error":"#N/A"},{"$error":"#N/A"},{"$error":"#N/A"},{"$error":"#N/A"},{"$error":"#N/A"},{"$error":"#N/A"},{"$error":"#N/A"},{"$error":"#N/A"},{"$error":"#N/A"},{"$error":"#N/A"}]
[null,null,null,null,null,null,null,null,null,null,null,null,null,2000,{"$error":"#N/A"},{"$error":"#N/A"},{"$error":"#N/A"},{"$error":"#N/A"},{"$error":"#N/A"},{"$error":"#N/A"},{"$error":"#N/A"},{"$error":"#N/A"},{"$error":"#N/A"},{"$error":"#N/A"},{"$error":"#N/A"},{"$error":"#N/A"},{"$error":"#N/A"},false,null,{"$error":"#N/A"},{"$error":"#N/A"},{"$error":"#N/A"},{"$error":"#N/A"},{"$error":"#N/A"},{"$error":"#N/A"},{"$error":"#N/A"},{"$error":"#N/A"},{"$error":"#N/A"},{"$error":"#N/A"},{"$error":"#N/A"},{"$error":"#N/A"}]
[null,null,null,null,null,null,null,null,null,null,null,null,null,2500,{"$error":"#N/A"},{"$error":"#N/A"},{"$error":"#N/A"},{"$error":"#N/A"},{"$error":"#N/A"},{"$error":"#N/A"},{"$error":"#N/A"},{"$error":"#N/A"},{"$error":"#N/A"},{"$error":"#N/A"},{"$error":"#N/A"},{"$error":"#N/A"},{"$error":"#N/A"},false,null,{"$error":"#N/A"},{"$error":"#N/A"},{"$error":"#N/A"},{"$error":"#N/A"},{"$error":"#N/A"},{"$error":"#N/A"},{"$error":"#N/A"},{"$error":"#N/A"},{"$error":"#N/A"},{"$error":"#N/A"},{"$error":"#N/A"},{"$error":"#N/A"}]
[null,null,null,null,null,null,null,null,null,null,null,null,null,3150,{"$error":"#N/A"},{"$error":"#N/A"},{"$error":"#N/A"},{"$error":"#N/A"},{"$error":"#N/A"},{"$error":"#N/A"},{"$error":"#N/A"},{"$error":"#N/A"},{"$error":"#N/A"},{"$error":"#N/A"},{"$error":"#N/A"},{"$error":"#N/A"},{"$error":"#N/A"},false,null,{"$error":"#N/A"},{"$error":"#N/A"},{"$error":"#N/A"},{"$error":"#N/A"},{"$error":"#N/A"},{"$error":"#N/A"},{"$error":"#N/A"},{"$error":"#N/A"},{"$error":"#N/A"},{"$error":"#N/A"},{"$error":"#N/A"},{"$error":"#N/A"}]
[null,null,null,null,null,null,null,null,null,null,null,null,null,4000,{"$error":"#N/A"},{"$error":"#N/A"},{"$error":"#N/A"},{"$error":"#N/A"},{"$error":"#N/A"},{"$error":"#N/A"},{"$error":"#N/A"},{"$error":"#N/A"},{"$error":"#N/A"},{"$error":"#N/A"},{"$error":"#N/A"},{"$error":"#N/A"},{"$error":"#N/A"},false,null,{"$error":"#N/A"},{"$error":"#N/A"},{"$error":"#N/A"},{"$error":"#N/A"},{"$error":"#N/A"},{"$error":"#N/A"},{"$error":"#N/A"},{"$error":"#N/A"},{"$error":"#N/A"},{"$error":"#N/A"},{"$error":"#N/A"},{"$error":"#N/A"}]
[null,null,null,null,null,null,null,null,null,null,null,null,null,5000,{"$error":"#N/A"},{"$error":"#N/A"},{"$error":"#N/A"},{"$error":"#N/A"},{"$error":"#N/A"},{"$error":"#N/A"},{"$error":"#N/A"},{"$error":"#N/A"},{"$error":"#N/A"},{"$error":"#N/A"},{"$error":"#N/A"},{"$error":"#N/A"},{"$error":"#N/A"},false,null,{"$error":"#N/A"},{"$error":"#N/A"},{"$error":"#N/A"},{"$error":"#N/A"},{"$error":"#N/A"},{"$error":"#N/A"},{"$error":"#N/A"},{"$error":"#N/A"},{"$error":"#N/A"},{"$error":"#N/A"},{"$error":"#N/A"},{"$error":"#N/A"}]
[null,null,null,null,null,null,null,null,null,null,null,null,null,6300,{"$error":"#N/A"},{"$error":"#N/A"},{"$error":"#N/A"},{"$error":"#N/A"},{"$error":"#N/A"},{"$error":"#N/A"},{"$error":"#N/A"},{"$error":"#N/A"},{"$error":"#N/A"},{"$error":"#N/A"},{"$error":"#N/A"},{"$error":"#N/A"},{"$error":"#N/A"},false,null,{"$error":"#N/A"},{"$error":"#N/A"},{"$error":"#N/A"},{"$error":"#N/A"},{"$error":"#N/A"},{"$error":"#N/A"},{"$error":"#N/A"},{"$error":"#N/A"},{"$error":"#N/A"},{"$error":"#N/A"},{"$error":"#N/A"},{"$error":"#N/A"}]
[null,null,null,null,null,null,null,null,null,null,null,null,null,8000,{"$error":"#N/A"},{"$error":"#N/A"},{"$error":"#N/A"},{"$error":"#N/A"},{"$error":"#N/A"},{"$error":"#N/A"},{"$error":"#N/A"},{"$error":"#N/A"},{"$error":"#N/A"},{"$error":"#N/A"},{"$error":"#N/A"},{"$error":"#N/A"},{"$error":"#N/A"},false,null,{"$error":"#N/A"},{"$error":"#N/A"},{"$error":"#N/A"},{"$error":"#N/A"},{"$error":"#N/A"},{"$error":"#N/A"},{"$error":"#N/A"},{"$error":"#N/A"},{"$error":"#N/A"},{"$error":"#N/A"},{"$error":"#N/A"},{"$error":"#N/A"}]
[null,null,null,null,null,null,null,null,null,null,null,null,null,10000,{"$error":"#N/A"},{"$error":"#N/A"},{"$error":"#N/A"},{"$error":"#N/A"},{"$error":"#N/A"},{"$error":"#N/A"},{"$error":"#N/A"},{"$error":"#N/A"},{"$error":"#N/A"},{"$error":"#N/A"},{"$error":"#N/A"},{"$error":"#N/A"},{"$error":"#N/A"},false,null,{"$error":"#N/A"},{"$error":"#N/A"},{"$error":"#N/A"},{"$error":"#N/A"},{"$error":"#N/A"},{"$error":"#N/A"},{"$error":"#N/A"},{"$error":"#N/A"},{"$error":"#N/A"},{"$error":"#N/A"},{"$error":"#N/A"},{"$error":"#N/A"}]